BEGIN:VCALENDAR
VERSION:2.0
PRODID:http://www.kufer.de/kuferweb / DE
METHOD:PUBLISH
CALSCALE:GREGORIAN
X-WR-TIMEZONE:Europe/Berlin
BEGIN:VTIMEZONE
TZID:Europe/Berlin
X-LIC-LOCATION:Europe/Berlin
BEGIN:DAYLIGHT
TZOFFSETFROM:+0100
TZOFFSETTO:+0200
TZNAME:CEST
DTSTART;TZID=Europe/Berlin:19700329T020000
RRULE:FREQ=YEARLY;INTERVAL=1;BYDAY=-1SU;BYMONTH=3
END:DAYLIGHT
BEGIN:STANDARD
TZOFFSETFROM:+0200
TZOFFSETTO:+0100
TZNAME:CET
DTSTART;TZID=Europe/Berlin:19701025T030000
RRULE:FREQ=YEARLY;INTERVAL=1;BYDAY=-1SU;BYMONTH=10
END:STANDARD
END:VTIMEZONE
BEGIN:VEVENT
DTSTAMP:20260424T234444
DTSTART;TZID=Europe/Berlin:20260127T090000
DTEND;TZID=Europe/Berlin:20260127T100000
UID:252IL30218-20260127T090000@VHSUNTERLAND
SUMMARY:Rücken-Fit in Helfenberg (252IL30218) 
LOCATION:il Gemeindeaus Helfenberg, Schloßbergstr. 2, 74360 Ilsfeld
END:VEVENT
BEGIN:VEVENT
DTSTAMP:20260424T234444
DTSTART;TZID=Europe/Berlin:20260203T090000
DTEND;TZID=Europe/Berlin:20260203T100000
UID:252IL30218-20260203T090000@VHSUNTERLAND
SUMMARY:Rücken-Fit in Helfenberg (252IL30218) 
LOCATION:il Gemeindeaus Helfenberg, Schloßbergstr. 2, 74360 Ilsfeld
END:VEVENT
BEGIN:VEVENT
DTSTAMP:20260424T234444
DTSTART;TZID=Europe/Berlin:20260210T090000
DTEND;TZID=Europe/Berlin:20260210T100000
UID:252IL30218-20260210T090000@VHSUNTERLAND
SUMMARY:Rücken-Fit in Helfenberg (252IL30218) 
LOCATION:il Gemeindeaus Helfenberg, Schloßbergstr. 2, 74360 Ilsfeld
END:VEVENT
BEGIN:VEVENT
DTSTAMP:20260424T234444
DTSTART;TZID=Europe/Berlin:20260224T090000
DTEND;TZID=Europe/Berlin:20260224T100000
UID:252IL30218-20260224T090000@VHSUNTERLAND
SUMMARY:Rücken-Fit in Helfenberg (252IL30218) 
LOCATION:il Gemeindeaus Helfenberg, Schloßbergstr. 2, 74360 Ilsfeld
END:VEVENT
BEGIN:VEVENT
DTSTAMP:20260424T234444
DTSTART;TZID=Europe/Berlin:20260303T090000
DTEND;TZID=Europe/Berlin:20260303T100000
UID:252IL30218-20260303T090000@VHSUNTERLAND
SUMMARY:Rücken-Fit in Helfenberg (252IL30218) 
LOCATION:il Gemeindeaus Helfenberg, Schloßbergstr. 2, 74360 Ilsfeld
END:VEVENT
BEGIN:VEVENT
DTSTAMP:20260424T234444
DTSTART;TZID=Europe/Berlin:20260310T090000
DTEND;TZID=Europe/Berlin:20260310T100000
UID:252IL30218-20260310T090000@VHSUNTERLAND
SUMMARY:Rücken-Fit in Helfenberg (252IL30218) 
LOCATION:il Gemeindeaus Helfenberg, Schloßbergstr. 2, 74360 Ilsfeld
END:VEVENT
BEGIN:VEVENT
DTSTAMP:20260424T234444
DTSTART;TZID=Europe/Berlin:20260317T090000
DTEND;TZID=Europe/Berlin:20260317T100000
UID:252IL30218-20260317T090000@VHSUNTERLAND
SUMMARY:Rücken-Fit in Helfenberg (252IL30218) 
LOCATION:il Gemeindeaus Helfenberg, Schloßbergstr. 2, 74360 Ilsfeld
END:VEVENT
BEGIN:VEVENT
DTSTAMP:20260424T234444
DTSTART;TZID=Europe/Berlin:20260324T090000
DTEND;TZID=Europe/Berlin:20260324T100000
UID:252IL30218-20260324T090000@VHSUNTERLAND
SUMMARY:Rücken-Fit in Helfenberg (252IL30218) 
LOCATION:il Gemeindeaus Helfenberg, Schloßbergstr. 2, 74360 Ilsfeld
END:VEVENT
END:VCALENDAR