BEGIN:VCALENDAR
VERSION:2.0
PRODID:http://www.kufer.de/kuferweb / DE
METHOD:PUBLISH
CALSCALE:GREGORIAN
X-WR-TIMEZONE:Europe/Berlin
BEGIN:VTIMEZONE
TZID:Europe/Berlin
X-LIC-LOCATION:Europe/Berlin
BEGIN:DAYLIGHT
TZOFFSETFROM:+0100
TZOFFSETTO:+0200
TZNAME:CEST
DTSTART;TZID=Europe/Berlin:19700329T020000
RRULE:FREQ=YEARLY;INTERVAL=1;BYDAY=-1SU;BYMONTH=3
END:DAYLIGHT
BEGIN:STANDARD
TZOFFSETFROM:+0200
TZOFFSETTO:+0100
TZNAME:CET
DTSTART;TZID=Europe/Berlin:19701025T030000
RRULE:FREQ=YEARLY;INTERVAL=1;BYDAY=-1SU;BYMONTH=10
END:STANDARD
END:VTIMEZONE
BEGIN:VEVENT
DTSTAMP:20260420T185558
DTSTART;TZID=Europe/Berlin:20251007T093000
DTEND;TZID=Europe/Berlin:20251007T104500
UID:252IL30201-20251007T093000@VHSUNTERLAND
SUMMARY:Beweglichkeit, Koordination & Balance (252IL30201) 
LOCATION:il Polizeigebäude, Raum 1, Charlottenstraße 5, 74360 Ilsfeld
END:VEVENT
BEGIN:VEVENT
DTSTAMP:20260420T185558
DTSTART;TZID=Europe/Berlin:20251014T093000
DTEND;TZID=Europe/Berlin:20251014T104500
UID:252IL30201-20251014T093000@VHSUNTERLAND
SUMMARY:Beweglichkeit, Koordination & Balance (252IL30201) 
LOCATION:il Polizeigebäude, Raum 1, Charlottenstraße 5, 74360 Ilsfeld
END:VEVENT
BEGIN:VEVENT
DTSTAMP:20260420T185558
DTSTART;TZID=Europe/Berlin:20251021T093000
DTEND;TZID=Europe/Berlin:20251021T104500
UID:252IL30201-20251021T093000@VHSUNTERLAND
SUMMARY:Beweglichkeit, Koordination & Balance (252IL30201) 
LOCATION:il Polizeigebäude, Raum 1, Charlottenstraße 5, 74360 Ilsfeld
END:VEVENT
BEGIN:VEVENT
DTSTAMP:20260420T185558
DTSTART;TZID=Europe/Berlin:20251104T093000
DTEND;TZID=Europe/Berlin:20251104T104500
UID:252IL30201-20251104T093000@VHSUNTERLAND
SUMMARY:Beweglichkeit, Koordination & Balance (252IL30201) 
LOCATION:il Polizeigebäude, Raum 1, Charlottenstraße 5, 74360 Ilsfeld
END:VEVENT
BEGIN:VEVENT
DTSTAMP:20260420T185558
DTSTART;TZID=Europe/Berlin:20251111T093000
DTEND;TZID=Europe/Berlin:20251111T104500
UID:252IL30201-20251111T093000@VHSUNTERLAND
SUMMARY:Beweglichkeit, Koordination & Balance (252IL30201) 
LOCATION:il Polizeigebäude, Raum 1, Charlottenstraße 5, 74360 Ilsfeld
END:VEVENT
BEGIN:VEVENT
DTSTAMP:20260420T185558
DTSTART;TZID=Europe/Berlin:20251118T093000
DTEND;TZID=Europe/Berlin:20251118T104500
UID:252IL30201-20251118T093000@VHSUNTERLAND
SUMMARY:Beweglichkeit, Koordination & Balance (252IL30201) 
LOCATION:il Polizeigebäude, Raum 1, Charlottenstraße 5, 74360 Ilsfeld
END:VEVENT
BEGIN:VEVENT
DTSTAMP:20260420T185558
DTSTART;TZID=Europe/Berlin:20251125T093000
DTEND;TZID=Europe/Berlin:20251125T104500
UID:252IL30201-20251125T093000@VHSUNTERLAND
SUMMARY:Beweglichkeit, Koordination & Balance (252IL30201) 
LOCATION:il Polizeigebäude, Raum 1, Charlottenstraße 5, 74360 Ilsfeld
END:VEVENT
BEGIN:VEVENT
DTSTAMP:20260420T185558
DTSTART;TZID=Europe/Berlin:20251202T093000
DTEND;TZID=Europe/Berlin:20251202T104500
UID:252IL30201-20251202T093000@VHSUNTERLAND
SUMMARY:Beweglichkeit, Koordination & Balance (252IL30201) 
LOCATION:il Polizeigebäude, Raum 1, Charlottenstraße 5, 74360 Ilsfeld
END:VEVENT
BEGIN:VEVENT
DTSTAMP:20260420T185558
DTSTART;TZID=Europe/Berlin:20251209T093000
DTEND;TZID=Europe/Berlin:20251209T104500
UID:252IL30201-20251209T093000@VHSUNTERLAND
SUMMARY:Beweglichkeit, Koordination & Balance (252IL30201) 
LOCATION:il Polizeigebäude, Raum 1, Charlottenstraße 5, 74360 Ilsfeld
END:VEVENT
BEGIN:VEVENT
DTSTAMP:20260420T185558
DTSTART;TZID=Europe/Berlin:20251216T093000
DTEND;TZID=Europe/Berlin:20251216T104500
UID:252IL30201-20251216T093000@VHSUNTERLAND
SUMMARY:Beweglichkeit, Koordination & Balance (252IL30201) 
LOCATION:il Polizeigebäude, Raum 1, Charlottenstraße 5, 74360 Ilsfeld
END:VEVENT
END:VCALENDAR