BEGIN:VCALENDAR
VERSION:2.0
PRODID:http://www.kufer.de/kuferweb / DE
METHOD:PUBLISH
CALSCALE:GREGORIAN
X-WR-TIMEZONE:Europe/Berlin
BEGIN:VTIMEZONE
TZID:Europe/Berlin
X-LIC-LOCATION:Europe/Berlin
BEGIN:DAYLIGHT
TZOFFSETFROM:+0100
TZOFFSETTO:+0200
TZNAME:CEST
DTSTART;TZID=Europe/Berlin:19700329T020000
RRULE:FREQ=YEARLY;INTERVAL=1;BYDAY=-1SU;BYMONTH=3
END:DAYLIGHT
BEGIN:STANDARD
TZOFFSETFROM:+0200
TZOFFSETTO:+0100
TZNAME:CET
DTSTART;TZID=Europe/Berlin:19701025T030000
RRULE:FREQ=YEARLY;INTERVAL=1;BYDAY=-1SU;BYMONTH=10
END:STANDARD
END:VTIMEZONE
BEGIN:VEVENT
DTSTAMP:20260425T213036
DTSTART;TZID=Europe/Berlin:20251001T195000
DTEND;TZID=Europe/Berlin:20251001T210500
UID:252IL20516-20251001T195000@VHSUNTERLAND
SUMMARY:Line Dance & Co (252IL20516) 
LOCATION:il Gemeindehalle, Brückenstraße 25, 74360 Ilsfeld
END:VEVENT
BEGIN:VEVENT
DTSTAMP:20260425T213036
DTSTART;TZID=Europe/Berlin:20251015T195000
DTEND;TZID=Europe/Berlin:20251015T210500
UID:252IL20516-20251015T195000@VHSUNTERLAND
SUMMARY:Line Dance & Co (252IL20516) 
LOCATION:il Gemeindehalle, Brückenstraße 25, 74360 Ilsfeld
END:VEVENT
BEGIN:VEVENT
DTSTAMP:20260425T213036
DTSTART;TZID=Europe/Berlin:20251105T195000
DTEND;TZID=Europe/Berlin:20251105T210500
UID:252IL20516-20251105T195000@VHSUNTERLAND
SUMMARY:Line Dance & Co (252IL20516) 
LOCATION:il Gemeindehalle, Brückenstraße 25, 74360 Ilsfeld
END:VEVENT
BEGIN:VEVENT
DTSTAMP:20260425T213036
DTSTART;TZID=Europe/Berlin:20251126T195000
DTEND;TZID=Europe/Berlin:20251126T210500
UID:252IL20516-20251126T195000@VHSUNTERLAND
DESCRIPTION:Ersatz für Ausfall am 19.11.2025
SUMMARY:Line Dance & Co (252IL20516) 
LOCATION:il Gemeindehalle, Brückenstraße 25, 74360 Ilsfeld
END:VEVENT
BEGIN:VEVENT
DTSTAMP:20260425T213036
DTSTART;TZID=Europe/Berlin:20251203T195000
DTEND;TZID=Europe/Berlin:20251203T210500
UID:252IL20516-20251203T195000@VHSUNTERLAND
SUMMARY:Line Dance & Co (252IL20516) 
LOCATION:il Gemeindehalle, Brückenstraße 25, 74360 Ilsfeld
END:VEVENT
BEGIN:VEVENT
DTSTAMP:20260425T213036
DTSTART;TZID=Europe/Berlin:20251217T195000
DTEND;TZID=Europe/Berlin:20251217T210500
UID:252IL20516-20251217T195000@VHSUNTERLAND
SUMMARY:Line Dance & Co (252IL20516) 
LOCATION:il Gemeindehalle, Brückenstraße 25, 74360 Ilsfeld
END:VEVENT
BEGIN:VEVENT
DTSTAMP:20260425T213036
DTSTART;TZID=Europe/Berlin:20260114T195000
DTEND;TZID=Europe/Berlin:20260114T210500
UID:252IL20516-20260114T195000@VHSUNTERLAND
SUMMARY:Line Dance & Co (252IL20516) 
LOCATION:il Gemeindehalle, Brückenstraße 25, 74360 Ilsfeld
END:VEVENT
BEGIN:VEVENT
DTSTAMP:20260425T213036
DTSTART;TZID=Europe/Berlin:20260128T195000
DTEND;TZID=Europe/Berlin:20260128T210500
UID:252IL20516-20260128T195000@VHSUNTERLAND
SUMMARY:Line Dance & Co (252IL20516) 
LOCATION:il Gemeindehalle, Brückenstraße 25, 74360 Ilsfeld
END:VEVENT
END:VCALENDAR