BEGIN:VCALENDAR
VERSION:2.0
PRODID:http://www.kufer.de/kuferweb / DE
METHOD:PUBLISH
CALSCALE:GREGORIAN
X-WR-TIMEZONE:Europe/Berlin
BEGIN:VTIMEZONE
TZID:Europe/Berlin
X-LIC-LOCATION:Europe/Berlin
BEGIN:DAYLIGHT
TZOFFSETFROM:+0100
TZOFFSETTO:+0200
TZNAME:CEST
DTSTART;TZID=Europe/Berlin:19700329T020000
RRULE:FREQ=YEARLY;INTERVAL=1;BYDAY=-1SU;BYMONTH=3
END:DAYLIGHT
BEGIN:STANDARD
TZOFFSETFROM:+0200
TZOFFSETTO:+0100
TZNAME:CET
DTSTART;TZID=Europe/Berlin:19701025T030000
RRULE:FREQ=YEARLY;INTERVAL=1;BYDAY=-1SU;BYMONTH=10
END:STANDARD
END:VTIMEZONE
BEGIN:VEVENT
DTSTAMP:20260422T093059
DTSTART;TZID=Europe/Berlin:20260108T151500
DTEND;TZID=Europe/Berlin:20260108T160000
UID:252GU30192-20260108T151500@VHSUNTERLAND
SUMMARY:Kinderyoga für die Kleinsten Schnupperkurs für 4-6 jährige (252GU30192) 
LOCATION:gu Kinderhaus Regenbogenland, Deutschmeisterstraße 49, 74831 Gundelsheim
END:VEVENT
BEGIN:VEVENT
DTSTAMP:20260422T093059
DTSTART;TZID=Europe/Berlin:20260115T151500
DTEND;TZID=Europe/Berlin:20260115T160000
UID:252GU30192-20260115T151500@VHSUNTERLAND
SUMMARY:Kinderyoga für die Kleinsten Schnupperkurs für 4-6 jährige (252GU30192) 
LOCATION:gu Kinderhaus Regenbogenland, Deutschmeisterstraße 49, 74831 Gundelsheim
END:VEVENT
BEGIN:VEVENT
DTSTAMP:20260422T093059
DTSTART;TZID=Europe/Berlin:20260122T151500
DTEND;TZID=Europe/Berlin:20260122T160000
UID:252GU30192-20260122T151500@VHSUNTERLAND
SUMMARY:Kinderyoga für die Kleinsten Schnupperkurs für 4-6 jährige (252GU30192) 
LOCATION:gu Kinderhaus Regenbogenland, Deutschmeisterstraße 49, 74831 Gundelsheim
END:VEVENT
BEGIN:VEVENT
DTSTAMP:20260422T093059
DTSTART;TZID=Europe/Berlin:20260129T151500
DTEND;TZID=Europe/Berlin:20260129T160000
UID:252GU30192-20260129T151500@VHSUNTERLAND
SUMMARY:Kinderyoga für die Kleinsten Schnupperkurs für 4-6 jährige (252GU30192) 
LOCATION:gu Kinderhaus Regenbogenland, Deutschmeisterstraße 49, 74831 Gundelsheim
END:VEVENT
BEGIN:VEVENT
DTSTAMP:20260422T093059
DTSTART;TZID=Europe/Berlin:20260205T151500
DTEND;TZID=Europe/Berlin:20260205T160000
UID:252GU30192-20260205T151500@VHSUNTERLAND
SUMMARY:Kinderyoga für die Kleinsten Schnupperkurs für 4-6 jährige (252GU30192) 
LOCATION:gu Kinderhaus Regenbogenland, Deutschmeisterstraße 49, 74831 Gundelsheim
END:VEVENT
BEGIN:VEVENT
DTSTAMP:20260422T093059
DTSTART;TZID=Europe/Berlin:20260212T151500
DTEND;TZID=Europe/Berlin:20260212T160000
UID:252GU30192-20260212T151500@VHSUNTERLAND
SUMMARY:Kinderyoga für die Kleinsten Schnupperkurs für 4-6 jährige (252GU30192) 
LOCATION:gu Kinderhaus Regenbogenland, Deutschmeisterstraße 49, 74831 Gundelsheim
END:VEVENT
END:VCALENDAR