BEGIN:VCALENDAR
VERSION:2.0
PRODID:http://www.kufer.de/kuferweb / DE
METHOD:PUBLISH
CALSCALE:GREGORIAN
X-WR-TIMEZONE:Europe/Berlin
BEGIN:VTIMEZONE
TZID:Europe/Berlin
X-LIC-LOCATION:Europe/Berlin
BEGIN:DAYLIGHT
TZOFFSETFROM:+0100
TZOFFSETTO:+0200
TZNAME:CEST
DTSTART;TZID=Europe/Berlin:19700329T020000
RRULE:FREQ=YEARLY;INTERVAL=1;BYDAY=-1SU;BYMONTH=3
END:DAYLIGHT
BEGIN:STANDARD
TZOFFSETFROM:+0200
TZOFFSETTO:+0100
TZNAME:CET
DTSTART;TZID=Europe/Berlin:19701025T030000
RRULE:FREQ=YEARLY;INTERVAL=1;BYDAY=-1SU;BYMONTH=10
END:STANDARD
END:VTIMEZONE
BEGIN:VEVENT
DTSTAMP:20260421T174608
DTSTART;TZID=Europe/Berlin:20250923T091500
DTEND;TZID=Europe/Berlin:20250923T101500
UID:252GG30220-20250923T091500@VHSUNTERLAND
SUMMARY:Wirbelsäulengymnastik für Frauen und Männer (252GG30220) 
LOCATION:gg Riedfurthalle, Jakobsäckerstraße 3, 74363 Güglingen
END:VEVENT
BEGIN:VEVENT
DTSTAMP:20260421T174608
DTSTART;TZID=Europe/Berlin:20250930T091500
DTEND;TZID=Europe/Berlin:20250930T101500
UID:252GG30220-20250930T091500@VHSUNTERLAND
SUMMARY:Wirbelsäulengymnastik für Frauen und Männer (252GG30220) 
LOCATION:gg Riedfurthalle, Jakobsäckerstraße 3, 74363 Güglingen
END:VEVENT
BEGIN:VEVENT
DTSTAMP:20260421T174608
DTSTART;TZID=Europe/Berlin:20251007T091500
DTEND;TZID=Europe/Berlin:20251007T101500
UID:252GG30220-20251007T091500@VHSUNTERLAND
SUMMARY:Wirbelsäulengymnastik für Frauen und Männer (252GG30220) 
LOCATION:gg Riedfurthalle, Jakobsäckerstraße 3, 74363 Güglingen
END:VEVENT
BEGIN:VEVENT
DTSTAMP:20260421T174608
DTSTART;TZID=Europe/Berlin:20251014T091500
DTEND;TZID=Europe/Berlin:20251014T101500
UID:252GG30220-20251014T091500@VHSUNTERLAND
SUMMARY:Wirbelsäulengymnastik für Frauen und Männer (252GG30220) 
LOCATION:gg Riedfurthalle, Jakobsäckerstraße 3, 74363 Güglingen
END:VEVENT
BEGIN:VEVENT
DTSTAMP:20260421T174608
DTSTART;TZID=Europe/Berlin:20251021T091500
DTEND;TZID=Europe/Berlin:20251021T101500
UID:252GG30220-20251021T091500@VHSUNTERLAND
SUMMARY:Wirbelsäulengymnastik für Frauen und Männer (252GG30220) 
LOCATION:gg Riedfurthalle, Jakobsäckerstraße 3, 74363 Güglingen
END:VEVENT
BEGIN:VEVENT
DTSTAMP:20260421T174608
DTSTART;TZID=Europe/Berlin:20251104T091500
DTEND;TZID=Europe/Berlin:20251104T101500
UID:252GG30220-20251104T091500@VHSUNTERLAND
SUMMARY:Wirbelsäulengymnastik für Frauen und Männer (252GG30220) 
LOCATION:gg Riedfurthalle, Jakobsäckerstraße 3, 74363 Güglingen
END:VEVENT
BEGIN:VEVENT
DTSTAMP:20260421T174608
DTSTART;TZID=Europe/Berlin:20251111T091500
DTEND;TZID=Europe/Berlin:20251111T101500
UID:252GG30220-20251111T091500@VHSUNTERLAND
SUMMARY:Wirbelsäulengymnastik für Frauen und Männer (252GG30220) 
LOCATION:gg Riedfurthalle, Jakobsäckerstraße 3, 74363 Güglingen
END:VEVENT
BEGIN:VEVENT
DTSTAMP:20260421T174608
DTSTART;TZID=Europe/Berlin:20251118T091500
DTEND;TZID=Europe/Berlin:20251118T101500
UID:252GG30220-20251118T091500@VHSUNTERLAND
SUMMARY:Wirbelsäulengymnastik für Frauen und Männer (252GG30220) 
LOCATION:gg Riedfurthalle, Jakobsäckerstraße 3, 74363 Güglingen
END:VEVENT
BEGIN:VEVENT
DTSTAMP:20260421T174608
DTSTART;TZID=Europe/Berlin:20251125T091500
DTEND;TZID=Europe/Berlin:20251125T101500
UID:252GG30220-20251125T091500@VHSUNTERLAND
SUMMARY:Wirbelsäulengymnastik für Frauen und Männer (252GG30220) 
LOCATION:gg Riedfurthalle, Jakobsäckerstraße 3, 74363 Güglingen
END:VEVENT
BEGIN:VEVENT
DTSTAMP:20260421T174608
DTSTART;TZID=Europe/Berlin:20251202T091500
DTEND;TZID=Europe/Berlin:20251202T101500
UID:252GG30220-20251202T091500@VHSUNTERLAND
SUMMARY:Wirbelsäulengymnastik für Frauen und Männer (252GG30220) 
LOCATION:gg Riedfurthalle, Jakobsäckerstraße 3, 74363 Güglingen
END:VEVENT
BEGIN:VEVENT
DTSTAMP:20260421T174608
DTSTART;TZID=Europe/Berlin:20251209T091500
DTEND;TZID=Europe/Berlin:20251209T101500
UID:252GG30220-20251209T091500@VHSUNTERLAND
SUMMARY:Wirbelsäulengymnastik für Frauen und Männer (252GG30220) 
LOCATION:gg Riedfurthalle, Jakobsäckerstraße 3, 74363 Güglingen
END:VEVENT
BEGIN:VEVENT
DTSTAMP:20260421T174608
DTSTART;TZID=Europe/Berlin:20260113T091500
DTEND;TZID=Europe/Berlin:20260113T101500
UID:252GG30220-20260113T091500@VHSUNTERLAND
SUMMARY:Wirbelsäulengymnastik für Frauen und Männer (252GG30220) 
LOCATION:gg Riedfurthalle, Jakobsäckerstraße 3, 74363 Güglingen
END:VEVENT
BEGIN:VEVENT
DTSTAMP:20260421T174608
DTSTART;TZID=Europe/Berlin:20260120T091500
DTEND;TZID=Europe/Berlin:20260120T101500
UID:252GG30220-20260120T091500@VHSUNTERLAND
SUMMARY:Wirbelsäulengymnastik für Frauen und Männer (252GG30220) 
LOCATION:gg Riedfurthalle, Jakobsäckerstraße 3, 74363 Güglingen
END:VEVENT
BEGIN:VEVENT
DTSTAMP:20260421T174608
DTSTART;TZID=Europe/Berlin:20260127T091500
DTEND;TZID=Europe/Berlin:20260127T101500
UID:252GG30220-20260127T091500@VHSUNTERLAND
SUMMARY:Wirbelsäulengymnastik für Frauen und Männer (252GG30220) 
LOCATION:gg Riedfurthalle, Jakobsäckerstraße 3, 74363 Güglingen
END:VEVENT
BEGIN:VEVENT
DTSTAMP:20260421T174608
DTSTART;TZID=Europe/Berlin:20260203T091500
DTEND;TZID=Europe/Berlin:20260203T101500
UID:252GG30220-20260203T091500@VHSUNTERLAND
SUMMARY:Wirbelsäulengymnastik für Frauen und Männer (252GG30220) 
LOCATION:gg Riedfurthalle, Jakobsäckerstraße 3, 74363 Güglingen
END:VEVENT
BEGIN:VEVENT
DTSTAMP:20260421T174608
DTSTART;TZID=Europe/Berlin:20260210T091500
DTEND;TZID=Europe/Berlin:20260210T101500
UID:252GG30220-20260210T091500@VHSUNTERLAND
SUMMARY:Wirbelsäulengymnastik für Frauen und Männer (252GG30220) 
LOCATION:gg Riedfurthalle, Jakobsäckerstraße 3, 74363 Güglingen
END:VEVENT
END:VCALENDAR