BEGIN:VCALENDAR
VERSION:2.0
PRODID:http://www.kufer.de/kuferweb / DE
METHOD:PUBLISH
CALSCALE:GREGORIAN
X-WR-TIMEZONE:Europe/Berlin
BEGIN:VTIMEZONE
TZID:Europe/Berlin
X-LIC-LOCATION:Europe/Berlin
BEGIN:DAYLIGHT
TZOFFSETFROM:+0100
TZOFFSETTO:+0200
TZNAME:CEST
DTSTART;TZID=Europe/Berlin:19700329T020000
RRULE:FREQ=YEARLY;INTERVAL=1;BYDAY=-1SU;BYMONTH=3
END:DAYLIGHT
BEGIN:STANDARD
TZOFFSETFROM:+0200
TZOFFSETTO:+0100
TZNAME:CET
DTSTART;TZID=Europe/Berlin:19701025T030000
RRULE:FREQ=YEARLY;INTERVAL=1;BYDAY=-1SU;BYMONTH=10
END:STANDARD
END:VTIMEZONE
BEGIN:VEVENT
DTSTAMP:20260422T153928
DTSTART;TZID=Europe/Berlin:20250930T190000
DTEND;TZID=Europe/Berlin:20250930T200000
UID:252EL30145-20250930T190000@VHSUNTERLAND
SUMMARY:Vinyasa Yoga (252EL30145) 
LOCATION:el Bürgerhaus, Bürgersaal, Kirchstraße 5, 74248 Ellhofen
END:VEVENT
BEGIN:VEVENT
DTSTAMP:20260422T153928
DTSTART;TZID=Europe/Berlin:20251007T190000
DTEND;TZID=Europe/Berlin:20251007T200000
UID:252EL30145-20251007T190000@VHSUNTERLAND
SUMMARY:Vinyasa Yoga (252EL30145) 
LOCATION:el Bürgerhaus, Bürgersaal, Kirchstraße 5, 74248 Ellhofen
END:VEVENT
BEGIN:VEVENT
DTSTAMP:20260422T153928
DTSTART;TZID=Europe/Berlin:20251014T190000
DTEND;TZID=Europe/Berlin:20251014T200000
UID:252EL30145-20251014T190000@VHSUNTERLAND
SUMMARY:Vinyasa Yoga (252EL30145) 
LOCATION:el Bürgerhaus, Bürgersaal, Kirchstraße 5, 74248 Ellhofen
END:VEVENT
BEGIN:VEVENT
DTSTAMP:20260422T153928
DTSTART;TZID=Europe/Berlin:20251021T190000
DTEND;TZID=Europe/Berlin:20251021T200000
UID:252EL30145-20251021T190000@VHSUNTERLAND
SUMMARY:Vinyasa Yoga (252EL30145) 
LOCATION:el Bürgerhaus, Bürgersaal, Kirchstraße 5, 74248 Ellhofen
END:VEVENT
BEGIN:VEVENT
DTSTAMP:20260422T153928
DTSTART;TZID=Europe/Berlin:20251104T190000
DTEND;TZID=Europe/Berlin:20251104T200000
UID:252EL30145-20251104T190000@VHSUNTERLAND
SUMMARY:Vinyasa Yoga (252EL30145) 
LOCATION:el Bürgerhaus, Bürgersaal, Kirchstraße 5, 74248 Ellhofen
END:VEVENT
BEGIN:VEVENT
DTSTAMP:20260422T153928
DTSTART;TZID=Europe/Berlin:20251111T190000
DTEND;TZID=Europe/Berlin:20251111T200000
UID:252EL30145-20251111T190000@VHSUNTERLAND
SUMMARY:Vinyasa Yoga (252EL30145) 
LOCATION:el Bürgerhaus, Bürgersaal, Kirchstraße 5, 74248 Ellhofen
END:VEVENT
BEGIN:VEVENT
DTSTAMP:20260422T153928
DTSTART;TZID=Europe/Berlin:20251118T190000
DTEND;TZID=Europe/Berlin:20251118T200000
UID:252EL30145-20251118T190000@VHSUNTERLAND
SUMMARY:Vinyasa Yoga (252EL30145) 
LOCATION:el Bürgerhaus, Bürgersaal, Kirchstraße 5, 74248 Ellhofen
END:VEVENT
BEGIN:VEVENT
DTSTAMP:20260422T153928
DTSTART;TZID=Europe/Berlin:20251125T190000
DTEND;TZID=Europe/Berlin:20251125T200000
UID:252EL30145-20251125T190000@VHSUNTERLAND
SUMMARY:Vinyasa Yoga (252EL30145) 
LOCATION:el Bürgerhaus, Bürgersaal, Kirchstraße 5, 74248 Ellhofen
END:VEVENT
BEGIN:VEVENT
DTSTAMP:20260422T153928
DTSTART;TZID=Europe/Berlin:20251202T190000
DTEND;TZID=Europe/Berlin:20251202T200000
UID:252EL30145-20251202T190000@VHSUNTERLAND
SUMMARY:Vinyasa Yoga (252EL30145) 
LOCATION:el Bürgerhaus, Bürgersaal, Kirchstraße 5, 74248 Ellhofen
END:VEVENT
BEGIN:VEVENT
DTSTAMP:20260422T153928
DTSTART;TZID=Europe/Berlin:20251209T190000
DTEND;TZID=Europe/Berlin:20251209T200000
UID:252EL30145-20251209T190000@VHSUNTERLAND
SUMMARY:Vinyasa Yoga (252EL30145) 
LOCATION:el Bürgerhaus, Bürgersaal, Kirchstraße 5, 74248 Ellhofen
END:VEVENT
BEGIN:VEVENT
DTSTAMP:20260422T153928
DTSTART;TZID=Europe/Berlin:20251216T190000
DTEND;TZID=Europe/Berlin:20251216T200000
UID:252EL30145-20251216T190000@VHSUNTERLAND
SUMMARY:Vinyasa Yoga (252EL30145) 
LOCATION:el Bürgerhaus, Bürgersaal, Kirchstraße 5, 74248 Ellhofen
END:VEVENT
BEGIN:VEVENT
DTSTAMP:20260422T153928
DTSTART;TZID=Europe/Berlin:20260113T190000
DTEND;TZID=Europe/Berlin:20260113T200000
UID:252EL30145-20260113T190000@VHSUNTERLAND
SUMMARY:Vinyasa Yoga (252EL30145) 
LOCATION:el Bürgerhaus, Bürgersaal, Kirchstraße 5, 74248 Ellhofen
END:VEVENT
BEGIN:VEVENT
DTSTAMP:20260422T153928
DTSTART;TZID=Europe/Berlin:20260120T190000
DTEND;TZID=Europe/Berlin:20260120T200000
UID:252EL30145-20260120T190000@VHSUNTERLAND
SUMMARY:Vinyasa Yoga (252EL30145) 
LOCATION:el Bürgerhaus, Bürgersaal, Kirchstraße 5, 74248 Ellhofen
END:VEVENT
BEGIN:VEVENT
DTSTAMP:20260422T153928
DTSTART;TZID=Europe/Berlin:20260127T190000
DTEND;TZID=Europe/Berlin:20260127T200000
UID:252EL30145-20260127T190000@VHSUNTERLAND
SUMMARY:Vinyasa Yoga (252EL30145) 
LOCATION:el Bürgerhaus, Bürgersaal, Kirchstraße 5, 74248 Ellhofen
END:VEVENT
BEGIN:VEVENT
DTSTAMP:20260422T153928
DTSTART;TZID=Europe/Berlin:20260203T190000
DTEND;TZID=Europe/Berlin:20260203T200000
UID:252EL30145-20260203T190000@VHSUNTERLAND
SUMMARY:Vinyasa Yoga (252EL30145) 
LOCATION:el Bürgerhaus, Bürgersaal, Kirchstraße 5, 74248 Ellhofen
END:VEVENT
END:VCALENDAR