BEGIN:VCALENDAR
VERSION:2.0
PRODID:http://www.kufer.de/kuferweb / DE
METHOD:PUBLISH
CALSCALE:GREGORIAN
X-WR-TIMEZONE:Europe/Berlin
BEGIN:VTIMEZONE
TZID:Europe/Berlin
X-LIC-LOCATION:Europe/Berlin
BEGIN:DAYLIGHT
TZOFFSETFROM:+0100
TZOFFSETTO:+0200
TZNAME:CEST
DTSTART;TZID=Europe/Berlin:19700329T020000
RRULE:FREQ=YEARLY;INTERVAL=1;BYDAY=-1SU;BYMONTH=3
END:DAYLIGHT
BEGIN:STANDARD
TZOFFSETFROM:+0200
TZOFFSETTO:+0100
TZNAME:CET
DTSTART;TZID=Europe/Berlin:19701025T030000
RRULE:FREQ=YEARLY;INTERVAL=1;BYDAY=-1SU;BYMONTH=10
END:STANDARD
END:VTIMEZONE
BEGIN:VEVENT
DTSTAMP:20260425T061156
DTSTART;TZID=Europe/Berlin:20251011T100000
DTEND;TZID=Europe/Berlin:20251011T110000
UID:252EB40690-20251011T100000@VHSUNTERLAND
SUMMARY:Englisch für Kids  für Kindergartenkinder ab 4 Jahren und Grundschulkinder der 1. Klasse (252EB40690) 
LOCATION:eb Mehrzweckhaus, EG links, Turmstraße 2, 74246 Eberstadt
END:VEVENT
BEGIN:VEVENT
DTSTAMP:20260425T061156
DTSTART;TZID=Europe/Berlin:20251018T100000
DTEND;TZID=Europe/Berlin:20251018T110000
UID:252EB40690-20251018T100000@VHSUNTERLAND
SUMMARY:Englisch für Kids  für Kindergartenkinder ab 4 Jahren und Grundschulkinder der 1. Klasse (252EB40690) 
LOCATION:eb Mehrzweckhaus, EG links, Turmstraße 2, 74246 Eberstadt
END:VEVENT
BEGIN:VEVENT
DTSTAMP:20260425T061156
DTSTART;TZID=Europe/Berlin:20251108T100000
DTEND;TZID=Europe/Berlin:20251108T110000
UID:252EB40690-20251108T100000@VHSUNTERLAND
SUMMARY:Englisch für Kids  für Kindergartenkinder ab 4 Jahren und Grundschulkinder der 1. Klasse (252EB40690) 
LOCATION:eb Mehrzweckhaus, EG links, Turmstraße 2, 74246 Eberstadt
END:VEVENT
BEGIN:VEVENT
DTSTAMP:20260425T061156
DTSTART;TZID=Europe/Berlin:20251115T100000
DTEND;TZID=Europe/Berlin:20251115T110000
UID:252EB40690-20251115T100000@VHSUNTERLAND
SUMMARY:Englisch für Kids  für Kindergartenkinder ab 4 Jahren und Grundschulkinder der 1. Klasse (252EB40690) 
LOCATION:eb Mehrzweckhaus, EG links, Turmstraße 2, 74246 Eberstadt
END:VEVENT
BEGIN:VEVENT
DTSTAMP:20260425T061156
DTSTART;TZID=Europe/Berlin:20251129T100000
DTEND;TZID=Europe/Berlin:20251129T110000
UID:252EB40690-20251129T100000@VHSUNTERLAND
SUMMARY:Englisch für Kids  für Kindergartenkinder ab 4 Jahren und Grundschulkinder der 1. Klasse (252EB40690) 
LOCATION:eb Mehrzweckhaus, EG links, Turmstraße 2, 74246 Eberstadt
END:VEVENT
BEGIN:VEVENT
DTSTAMP:20260425T061156
DTSTART;TZID=Europe/Berlin:20251206T100000
DTEND;TZID=Europe/Berlin:20251206T110000
UID:252EB40690-20251206T100000@VHSUNTERLAND
SUMMARY:Englisch für Kids  für Kindergartenkinder ab 4 Jahren und Grundschulkinder der 1. Klasse (252EB40690) 
LOCATION:eb Mehrzweckhaus, EG links, Turmstraße 2, 74246 Eberstadt
END:VEVENT
BEGIN:VEVENT
DTSTAMP:20260425T061156
DTSTART;TZID=Europe/Berlin:20251213T100000
DTEND;TZID=Europe/Berlin:20251213T110000
UID:252EB40690-20251213T100000@VHSUNTERLAND
SUMMARY:Englisch für Kids  für Kindergartenkinder ab 4 Jahren und Grundschulkinder der 1. Klasse (252EB40690) 
LOCATION:eb Mehrzweckhaus, EG links, Turmstraße 2, 74246 Eberstadt
END:VEVENT
BEGIN:VEVENT
DTSTAMP:20260425T061156
DTSTART;TZID=Europe/Berlin:20260110T100000
DTEND;TZID=Europe/Berlin:20260110T110000
UID:252EB40690-20260110T100000@VHSUNTERLAND
SUMMARY:Englisch für Kids  für Kindergartenkinder ab 4 Jahren und Grundschulkinder der 1. Klasse (252EB40690) 
LOCATION:eb Mehrzweckhaus, EG links, Turmstraße 2, 74246 Eberstadt
END:VEVENT
BEGIN:VEVENT
DTSTAMP:20260425T061156
DTSTART;TZID=Europe/Berlin:20260117T100000
DTEND;TZID=Europe/Berlin:20260117T110000
UID:252EB40690-20260117T100000@VHSUNTERLAND
SUMMARY:Englisch für Kids  für Kindergartenkinder ab 4 Jahren und Grundschulkinder der 1. Klasse (252EB40690) 
LOCATION:eb Mehrzweckhaus, EG links, Turmstraße 2, 74246 Eberstadt
END:VEVENT
BEGIN:VEVENT
DTSTAMP:20260425T061156
DTSTART;TZID=Europe/Berlin:20260124T100000
DTEND;TZID=Europe/Berlin:20260124T110000
UID:252EB40690-20260124T100000@VHSUNTERLAND
DESCRIPTION:Ersatz für Ausfall am 22.11.2025
SUMMARY:Englisch für Kids  für Kindergartenkinder ab 4 Jahren und Grundschulkinder der 1. Klasse (252EB40690) 
LOCATION:eb Mehrzweckhaus, EG links, Turmstraße 2, 74246 Eberstadt
END:VEVENT
END:VCALENDAR