BEGIN:VCALENDAR
VERSION:2.0
PRODID:http://www.kufer.de/kuferweb / DE
METHOD:PUBLISH
CALSCALE:GREGORIAN
X-WR-TIMEZONE:Europe/Berlin
BEGIN:VTIMEZONE
TZID:Europe/Berlin
X-LIC-LOCATION:Europe/Berlin
BEGIN:DAYLIGHT
TZOFFSETFROM:+0100
TZOFFSETTO:+0200
TZNAME:CEST
DTSTART;TZID=Europe/Berlin:19700329T020000
RRULE:FREQ=YEARLY;INTERVAL=1;BYDAY=-1SU;BYMONTH=3
END:DAYLIGHT
BEGIN:STANDARD
TZOFFSETFROM:+0200
TZOFFSETTO:+0100
TZNAME:CET
DTSTART;TZID=Europe/Berlin:19701025T030000
RRULE:FREQ=YEARLY;INTERVAL=1;BYDAY=-1SU;BYMONTH=10
END:STANDARD
END:VTIMEZONE
BEGIN:VEVENT
DTSTAMP:20260420T142118
DTSTART;TZID=Europe/Berlin:20250917T170500
DTEND;TZID=Europe/Berlin:20250917T180500
UID:252EB30221-20250917T170500@VHSUNTERLAND
SUMMARY:Wirbelsäulengymnastik (252EB30221) 
LOCATION:eb Mehrzweckhaus, Saal, Turmstraße 2, 74246 Eberstadt
END:VEVENT
BEGIN:VEVENT
DTSTAMP:20260420T142118
DTSTART;TZID=Europe/Berlin:20250924T170500
DTEND;TZID=Europe/Berlin:20250924T180500
UID:252EB30221-20250924T170500@VHSUNTERLAND
SUMMARY:Wirbelsäulengymnastik (252EB30221) 
LOCATION:eb Mehrzweckhaus, Saal, Turmstraße 2, 74246 Eberstadt
END:VEVENT
BEGIN:VEVENT
DTSTAMP:20260420T142118
DTSTART;TZID=Europe/Berlin:20251001T170500
DTEND;TZID=Europe/Berlin:20251001T180500
UID:252EB30221-20251001T170500@VHSUNTERLAND
SUMMARY:Wirbelsäulengymnastik (252EB30221) 
LOCATION:eb Mehrzweckhaus, Saal, Turmstraße 2, 74246 Eberstadt
END:VEVENT
BEGIN:VEVENT
DTSTAMP:20260420T142118
DTSTART;TZID=Europe/Berlin:20251008T170500
DTEND;TZID=Europe/Berlin:20251008T180500
UID:252EB30221-20251008T170500@VHSUNTERLAND
SUMMARY:Wirbelsäulengymnastik (252EB30221) 
LOCATION:eb Mehrzweckhaus, Saal, Turmstraße 2, 74246 Eberstadt
END:VEVENT
BEGIN:VEVENT
DTSTAMP:20260420T142118
DTSTART;TZID=Europe/Berlin:20251015T170500
DTEND;TZID=Europe/Berlin:20251015T180500
UID:252EB30221-20251015T170500@VHSUNTERLAND
SUMMARY:Wirbelsäulengymnastik (252EB30221) 
LOCATION:eb Mehrzweckhaus, Saal, Turmstraße 2, 74246 Eberstadt
END:VEVENT
BEGIN:VEVENT
DTSTAMP:20260420T142118
DTSTART;TZID=Europe/Berlin:20251022T170500
DTEND;TZID=Europe/Berlin:20251022T180500
UID:252EB30221-20251022T170500@VHSUNTERLAND
SUMMARY:Wirbelsäulengymnastik (252EB30221) 
LOCATION:eb Mehrzweckhaus, Saal, Turmstraße 2, 74246 Eberstadt
END:VEVENT
BEGIN:VEVENT
DTSTAMP:20260420T142118
DTSTART;TZID=Europe/Berlin:20251105T170500
DTEND;TZID=Europe/Berlin:20251105T180500
UID:252EB30221-20251105T170500@VHSUNTERLAND
SUMMARY:Wirbelsäulengymnastik (252EB30221) 
LOCATION:eb Mehrzweckhaus, Saal, Turmstraße 2, 74246 Eberstadt
END:VEVENT
BEGIN:VEVENT
DTSTAMP:20260420T142118
DTSTART;TZID=Europe/Berlin:20251112T170500
DTEND;TZID=Europe/Berlin:20251112T180500
UID:252EB30221-20251112T170500@VHSUNTERLAND
SUMMARY:Wirbelsäulengymnastik (252EB30221) 
LOCATION:eb Mehrzweckhaus, Saal, Turmstraße 2, 74246 Eberstadt
END:VEVENT
BEGIN:VEVENT
DTSTAMP:20260420T142118
DTSTART;TZID=Europe/Berlin:20251119T170500
DTEND;TZID=Europe/Berlin:20251119T180500
UID:252EB30221-20251119T170500@VHSUNTERLAND
SUMMARY:Wirbelsäulengymnastik (252EB30221) 
LOCATION:eb Mehrzweckhaus, Saal, Turmstraße 2, 74246 Eberstadt
END:VEVENT
BEGIN:VEVENT
DTSTAMP:20260420T142118
DTSTART;TZID=Europe/Berlin:20251126T170500
DTEND;TZID=Europe/Berlin:20251126T180500
UID:252EB30221-20251126T170500@VHSUNTERLAND
SUMMARY:Wirbelsäulengymnastik (252EB30221) 
LOCATION:eb Mehrzweckhaus, Saal, Turmstraße 2, 74246 Eberstadt
END:VEVENT
BEGIN:VEVENT
DTSTAMP:20260420T142118
DTSTART;TZID=Europe/Berlin:20251203T170500
DTEND;TZID=Europe/Berlin:20251203T180500
UID:252EB30221-20251203T170500@VHSUNTERLAND
SUMMARY:Wirbelsäulengymnastik (252EB30221) 
LOCATION:eb Mehrzweckhaus, Saal, Turmstraße 2, 74246 Eberstadt
END:VEVENT
BEGIN:VEVENT
DTSTAMP:20260420T142118
DTSTART;TZID=Europe/Berlin:20251210T170500
DTEND;TZID=Europe/Berlin:20251210T180500
UID:252EB30221-20251210T170500@VHSUNTERLAND
SUMMARY:Wirbelsäulengymnastik (252EB30221) 
LOCATION:eb Mehrzweckhaus, Saal, Turmstraße 2, 74246 Eberstadt
END:VEVENT
BEGIN:VEVENT
DTSTAMP:20260420T142118
DTSTART;TZID=Europe/Berlin:20260107T170500
DTEND;TZID=Europe/Berlin:20260107T180500
UID:252EB30221-20260107T170500@VHSUNTERLAND
SUMMARY:Wirbelsäulengymnastik (252EB30221) 
LOCATION:eb Mehrzweckhaus, Saal, Turmstraße 2, 74246 Eberstadt
END:VEVENT
BEGIN:VEVENT
DTSTAMP:20260420T142118
DTSTART;TZID=Europe/Berlin:20260114T170500
DTEND;TZID=Europe/Berlin:20260114T180500
UID:252EB30221-20260114T170500@VHSUNTERLAND
SUMMARY:Wirbelsäulengymnastik (252EB30221) 
LOCATION:eb Mehrzweckhaus, Saal, Turmstraße 2, 74246 Eberstadt
END:VEVENT
BEGIN:VEVENT
DTSTAMP:20260420T142118
DTSTART;TZID=Europe/Berlin:20260128T170500
DTEND;TZID=Europe/Berlin:20260128T180500
UID:252EB30221-20260128T170500@VHSUNTERLAND
DESCRIPTION:Ersatz für Ausfall am 17.12.2025
Ersatz für Ausfall am 21.01.2026
SUMMARY:Wirbelsäulengymnastik (252EB30221) 
LOCATION:eb Mehrzweckhaus, Saal, Turmstraße 2, 74246 Eberstadt
END:VEVENT
END:VCALENDAR