BEGIN:VCALENDAR
VERSION:2.0
PRODID:http://www.kufer.de/kuferweb / DE
METHOD:PUBLISH
CALSCALE:GREGORIAN
X-WR-TIMEZONE:Europe/Berlin
BEGIN:VTIMEZONE
TZID:Europe/Berlin
X-LIC-LOCATION:Europe/Berlin
BEGIN:DAYLIGHT
TZOFFSETFROM:+0100
TZOFFSETTO:+0200
TZNAME:CEST
DTSTART;TZID=Europe/Berlin:19700329T020000
RRULE:FREQ=YEARLY;INTERVAL=1;BYDAY=-1SU;BYMONTH=3
END:DAYLIGHT
BEGIN:STANDARD
TZOFFSETFROM:+0200
TZOFFSETTO:+0100
TZNAME:CET
DTSTART;TZID=Europe/Berlin:19701025T030000
RRULE:FREQ=YEARLY;INTERVAL=1;BYDAY=-1SU;BYMONTH=10
END:STANDARD
END:VTIMEZONE
BEGIN:VEVENT
DTSTAMP:20260419T175325
DTSTART;TZID=Europe/Berlin:20250929T193500
DTEND;TZID=Europe/Berlin:20250929T203500
UID:252CB30260-20250929T193500@VHSUNTERLAND
SUMMARY:Fitness Mix (252CB30260) 
LOCATION:cb Bürgerhaus, EG, Schulstraße 1, 74389 Cleebronn
END:VEVENT
BEGIN:VEVENT
DTSTAMP:20260419T175325
DTSTART;TZID=Europe/Berlin:20251006T193500
DTEND;TZID=Europe/Berlin:20251006T203500
UID:252CB30260-20251006T193500@VHSUNTERLAND
SUMMARY:Fitness Mix (252CB30260) 
LOCATION:cb Bürgerhaus, EG, Schulstraße 1, 74389 Cleebronn
END:VEVENT
BEGIN:VEVENT
DTSTAMP:20260419T175325
DTSTART;TZID=Europe/Berlin:20251013T193500
DTEND;TZID=Europe/Berlin:20251013T203500
UID:252CB30260-20251013T193500@VHSUNTERLAND
SUMMARY:Fitness Mix (252CB30260) 
LOCATION:cb Bürgerhaus, EG, Schulstraße 1, 74389 Cleebronn
END:VEVENT
BEGIN:VEVENT
DTSTAMP:20260419T175325
DTSTART;TZID=Europe/Berlin:20251020T193500
DTEND;TZID=Europe/Berlin:20251020T203500
UID:252CB30260-20251020T193500@VHSUNTERLAND
SUMMARY:Fitness Mix (252CB30260) 
LOCATION:cb Bürgerhaus, EG, Schulstraße 1, 74389 Cleebronn
END:VEVENT
BEGIN:VEVENT
DTSTAMP:20260419T175325
DTSTART;TZID=Europe/Berlin:20251103T193500
DTEND;TZID=Europe/Berlin:20251103T203500
UID:252CB30260-20251103T193500@VHSUNTERLAND
SUMMARY:Fitness Mix (252CB30260) 
LOCATION:cb Bürgerhaus, EG, Schulstraße 1, 74389 Cleebronn
END:VEVENT
BEGIN:VEVENT
DTSTAMP:20260419T175325
DTSTART;TZID=Europe/Berlin:20251110T193500
DTEND;TZID=Europe/Berlin:20251110T203500
UID:252CB30260-20251110T193500@VHSUNTERLAND
SUMMARY:Fitness Mix (252CB30260) 
LOCATION:cb Bürgerhaus, EG, Schulstraße 1, 74389 Cleebronn
END:VEVENT
BEGIN:VEVENT
DTSTAMP:20260419T175325
DTSTART;TZID=Europe/Berlin:20251117T193500
DTEND;TZID=Europe/Berlin:20251117T203500
UID:252CB30260-20251117T193500@VHSUNTERLAND
SUMMARY:Fitness Mix (252CB30260) 
LOCATION:cb Bürgerhaus, EG, Schulstraße 1, 74389 Cleebronn
END:VEVENT
BEGIN:VEVENT
DTSTAMP:20260419T175325
DTSTART;TZID=Europe/Berlin:20251124T193500
DTEND;TZID=Europe/Berlin:20251124T203500
UID:252CB30260-20251124T193500@VHSUNTERLAND
SUMMARY:Fitness Mix (252CB30260) 
LOCATION:cb Bürgerhaus, EG, Schulstraße 1, 74389 Cleebronn
END:VEVENT
BEGIN:VEVENT
DTSTAMP:20260419T175325
DTSTART;TZID=Europe/Berlin:20251201T193500
DTEND;TZID=Europe/Berlin:20251201T203500
UID:252CB30260-20251201T193500@VHSUNTERLAND
SUMMARY:Fitness Mix (252CB30260) 
LOCATION:cb Bürgerhaus, EG, Schulstraße 1, 74389 Cleebronn
END:VEVENT
BEGIN:VEVENT
DTSTAMP:20260419T175325
DTSTART;TZID=Europe/Berlin:20251208T193500
DTEND;TZID=Europe/Berlin:20251208T203500
UID:252CB30260-20251208T193500@VHSUNTERLAND
SUMMARY:Fitness Mix (252CB30260) 
LOCATION:cb Bürgerhaus, EG, Schulstraße 1, 74389 Cleebronn
END:VEVENT
BEGIN:VEVENT
DTSTAMP:20260419T175325
DTSTART;TZID=Europe/Berlin:20251215T193500
DTEND;TZID=Europe/Berlin:20251215T203500
UID:252CB30260-20251215T193500@VHSUNTERLAND
SUMMARY:Fitness Mix (252CB30260) 
LOCATION:cb Bürgerhaus, EG, Schulstraße 1, 74389 Cleebronn
END:VEVENT
BEGIN:VEVENT
DTSTAMP:20260419T175325
DTSTART;TZID=Europe/Berlin:20260112T193500
DTEND;TZID=Europe/Berlin:20260112T203500
UID:252CB30260-20260112T193500@VHSUNTERLAND
SUMMARY:Fitness Mix (252CB30260) 
LOCATION:cb Bürgerhaus, EG, Schulstraße 1, 74389 Cleebronn
END:VEVENT
BEGIN:VEVENT
DTSTAMP:20260419T175325
DTSTART;TZID=Europe/Berlin:20260119T193500
DTEND;TZID=Europe/Berlin:20260119T203500
UID:252CB30260-20260119T193500@VHSUNTERLAND
SUMMARY:Fitness Mix (252CB30260) 
LOCATION:cb Bürgerhaus, EG, Schulstraße 1, 74389 Cleebronn
END:VEVENT
BEGIN:VEVENT
DTSTAMP:20260419T175325
DTSTART;TZID=Europe/Berlin:20260126T193500
DTEND;TZID=Europe/Berlin:20260126T203500
UID:252CB30260-20260126T193500@VHSUNTERLAND
SUMMARY:Fitness Mix (252CB30260) 
LOCATION:cb Bürgerhaus, EG, Schulstraße 1, 74389 Cleebronn
END:VEVENT
BEGIN:VEVENT
DTSTAMP:20260419T175325
DTSTART;TZID=Europe/Berlin:20260202T193500
DTEND;TZID=Europe/Berlin:20260202T203500
UID:252CB30260-20260202T193500@VHSUNTERLAND
SUMMARY:Fitness Mix (252CB30260) 
LOCATION:cb Bürgerhaus, EG, Schulstraße 1, 74389 Cleebronn
END:VEVENT
END:VCALENDAR