BEGIN:VCALENDAR
VERSION:2.0
PRODID:http://www.kufer.de/kuferweb / DE
METHOD:PUBLISH
CALSCALE:GREGORIAN
X-WR-TIMEZONE:Europe/Berlin
BEGIN:VTIMEZONE
TZID:Europe/Berlin
X-LIC-LOCATION:Europe/Berlin
BEGIN:DAYLIGHT
TZOFFSETFROM:+0100
TZOFFSETTO:+0200
TZNAME:CEST
DTSTART;TZID=Europe/Berlin:19700329T020000
RRULE:FREQ=YEARLY;INTERVAL=1;BYDAY=-1SU;BYMONTH=3
END:DAYLIGHT
BEGIN:STANDARD
TZOFFSETFROM:+0200
TZOFFSETTO:+0100
TZNAME:CET
DTSTART;TZID=Europe/Berlin:19701025T030000
RRULE:FREQ=YEARLY;INTERVAL=1;BYDAY=-1SU;BYMONTH=10
END:STANDARD
END:VTIMEZONE
BEGIN:VEVENT
DTSTAMP:20260419T162930
DTSTART;TZID=Europe/Berlin:20251010T101500
DTEND;TZID=Europe/Berlin:20251010T111500
UID:252CB30250-20251010T101500@VHSUNTERLAND
SUMMARY:Mamaworkout mit oder ohne Baby (252CB30250) 
LOCATION:cb Bürgerhaus, EG, Schulstraße 1, 74389 Cleebronn
END:VEVENT
BEGIN:VEVENT
DTSTAMP:20260419T162930
DTSTART;TZID=Europe/Berlin:20251017T101500
DTEND;TZID=Europe/Berlin:20251017T111500
UID:252CB30250-20251017T101500@VHSUNTERLAND
SUMMARY:Mamaworkout mit oder ohne Baby (252CB30250) 
LOCATION:cb Bürgerhaus, EG, Schulstraße 1, 74389 Cleebronn
END:VEVENT
BEGIN:VEVENT
DTSTAMP:20260419T162930
DTSTART;TZID=Europe/Berlin:20251107T101500
DTEND;TZID=Europe/Berlin:20251107T111500
UID:252CB30250-20251107T101500@VHSUNTERLAND
SUMMARY:Mamaworkout mit oder ohne Baby (252CB30250) 
LOCATION:cb Bürgerhaus, EG, Schulstraße 1, 74389 Cleebronn
END:VEVENT
BEGIN:VEVENT
DTSTAMP:20260419T162930
DTSTART;TZID=Europe/Berlin:20251114T101500
DTEND;TZID=Europe/Berlin:20251114T111500
UID:252CB30250-20251114T101500@VHSUNTERLAND
SUMMARY:Mamaworkout mit oder ohne Baby (252CB30250) 
LOCATION:cb Bürgerhaus, EG, Schulstraße 1, 74389 Cleebronn
END:VEVENT
BEGIN:VEVENT
DTSTAMP:20260419T162930
DTSTART;TZID=Europe/Berlin:20251121T101500
DTEND;TZID=Europe/Berlin:20251121T111500
UID:252CB30250-20251121T101500@VHSUNTERLAND
SUMMARY:Mamaworkout mit oder ohne Baby (252CB30250) 
LOCATION:cb Bürgerhaus, EG, Schulstraße 1, 74389 Cleebronn
END:VEVENT
BEGIN:VEVENT
DTSTAMP:20260419T162930
DTSTART;TZID=Europe/Berlin:20251128T101500
DTEND;TZID=Europe/Berlin:20251128T111500
UID:252CB30250-20251128T101500@VHSUNTERLAND
SUMMARY:Mamaworkout mit oder ohne Baby (252CB30250) 
LOCATION:cb Bürgerhaus, EG, Schulstraße 1, 74389 Cleebronn
END:VEVENT
BEGIN:VEVENT
DTSTAMP:20260419T162930
DTSTART;TZID=Europe/Berlin:20251205T101500
DTEND;TZID=Europe/Berlin:20251205T111500
UID:252CB30250-20251205T101500@VHSUNTERLAND
SUMMARY:Mamaworkout mit oder ohne Baby (252CB30250) 
LOCATION:cb Bürgerhaus, EG, Schulstraße 1, 74389 Cleebronn
END:VEVENT
BEGIN:VEVENT
DTSTAMP:20260419T162930
DTSTART;TZID=Europe/Berlin:20251212T101500
DTEND;TZID=Europe/Berlin:20251212T111500
UID:252CB30250-20251212T101500@VHSUNTERLAND
SUMMARY:Mamaworkout mit oder ohne Baby (252CB30250) 
LOCATION:cb Bürgerhaus, EG, Schulstraße 1, 74389 Cleebronn
END:VEVENT
BEGIN:VEVENT
DTSTAMP:20260419T162930
DTSTART;TZID=Europe/Berlin:20251219T101500
DTEND;TZID=Europe/Berlin:20251219T111500
UID:252CB30250-20251219T101500@VHSUNTERLAND
SUMMARY:Mamaworkout mit oder ohne Baby (252CB30250) 
LOCATION:cb Bürgerhaus, EG, Schulstraße 1, 74389 Cleebronn
END:VEVENT
BEGIN:VEVENT
DTSTAMP:20260419T162930
DTSTART;TZID=Europe/Berlin:20260109T101500
DTEND;TZID=Europe/Berlin:20260109T111500
UID:252CB30250-20260109T101500@VHSUNTERLAND
SUMMARY:Mamaworkout mit oder ohne Baby (252CB30250) 
LOCATION:cb Bürgerhaus, EG, Schulstraße 1, 74389 Cleebronn
END:VEVENT
BEGIN:VEVENT
DTSTAMP:20260419T162930
DTSTART;TZID=Europe/Berlin:20260116T101500
DTEND;TZID=Europe/Berlin:20260116T111500
UID:252CB30250-20260116T101500@VHSUNTERLAND
SUMMARY:Mamaworkout mit oder ohne Baby (252CB30250) 
LOCATION:cb Bürgerhaus, EG, Schulstraße 1, 74389 Cleebronn
END:VEVENT
BEGIN:VEVENT
DTSTAMP:20260419T162930
DTSTART;TZID=Europe/Berlin:20260123T101500
DTEND;TZID=Europe/Berlin:20260123T111500
UID:252CB30250-20260123T101500@VHSUNTERLAND
SUMMARY:Mamaworkout mit oder ohne Baby (252CB30250) 
LOCATION:cb Bürgerhaus, EG, Schulstraße 1, 74389 Cleebronn
END:VEVENT
END:VCALENDAR