BEGIN:VCALENDAR
VERSION:2.0
PRODID:http://www.kufer.de/kuferweb / DE
METHOD:PUBLISH
CALSCALE:GREGORIAN
X-WR-TIMEZONE:Europe/Berlin
BEGIN:VTIMEZONE
TZID:Europe/Berlin
X-LIC-LOCATION:Europe/Berlin
BEGIN:DAYLIGHT
TZOFFSETFROM:+0100
TZOFFSETTO:+0200
TZNAME:CEST
DTSTART;TZID=Europe/Berlin:19700329T020000
RRULE:FREQ=YEARLY;INTERVAL=1;BYDAY=-1SU;BYMONTH=3
END:DAYLIGHT
BEGIN:STANDARD
TZOFFSETFROM:+0200
TZOFFSETTO:+0100
TZNAME:CET
DTSTART;TZID=Europe/Berlin:19701025T030000
RRULE:FREQ=YEARLY;INTERVAL=1;BYDAY=-1SU;BYMONTH=10
END:STANDARD
END:VTIMEZONE
BEGIN:VEVENT
DTSTAMP:20260421T162304
DTSTART;TZID=Europe/Berlin:20250929T150000
DTEND;TZID=Europe/Berlin:20250929T160000
UID:252CB30202-20250929T150000@VHSUNTERLAND
SUMMARY:Gesundheitsgymnastik mit und am Stuhl (252CB30202) 
LOCATION:cb Bürgerhaus, EG, Schulstraße 1, 74389 Cleebronn
END:VEVENT
BEGIN:VEVENT
DTSTAMP:20260421T162304
DTSTART;TZID=Europe/Berlin:20251006T150000
DTEND;TZID=Europe/Berlin:20251006T160000
UID:252CB30202-20251006T150000@VHSUNTERLAND
SUMMARY:Gesundheitsgymnastik mit und am Stuhl (252CB30202) 
LOCATION:cb Bürgerhaus, EG, Schulstraße 1, 74389 Cleebronn
END:VEVENT
BEGIN:VEVENT
DTSTAMP:20260421T162304
DTSTART;TZID=Europe/Berlin:20251013T150000
DTEND;TZID=Europe/Berlin:20251013T160000
UID:252CB30202-20251013T150000@VHSUNTERLAND
SUMMARY:Gesundheitsgymnastik mit und am Stuhl (252CB30202) 
LOCATION:cb Bürgerhaus, EG, Schulstraße 1, 74389 Cleebronn
END:VEVENT
BEGIN:VEVENT
DTSTAMP:20260421T162304
DTSTART;TZID=Europe/Berlin:20251020T150000
DTEND;TZID=Europe/Berlin:20251020T160000
UID:252CB30202-20251020T150000@VHSUNTERLAND
SUMMARY:Gesundheitsgymnastik mit und am Stuhl (252CB30202) 
LOCATION:cb Bürgerhaus, EG, Schulstraße 1, 74389 Cleebronn
END:VEVENT
BEGIN:VEVENT
DTSTAMP:20260421T162304
DTSTART;TZID=Europe/Berlin:20251103T150000
DTEND;TZID=Europe/Berlin:20251103T160000
UID:252CB30202-20251103T150000@VHSUNTERLAND
SUMMARY:Gesundheitsgymnastik mit und am Stuhl (252CB30202) 
LOCATION:cb Bürgerhaus, EG, Schulstraße 1, 74389 Cleebronn
END:VEVENT
BEGIN:VEVENT
DTSTAMP:20260421T162304
DTSTART;TZID=Europe/Berlin:20251110T150000
DTEND;TZID=Europe/Berlin:20251110T160000
UID:252CB30202-20251110T150000@VHSUNTERLAND
SUMMARY:Gesundheitsgymnastik mit und am Stuhl (252CB30202) 
LOCATION:cb Bürgerhaus, EG, Schulstraße 1, 74389 Cleebronn
END:VEVENT
BEGIN:VEVENT
DTSTAMP:20260421T162304
DTSTART;TZID=Europe/Berlin:20251117T150000
DTEND;TZID=Europe/Berlin:20251117T160000
UID:252CB30202-20251117T150000@VHSUNTERLAND
SUMMARY:Gesundheitsgymnastik mit und am Stuhl (252CB30202) 
LOCATION:cb Bürgerhaus, EG, Schulstraße 1, 74389 Cleebronn
END:VEVENT
BEGIN:VEVENT
DTSTAMP:20260421T162304
DTSTART;TZID=Europe/Berlin:20251124T150000
DTEND;TZID=Europe/Berlin:20251124T160000
UID:252CB30202-20251124T150000@VHSUNTERLAND
SUMMARY:Gesundheitsgymnastik mit und am Stuhl (252CB30202) 
LOCATION:cb Bürgerhaus, EG, Schulstraße 1, 74389 Cleebronn
END:VEVENT
BEGIN:VEVENT
DTSTAMP:20260421T162304
DTSTART;TZID=Europe/Berlin:20251201T150000
DTEND;TZID=Europe/Berlin:20251201T160000
UID:252CB30202-20251201T150000@VHSUNTERLAND
SUMMARY:Gesundheitsgymnastik mit und am Stuhl (252CB30202) 
LOCATION:cb Bürgerhaus, EG, Schulstraße 1, 74389 Cleebronn
END:VEVENT
BEGIN:VEVENT
DTSTAMP:20260421T162304
DTSTART;TZID=Europe/Berlin:20251208T150000
DTEND;TZID=Europe/Berlin:20251208T160000
UID:252CB30202-20251208T150000@VHSUNTERLAND
SUMMARY:Gesundheitsgymnastik mit und am Stuhl (252CB30202) 
LOCATION:cb Bürgerhaus, EG, Schulstraße 1, 74389 Cleebronn
END:VEVENT
BEGIN:VEVENT
DTSTAMP:20260421T162304
DTSTART;TZID=Europe/Berlin:20251215T150000
DTEND;TZID=Europe/Berlin:20251215T160000
UID:252CB30202-20251215T150000@VHSUNTERLAND
SUMMARY:Gesundheitsgymnastik mit und am Stuhl (252CB30202) 
LOCATION:cb Bürgerhaus, EG, Schulstraße 1, 74389 Cleebronn
END:VEVENT
BEGIN:VEVENT
DTSTAMP:20260421T162304
DTSTART;TZID=Europe/Berlin:20260112T150000
DTEND;TZID=Europe/Berlin:20260112T160000
UID:252CB30202-20260112T150000@VHSUNTERLAND
SUMMARY:Gesundheitsgymnastik mit und am Stuhl (252CB30202) 
LOCATION:cb Bürgerhaus, EG, Schulstraße 1, 74389 Cleebronn
END:VEVENT
BEGIN:VEVENT
DTSTAMP:20260421T162304
DTSTART;TZID=Europe/Berlin:20260119T150000
DTEND;TZID=Europe/Berlin:20260119T160000
UID:252CB30202-20260119T150000@VHSUNTERLAND
SUMMARY:Gesundheitsgymnastik mit und am Stuhl (252CB30202) 
LOCATION:cb Bürgerhaus, EG, Schulstraße 1, 74389 Cleebronn
END:VEVENT
BEGIN:VEVENT
DTSTAMP:20260421T162304
DTSTART;TZID=Europe/Berlin:20260126T150000
DTEND;TZID=Europe/Berlin:20260126T160000
UID:252CB30202-20260126T150000@VHSUNTERLAND
SUMMARY:Gesundheitsgymnastik mit und am Stuhl (252CB30202) 
LOCATION:cb Bürgerhaus, EG, Schulstraße 1, 74389 Cleebronn
END:VEVENT
BEGIN:VEVENT
DTSTAMP:20260421T162304
DTSTART;TZID=Europe/Berlin:20260202T150000
DTEND;TZID=Europe/Berlin:20260202T160000
UID:252CB30202-20260202T150000@VHSUNTERLAND
SUMMARY:Gesundheitsgymnastik mit und am Stuhl (252CB30202) 
LOCATION:cb Bürgerhaus, EG, Schulstraße 1, 74389 Cleebronn
END:VEVENT
END:VCALENDAR