BEGIN:VCALENDAR
VERSION:2.0
PRODID:http://www.kufer.de/kuferweb / DE
METHOD:PUBLISH
CALSCALE:GREGORIAN
X-WR-TIMEZONE:Europe/Berlin
BEGIN:VTIMEZONE
TZID:Europe/Berlin
X-LIC-LOCATION:Europe/Berlin
BEGIN:DAYLIGHT
TZOFFSETFROM:+0100
TZOFFSETTO:+0200
TZNAME:CEST
DTSTART;TZID=Europe/Berlin:19700329T020000
RRULE:FREQ=YEARLY;INTERVAL=1;BYDAY=-1SU;BYMONTH=3
END:DAYLIGHT
BEGIN:STANDARD
TZOFFSETFROM:+0200
TZOFFSETTO:+0100
TZNAME:CET
DTSTART;TZID=Europe/Berlin:19701025T030000
RRULE:FREQ=YEARLY;INTERVAL=1;BYDAY=-1SU;BYMONTH=10
END:STANDARD
END:VTIMEZONE
BEGIN:VEVENT
DTSTAMP:20260423T144438
DTSTART;TZID=Europe/Berlin:20251006T093000
DTEND;TZID=Europe/Berlin:20251006T110000
UID:252BW40670-20251006T093000@VHSUNTERLAND
SUMMARY:English Conversation B1 Keep up your English (252BW40670) 
LOCATION:bw Konventhaus, Medien Raum, Langgasse 2, 74206 Bad Wimpfen
END:VEVENT
BEGIN:VEVENT
DTSTAMP:20260423T144438
DTSTART;TZID=Europe/Berlin:20251013T093000
DTEND;TZID=Europe/Berlin:20251013T110000
UID:252BW40670-20251013T093000@VHSUNTERLAND
SUMMARY:English Conversation B1 Keep up your English (252BW40670) 
LOCATION:bw Konventhaus, Medien Raum, Langgasse 2, 74206 Bad Wimpfen
END:VEVENT
BEGIN:VEVENT
DTSTAMP:20260423T144438
DTSTART;TZID=Europe/Berlin:20251020T093000
DTEND;TZID=Europe/Berlin:20251020T110000
UID:252BW40670-20251020T093000@VHSUNTERLAND
SUMMARY:English Conversation B1 Keep up your English (252BW40670) 
LOCATION:bw Konventhaus, Medien Raum, Langgasse 2, 74206 Bad Wimpfen
END:VEVENT
BEGIN:VEVENT
DTSTAMP:20260423T144438
DTSTART;TZID=Europe/Berlin:20251103T093000
DTEND;TZID=Europe/Berlin:20251103T110000
UID:252BW40670-20251103T093000@VHSUNTERLAND
SUMMARY:English Conversation B1 Keep up your English (252BW40670) 
LOCATION:bw Konventhaus, Medien Raum, Langgasse 2, 74206 Bad Wimpfen
END:VEVENT
BEGIN:VEVENT
DTSTAMP:20260423T144438
DTSTART;TZID=Europe/Berlin:20251110T093000
DTEND;TZID=Europe/Berlin:20251110T110000
UID:252BW40670-20251110T093000@VHSUNTERLAND
SUMMARY:English Conversation B1 Keep up your English (252BW40670) 
LOCATION:bw Konventhaus, Medien Raum, Langgasse 2, 74206 Bad Wimpfen
END:VEVENT
BEGIN:VEVENT
DTSTAMP:20260423T144438
DTSTART;TZID=Europe/Berlin:20251117T093000
DTEND;TZID=Europe/Berlin:20251117T110000
UID:252BW40670-20251117T093000@VHSUNTERLAND
SUMMARY:English Conversation B1 Keep up your English (252BW40670) 
LOCATION:bw Konventhaus, Medien Raum, Langgasse 2, 74206 Bad Wimpfen
END:VEVENT
BEGIN:VEVENT
DTSTAMP:20260423T144438
DTSTART;TZID=Europe/Berlin:20251124T093000
DTEND;TZID=Europe/Berlin:20251124T110000
UID:252BW40670-20251124T093000@VHSUNTERLAND
SUMMARY:English Conversation B1 Keep up your English (252BW40670) 
LOCATION:bw Konventhaus, Medien Raum, Langgasse 2, 74206 Bad Wimpfen
END:VEVENT
BEGIN:VEVENT
DTSTAMP:20260423T144438
DTSTART;TZID=Europe/Berlin:20251201T093000
DTEND;TZID=Europe/Berlin:20251201T110000
UID:252BW40670-20251201T093000@VHSUNTERLAND
SUMMARY:English Conversation B1 Keep up your English (252BW40670) 
LOCATION:bw Konventhaus, Medien Raum, Langgasse 2, 74206 Bad Wimpfen
END:VEVENT
BEGIN:VEVENT
DTSTAMP:20260423T144438
DTSTART;TZID=Europe/Berlin:20251208T093000
DTEND;TZID=Europe/Berlin:20251208T110000
UID:252BW40670-20251208T093000@VHSUNTERLAND
SUMMARY:English Conversation B1 Keep up your English (252BW40670) 
LOCATION:bw Konventhaus, Medien Raum, Langgasse 2, 74206 Bad Wimpfen
END:VEVENT
BEGIN:VEVENT
DTSTAMP:20260423T144438
DTSTART;TZID=Europe/Berlin:20251215T093000
DTEND;TZID=Europe/Berlin:20251215T110000
UID:252BW40670-20251215T093000@VHSUNTERLAND
SUMMARY:English Conversation B1 Keep up your English (252BW40670) 
LOCATION:bw Konventhaus, Medien Raum, Langgasse 2, 74206 Bad Wimpfen
END:VEVENT
BEGIN:VEVENT
DTSTAMP:20260423T144438
DTSTART;TZID=Europe/Berlin:20260112T093000
DTEND;TZID=Europe/Berlin:20260112T110000
UID:252BW40670-20260112T093000@VHSUNTERLAND
SUMMARY:English Conversation B1 Keep up your English (252BW40670) 
LOCATION:bw Konventhaus, Medien Raum, Langgasse 2, 74206 Bad Wimpfen
END:VEVENT
BEGIN:VEVENT
DTSTAMP:20260423T144438
DTSTART;TZID=Europe/Berlin:20260119T093000
DTEND;TZID=Europe/Berlin:20260119T110000
UID:252BW40670-20260119T093000@VHSUNTERLAND
SUMMARY:English Conversation B1 Keep up your English (252BW40670) 
LOCATION:bw Konventhaus, Medien Raum, Langgasse 2, 74206 Bad Wimpfen
END:VEVENT
BEGIN:VEVENT
DTSTAMP:20260423T144438
DTSTART;TZID=Europe/Berlin:20260126T093000
DTEND;TZID=Europe/Berlin:20260126T110000
UID:252BW40670-20260126T093000@VHSUNTERLAND
SUMMARY:English Conversation B1 Keep up your English (252BW40670) 
LOCATION:bw Konventhaus, Medien Raum, Langgasse 2, 74206 Bad Wimpfen
END:VEVENT
BEGIN:VEVENT
DTSTAMP:20260423T144438
DTSTART;TZID=Europe/Berlin:20260202T093000
DTEND;TZID=Europe/Berlin:20260202T110000
UID:252BW40670-20260202T093000@VHSUNTERLAND
SUMMARY:English Conversation B1 Keep up your English (252BW40670) 
LOCATION:bw Konventhaus, Medien Raum, Langgasse 2, 74206 Bad Wimpfen
END:VEVENT
BEGIN:VEVENT
DTSTAMP:20260423T144438
DTSTART;TZID=Europe/Berlin:20260209T093000
DTEND;TZID=Europe/Berlin:20260209T110000
UID:252BW40670-20260209T093000@VHSUNTERLAND
SUMMARY:English Conversation B1 Keep up your English (252BW40670) 
LOCATION:bw Konventhaus, Medien Raum, Langgasse 2, 74206 Bad Wimpfen
END:VEVENT
END:VCALENDAR