BEGIN:VCALENDAR
VERSION:2.0
PRODID:http://www.kufer.de/kuferweb / DE
METHOD:PUBLISH
CALSCALE:GREGORIAN
X-WR-TIMEZONE:Europe/Berlin
BEGIN:VTIMEZONE
TZID:Europe/Berlin
X-LIC-LOCATION:Europe/Berlin
BEGIN:DAYLIGHT
TZOFFSETFROM:+0100
TZOFFSETTO:+0200
TZNAME:CEST
DTSTART;TZID=Europe/Berlin:19700329T020000
RRULE:FREQ=YEARLY;INTERVAL=1;BYDAY=-1SU;BYMONTH=3
END:DAYLIGHT
BEGIN:STANDARD
TZOFFSETFROM:+0200
TZOFFSETTO:+0100
TZNAME:CET
DTSTART;TZID=Europe/Berlin:19701025T030000
RRULE:FREQ=YEARLY;INTERVAL=1;BYDAY=-1SU;BYMONTH=10
END:STANDARD
END:VTIMEZONE
BEGIN:VEVENT
DTSTAMP:20260422T202815
DTSTART;TZID=Europe/Berlin:20260116T094000
DTEND;TZID=Europe/Berlin:20260116T104000
UID:252BW30258-20260116T094000@VHSUNTERLAND
SUMMARY:Rundum bewegt und fit im Rücken (252BW30258) 
LOCATION:bw Zehntscheune, 1. Stock, Mathildenbadstraße 4, 74206 Bad Wimpfen
END:VEVENT
BEGIN:VEVENT
DTSTAMP:20260422T202815
DTSTART;TZID=Europe/Berlin:20260123T094000
DTEND;TZID=Europe/Berlin:20260123T104000
UID:252BW30258-20260123T094000@VHSUNTERLAND
SUMMARY:Rundum bewegt und fit im Rücken (252BW30258) 
LOCATION:bw Zehntscheune, 1. Stock, Mathildenbadstraße 4, 74206 Bad Wimpfen
END:VEVENT
BEGIN:VEVENT
DTSTAMP:20260422T202815
DTSTART;TZID=Europe/Berlin:20260130T094000
DTEND;TZID=Europe/Berlin:20260130T104000
UID:252BW30258-20260130T094000@VHSUNTERLAND
SUMMARY:Rundum bewegt und fit im Rücken (252BW30258) 
LOCATION:bw Zehntscheune, 1. Stock, Mathildenbadstraße 4, 74206 Bad Wimpfen
END:VEVENT
BEGIN:VEVENT
DTSTAMP:20260422T202815
DTSTART;TZID=Europe/Berlin:20260213T094000
DTEND;TZID=Europe/Berlin:20260213T104000
UID:252BW30258-20260213T094000@VHSUNTERLAND
DESCRIPTION:Ersatz für Ausfall am 06.02.2026
SUMMARY:Rundum bewegt und fit im Rücken (252BW30258) 
LOCATION:bw Zehntscheune, 1. Stock, Mathildenbadstraße 4, 74206 Bad Wimpfen
END:VEVENT
END:VCALENDAR