BEGIN:VCALENDAR
VERSION:2.0
PRODID:http://www.kufer.de/kuferweb / DE
METHOD:PUBLISH
CALSCALE:GREGORIAN
X-WR-TIMEZONE:Europe/Berlin
BEGIN:VTIMEZONE
TZID:Europe/Berlin
X-LIC-LOCATION:Europe/Berlin
BEGIN:DAYLIGHT
TZOFFSETFROM:+0100
TZOFFSETTO:+0200
TZNAME:CEST
DTSTART;TZID=Europe/Berlin:19700329T020000
RRULE:FREQ=YEARLY;INTERVAL=1;BYDAY=-1SU;BYMONTH=3
END:DAYLIGHT
BEGIN:STANDARD
TZOFFSETFROM:+0200
TZOFFSETTO:+0100
TZNAME:CET
DTSTART;TZID=Europe/Berlin:19701025T030000
RRULE:FREQ=YEARLY;INTERVAL=1;BYDAY=-1SU;BYMONTH=10
END:STANDARD
END:VTIMEZONE
BEGIN:VEVENT
DTSTAMP:20260421T091218
DTSTART;TZID=Europe/Berlin:20251010T110000
DTEND;TZID=Europe/Berlin:20251010T114500
UID:252BW30247-20251010T110000@VHSUNTERLAND
SUMMARY:Aqua-Fitness im Solebad (252BW30247) 
LOCATION:bw Solebad, Osterbergstraße 16, 74206 Bad Wimpfen
END:VEVENT
BEGIN:VEVENT
DTSTAMP:20260421T091218
DTSTART;TZID=Europe/Berlin:20251017T110000
DTEND;TZID=Europe/Berlin:20251017T114500
UID:252BW30247-20251017T110000@VHSUNTERLAND
SUMMARY:Aqua-Fitness im Solebad (252BW30247) 
LOCATION:bw Solebad, Osterbergstraße 16, 74206 Bad Wimpfen
END:VEVENT
BEGIN:VEVENT
DTSTAMP:20260421T091218
DTSTART;TZID=Europe/Berlin:20251024T110000
DTEND;TZID=Europe/Berlin:20251024T114500
UID:252BW30247-20251024T110000@VHSUNTERLAND
SUMMARY:Aqua-Fitness im Solebad (252BW30247) 
LOCATION:bw Solebad, Osterbergstraße 16, 74206 Bad Wimpfen
END:VEVENT
BEGIN:VEVENT
DTSTAMP:20260421T091218
DTSTART;TZID=Europe/Berlin:20251107T110000
DTEND;TZID=Europe/Berlin:20251107T114500
UID:252BW30247-20251107T110000@VHSUNTERLAND
SUMMARY:Aqua-Fitness im Solebad (252BW30247) 
LOCATION:bw Solebad, Osterbergstraße 16, 74206 Bad Wimpfen
END:VEVENT
BEGIN:VEVENT
DTSTAMP:20260421T091218
DTSTART;TZID=Europe/Berlin:20251114T110000
DTEND;TZID=Europe/Berlin:20251114T114500
UID:252BW30247-20251114T110000@VHSUNTERLAND
SUMMARY:Aqua-Fitness im Solebad (252BW30247) 
LOCATION:bw Solebad, Osterbergstraße 16, 74206 Bad Wimpfen
END:VEVENT
BEGIN:VEVENT
DTSTAMP:20260421T091218
DTSTART;TZID=Europe/Berlin:20251121T110000
DTEND;TZID=Europe/Berlin:20251121T114500
UID:252BW30247-20251121T110000@VHSUNTERLAND
SUMMARY:Aqua-Fitness im Solebad (252BW30247) 
LOCATION:bw Solebad, Osterbergstraße 16, 74206 Bad Wimpfen
END:VEVENT
BEGIN:VEVENT
DTSTAMP:20260421T091218
DTSTART;TZID=Europe/Berlin:20251128T110000
DTEND;TZID=Europe/Berlin:20251128T114500
UID:252BW30247-20251128T110000@VHSUNTERLAND
SUMMARY:Aqua-Fitness im Solebad (252BW30247) 
LOCATION:bw Solebad, Osterbergstraße 16, 74206 Bad Wimpfen
END:VEVENT
BEGIN:VEVENT
DTSTAMP:20260421T091218
DTSTART;TZID=Europe/Berlin:20251205T110000
DTEND;TZID=Europe/Berlin:20251205T114500
UID:252BW30247-20251205T110000@VHSUNTERLAND
SUMMARY:Aqua-Fitness im Solebad (252BW30247) 
LOCATION:bw Solebad, Osterbergstraße 16, 74206 Bad Wimpfen
END:VEVENT
BEGIN:VEVENT
DTSTAMP:20260421T091218
DTSTART;TZID=Europe/Berlin:20251212T110000
DTEND;TZID=Europe/Berlin:20251212T114500
UID:252BW30247-20251212T110000@VHSUNTERLAND
SUMMARY:Aqua-Fitness im Solebad (252BW30247) 
LOCATION:bw Solebad, Osterbergstraße 16, 74206 Bad Wimpfen
END:VEVENT
BEGIN:VEVENT
DTSTAMP:20260421T091218
DTSTART;TZID=Europe/Berlin:20251219T110000
DTEND;TZID=Europe/Berlin:20251219T114500
UID:252BW30247-20251219T110000@VHSUNTERLAND
SUMMARY:Aqua-Fitness im Solebad (252BW30247) 
LOCATION:bw Solebad, Osterbergstraße 16, 74206 Bad Wimpfen
END:VEVENT
BEGIN:VEVENT
DTSTAMP:20260421T091218
DTSTART;TZID=Europe/Berlin:20260123T110000
DTEND;TZID=Europe/Berlin:20260123T114500
UID:252BW30247-20260123T110000@VHSUNTERLAND
SUMMARY:Aqua-Fitness im Solebad (252BW30247) 
LOCATION:bw Solebad, Osterbergstraße 16, 74206 Bad Wimpfen
END:VEVENT
BEGIN:VEVENT
DTSTAMP:20260421T091218
DTSTART;TZID=Europe/Berlin:20260130T110000
DTEND;TZID=Europe/Berlin:20260130T114500
UID:252BW30247-20260130T110000@VHSUNTERLAND
SUMMARY:Aqua-Fitness im Solebad (252BW30247) 
LOCATION:bw Solebad, Osterbergstraße 16, 74206 Bad Wimpfen
END:VEVENT
BEGIN:VEVENT
DTSTAMP:20260421T091218
DTSTART;TZID=Europe/Berlin:20260206T110000
DTEND;TZID=Europe/Berlin:20260206T114500
UID:252BW30247-20260206T110000@VHSUNTERLAND
DESCRIPTION:Ersatz für Ausfall am 09.01.2026
SUMMARY:Aqua-Fitness im Solebad (252BW30247) 
LOCATION:bw Solebad, Osterbergstraße 16, 74206 Bad Wimpfen
END:VEVENT
BEGIN:VEVENT
DTSTAMP:20260421T091218
DTSTART;TZID=Europe/Berlin:20260213T110000
DTEND;TZID=Europe/Berlin:20260213T114500
UID:252BW30247-20260213T110000@VHSUNTERLAND
DESCRIPTION:Ersatz für Ausfall am 16.01.2026
SUMMARY:Aqua-Fitness im Solebad (252BW30247) 
LOCATION:bw Solebad, Osterbergstraße 16, 74206 Bad Wimpfen
END:VEVENT
END:VCALENDAR