BEGIN:VCALENDAR
VERSION:2.0
PRODID:http://www.kufer.de/kuferweb / DE
METHOD:PUBLISH
CALSCALE:GREGORIAN
X-WR-TIMEZONE:Europe/Berlin
BEGIN:VTIMEZONE
TZID:Europe/Berlin
X-LIC-LOCATION:Europe/Berlin
BEGIN:DAYLIGHT
TZOFFSETFROM:+0100
TZOFFSETTO:+0200
TZNAME:CEST
DTSTART;TZID=Europe/Berlin:19700329T020000
RRULE:FREQ=YEARLY;INTERVAL=1;BYDAY=-1SU;BYMONTH=3
END:DAYLIGHT
BEGIN:STANDARD
TZOFFSETFROM:+0200
TZOFFSETTO:+0100
TZNAME:CET
DTSTART;TZID=Europe/Berlin:19701025T030000
RRULE:FREQ=YEARLY;INTERVAL=1;BYDAY=-1SU;BYMONTH=10
END:STANDARD
END:VTIMEZONE
BEGIN:VEVENT
DTSTAMP:20260421T080905
DTSTART;TZID=Europe/Berlin:20251010T100000
DTEND;TZID=Europe/Berlin:20251010T104500
UID:252BW30246-20251010T100000@VHSUNTERLAND
SUMMARY:Aqua-Fitness im Solebad (252BW30246) 
LOCATION:bw Solebad, Osterbergstraße 16, 74206 Bad Wimpfen
END:VEVENT
BEGIN:VEVENT
DTSTAMP:20260421T080905
DTSTART;TZID=Europe/Berlin:20251017T100000
DTEND;TZID=Europe/Berlin:20251017T104500
UID:252BW30246-20251017T100000@VHSUNTERLAND
SUMMARY:Aqua-Fitness im Solebad (252BW30246) 
LOCATION:bw Solebad, Osterbergstraße 16, 74206 Bad Wimpfen
END:VEVENT
BEGIN:VEVENT
DTSTAMP:20260421T080905
DTSTART;TZID=Europe/Berlin:20251024T100000
DTEND;TZID=Europe/Berlin:20251024T104500
UID:252BW30246-20251024T100000@VHSUNTERLAND
SUMMARY:Aqua-Fitness im Solebad (252BW30246) 
LOCATION:bw Solebad, Osterbergstraße 16, 74206 Bad Wimpfen
END:VEVENT
BEGIN:VEVENT
DTSTAMP:20260421T080905
DTSTART;TZID=Europe/Berlin:20251107T100000
DTEND;TZID=Europe/Berlin:20251107T104500
UID:252BW30246-20251107T100000@VHSUNTERLAND
SUMMARY:Aqua-Fitness im Solebad (252BW30246) 
LOCATION:bw Solebad, Osterbergstraße 16, 74206 Bad Wimpfen
END:VEVENT
BEGIN:VEVENT
DTSTAMP:20260421T080905
DTSTART;TZID=Europe/Berlin:20251114T100000
DTEND;TZID=Europe/Berlin:20251114T104500
UID:252BW30246-20251114T100000@VHSUNTERLAND
SUMMARY:Aqua-Fitness im Solebad (252BW30246) 
LOCATION:bw Solebad, Osterbergstraße 16, 74206 Bad Wimpfen
END:VEVENT
BEGIN:VEVENT
DTSTAMP:20260421T080905
DTSTART;TZID=Europe/Berlin:20251121T100000
DTEND;TZID=Europe/Berlin:20251121T104500
UID:252BW30246-20251121T100000@VHSUNTERLAND
SUMMARY:Aqua-Fitness im Solebad (252BW30246) 
LOCATION:bw Solebad, Osterbergstraße 16, 74206 Bad Wimpfen
END:VEVENT
BEGIN:VEVENT
DTSTAMP:20260421T080905
DTSTART;TZID=Europe/Berlin:20251128T100000
DTEND;TZID=Europe/Berlin:20251128T104500
UID:252BW30246-20251128T100000@VHSUNTERLAND
SUMMARY:Aqua-Fitness im Solebad (252BW30246) 
LOCATION:bw Solebad, Osterbergstraße 16, 74206 Bad Wimpfen
END:VEVENT
BEGIN:VEVENT
DTSTAMP:20260421T080905
DTSTART;TZID=Europe/Berlin:20251205T100000
DTEND;TZID=Europe/Berlin:20251205T104500
UID:252BW30246-20251205T100000@VHSUNTERLAND
SUMMARY:Aqua-Fitness im Solebad (252BW30246) 
LOCATION:bw Solebad, Osterbergstraße 16, 74206 Bad Wimpfen
END:VEVENT
BEGIN:VEVENT
DTSTAMP:20260421T080905
DTSTART;TZID=Europe/Berlin:20251212T100000
DTEND;TZID=Europe/Berlin:20251212T104500
UID:252BW30246-20251212T100000@VHSUNTERLAND
SUMMARY:Aqua-Fitness im Solebad (252BW30246) 
LOCATION:bw Solebad, Osterbergstraße 16, 74206 Bad Wimpfen
END:VEVENT
BEGIN:VEVENT
DTSTAMP:20260421T080905
DTSTART;TZID=Europe/Berlin:20251219T100000
DTEND;TZID=Europe/Berlin:20251219T104500
UID:252BW30246-20251219T100000@VHSUNTERLAND
SUMMARY:Aqua-Fitness im Solebad (252BW30246) 
LOCATION:bw Solebad, Osterbergstraße 16, 74206 Bad Wimpfen
END:VEVENT
BEGIN:VEVENT
DTSTAMP:20260421T080905
DTSTART;TZID=Europe/Berlin:20260123T100000
DTEND;TZID=Europe/Berlin:20260123T104500
UID:252BW30246-20260123T100000@VHSUNTERLAND
SUMMARY:Aqua-Fitness im Solebad (252BW30246) 
LOCATION:bw Solebad, Osterbergstraße 16, 74206 Bad Wimpfen
END:VEVENT
BEGIN:VEVENT
DTSTAMP:20260421T080905
DTSTART;TZID=Europe/Berlin:20260130T100000
DTEND;TZID=Europe/Berlin:20260130T104500
UID:252BW30246-20260130T100000@VHSUNTERLAND
SUMMARY:Aqua-Fitness im Solebad (252BW30246) 
LOCATION:bw Solebad, Osterbergstraße 16, 74206 Bad Wimpfen
END:VEVENT
BEGIN:VEVENT
DTSTAMP:20260421T080905
DTSTART;TZID=Europe/Berlin:20260206T100000
DTEND;TZID=Europe/Berlin:20260206T104500
UID:252BW30246-20260206T100000@VHSUNTERLAND
DESCRIPTION:Ersatz für Ausfall am 09.01.2026
SUMMARY:Aqua-Fitness im Solebad (252BW30246) 
LOCATION:bw Solebad, Osterbergstraße 16, 74206 Bad Wimpfen
END:VEVENT
BEGIN:VEVENT
DTSTAMP:20260421T080905
DTSTART;TZID=Europe/Berlin:20260213T100000
DTEND;TZID=Europe/Berlin:20260213T104500
UID:252BW30246-20260213T100000@VHSUNTERLAND
DESCRIPTION:Ersatz für Ausfall am 16.01.2026
SUMMARY:Aqua-Fitness im Solebad (252BW30246) 
LOCATION:bw Solebad, Osterbergstraße 16, 74206 Bad Wimpfen
END:VEVENT
END:VCALENDAR