BEGIN:VCALENDAR
VERSION:2.0
PRODID:http://www.kufer.de/kuferweb / DE
METHOD:PUBLISH
CALSCALE:GREGORIAN
X-WR-TIMEZONE:Europe/Berlin
BEGIN:VTIMEZONE
TZID:Europe/Berlin
X-LIC-LOCATION:Europe/Berlin
BEGIN:DAYLIGHT
TZOFFSETFROM:+0100
TZOFFSETTO:+0200
TZNAME:CEST
DTSTART;TZID=Europe/Berlin:19700329T020000
RRULE:FREQ=YEARLY;INTERVAL=1;BYDAY=-1SU;BYMONTH=3
END:DAYLIGHT
BEGIN:STANDARD
TZOFFSETFROM:+0200
TZOFFSETTO:+0100
TZNAME:CET
DTSTART;TZID=Europe/Berlin:19701025T030000
RRULE:FREQ=YEARLY;INTERVAL=1;BYDAY=-1SU;BYMONTH=10
END:STANDARD
END:VTIMEZONE
BEGIN:VEVENT
DTSTAMP:20260424T122747
DTSTART;TZID=Europe/Berlin:20251010T090000
DTEND;TZID=Europe/Berlin:20251010T094500
UID:252BW30245-20251010T090000@VHSUNTERLAND
SUMMARY:Aqua-Fitness im Solebad (252BW30245) 
LOCATION:bw Solebad, Osterbergstraße 16, 74206 Bad Wimpfen
END:VEVENT
BEGIN:VEVENT
DTSTAMP:20260424T122747
DTSTART;TZID=Europe/Berlin:20251017T090000
DTEND;TZID=Europe/Berlin:20251017T094500
UID:252BW30245-20251017T090000@VHSUNTERLAND
SUMMARY:Aqua-Fitness im Solebad (252BW30245) 
LOCATION:bw Solebad, Osterbergstraße 16, 74206 Bad Wimpfen
END:VEVENT
BEGIN:VEVENT
DTSTAMP:20260424T122747
DTSTART;TZID=Europe/Berlin:20251024T090000
DTEND;TZID=Europe/Berlin:20251024T094500
UID:252BW30245-20251024T090000@VHSUNTERLAND
SUMMARY:Aqua-Fitness im Solebad (252BW30245) 
LOCATION:bw Solebad, Osterbergstraße 16, 74206 Bad Wimpfen
END:VEVENT
BEGIN:VEVENT
DTSTAMP:20260424T122747
DTSTART;TZID=Europe/Berlin:20251107T090000
DTEND;TZID=Europe/Berlin:20251107T094500
UID:252BW30245-20251107T090000@VHSUNTERLAND
SUMMARY:Aqua-Fitness im Solebad (252BW30245) 
LOCATION:bw Solebad, Osterbergstraße 16, 74206 Bad Wimpfen
END:VEVENT
BEGIN:VEVENT
DTSTAMP:20260424T122747
DTSTART;TZID=Europe/Berlin:20251114T090000
DTEND;TZID=Europe/Berlin:20251114T094500
UID:252BW30245-20251114T090000@VHSUNTERLAND
SUMMARY:Aqua-Fitness im Solebad (252BW30245) 
LOCATION:bw Solebad, Osterbergstraße 16, 74206 Bad Wimpfen
END:VEVENT
BEGIN:VEVENT
DTSTAMP:20260424T122747
DTSTART;TZID=Europe/Berlin:20251121T090000
DTEND;TZID=Europe/Berlin:20251121T094500
UID:252BW30245-20251121T090000@VHSUNTERLAND
SUMMARY:Aqua-Fitness im Solebad (252BW30245) 
LOCATION:bw Solebad, Osterbergstraße 16, 74206 Bad Wimpfen
END:VEVENT
BEGIN:VEVENT
DTSTAMP:20260424T122747
DTSTART;TZID=Europe/Berlin:20251128T090000
DTEND;TZID=Europe/Berlin:20251128T094500
UID:252BW30245-20251128T090000@VHSUNTERLAND
SUMMARY:Aqua-Fitness im Solebad (252BW30245) 
LOCATION:bw Solebad, Osterbergstraße 16, 74206 Bad Wimpfen
END:VEVENT
BEGIN:VEVENT
DTSTAMP:20260424T122747
DTSTART;TZID=Europe/Berlin:20251205T090000
DTEND;TZID=Europe/Berlin:20251205T094500
UID:252BW30245-20251205T090000@VHSUNTERLAND
SUMMARY:Aqua-Fitness im Solebad (252BW30245) 
LOCATION:bw Solebad, Osterbergstraße 16, 74206 Bad Wimpfen
END:VEVENT
BEGIN:VEVENT
DTSTAMP:20260424T122747
DTSTART;TZID=Europe/Berlin:20251212T090000
DTEND;TZID=Europe/Berlin:20251212T094500
UID:252BW30245-20251212T090000@VHSUNTERLAND
SUMMARY:Aqua-Fitness im Solebad (252BW30245) 
LOCATION:bw Solebad, Osterbergstraße 16, 74206 Bad Wimpfen
END:VEVENT
BEGIN:VEVENT
DTSTAMP:20260424T122747
DTSTART;TZID=Europe/Berlin:20251219T090000
DTEND;TZID=Europe/Berlin:20251219T094500
UID:252BW30245-20251219T090000@VHSUNTERLAND
SUMMARY:Aqua-Fitness im Solebad (252BW30245) 
LOCATION:bw Solebad, Osterbergstraße 16, 74206 Bad Wimpfen
END:VEVENT
BEGIN:VEVENT
DTSTAMP:20260424T122747
DTSTART;TZID=Europe/Berlin:20260123T090000
DTEND;TZID=Europe/Berlin:20260123T094500
UID:252BW30245-20260123T090000@VHSUNTERLAND
SUMMARY:Aqua-Fitness im Solebad (252BW30245) 
LOCATION:bw Solebad, Osterbergstraße 16, 74206 Bad Wimpfen
END:VEVENT
BEGIN:VEVENT
DTSTAMP:20260424T122747
DTSTART;TZID=Europe/Berlin:20260130T090000
DTEND;TZID=Europe/Berlin:20260130T094500
UID:252BW30245-20260130T090000@VHSUNTERLAND
SUMMARY:Aqua-Fitness im Solebad (252BW30245) 
LOCATION:bw Solebad, Osterbergstraße 16, 74206 Bad Wimpfen
END:VEVENT
BEGIN:VEVENT
DTSTAMP:20260424T122747
DTSTART;TZID=Europe/Berlin:20260206T090000
DTEND;TZID=Europe/Berlin:20260206T094500
UID:252BW30245-20260206T090000@VHSUNTERLAND
DESCRIPTION:Ersatz für Ausfall am 09.01.2026
SUMMARY:Aqua-Fitness im Solebad (252BW30245) 
LOCATION:bw Solebad, Osterbergstraße 16, 74206 Bad Wimpfen
END:VEVENT
BEGIN:VEVENT
DTSTAMP:20260424T122747
DTSTART;TZID=Europe/Berlin:20260213T090000
DTEND;TZID=Europe/Berlin:20260213T094500
UID:252BW30245-20260213T090000@VHSUNTERLAND
DESCRIPTION:Ersatz für Ausfall am 16.01.2026
SUMMARY:Aqua-Fitness im Solebad (252BW30245) 
LOCATION:bw Solebad, Osterbergstraße 16, 74206 Bad Wimpfen
END:VEVENT
END:VCALENDAR