BEGIN:VCALENDAR
VERSION:2.0
PRODID:http://www.kufer.de/kuferweb / DE
METHOD:PUBLISH
CALSCALE:GREGORIAN
X-WR-TIMEZONE:Europe/Berlin
BEGIN:VTIMEZONE
TZID:Europe/Berlin
X-LIC-LOCATION:Europe/Berlin
BEGIN:DAYLIGHT
TZOFFSETFROM:+0100
TZOFFSETTO:+0200
TZNAME:CEST
DTSTART;TZID=Europe/Berlin:19700329T020000
RRULE:FREQ=YEARLY;INTERVAL=1;BYDAY=-1SU;BYMONTH=3
END:DAYLIGHT
BEGIN:STANDARD
TZOFFSETFROM:+0200
TZOFFSETTO:+0100
TZNAME:CET
DTSTART;TZID=Europe/Berlin:19701025T030000
RRULE:FREQ=YEARLY;INTERVAL=1;BYDAY=-1SU;BYMONTH=10
END:STANDARD
END:VTIMEZONE
BEGIN:VEVENT
DTSTAMP:20260421T051129
DTSTART;TZID=Europe/Berlin:20250930T163000
DTEND;TZID=Europe/Berlin:20250930T173000
UID:252BW10680-20250930T163000@VHSUNTERLAND
SUMMARY:Ganzheitliches Gedächtnistraining (252BW10680) 
LOCATION:bw Konventhaus, Medien Raum, Langgasse 2, 74206 Bad Wimpfen
END:VEVENT
BEGIN:VEVENT
DTSTAMP:20260421T051129
DTSTART;TZID=Europe/Berlin:20251007T163000
DTEND;TZID=Europe/Berlin:20251007T173000
UID:252BW10680-20251007T163000@VHSUNTERLAND
SUMMARY:Ganzheitliches Gedächtnistraining (252BW10680) 
LOCATION:bw Konventhaus, Medien Raum, Langgasse 2, 74206 Bad Wimpfen
END:VEVENT
BEGIN:VEVENT
DTSTAMP:20260421T051129
DTSTART;TZID=Europe/Berlin:20251014T163000
DTEND;TZID=Europe/Berlin:20251014T173000
UID:252BW10680-20251014T163000@VHSUNTERLAND
SUMMARY:Ganzheitliches Gedächtnistraining (252BW10680) 
LOCATION:bw Konventhaus, Medien Raum, Langgasse 2, 74206 Bad Wimpfen
END:VEVENT
BEGIN:VEVENT
DTSTAMP:20260421T051129
DTSTART;TZID=Europe/Berlin:20251021T163000
DTEND;TZID=Europe/Berlin:20251021T173000
UID:252BW10680-20251021T163000@VHSUNTERLAND
SUMMARY:Ganzheitliches Gedächtnistraining (252BW10680) 
LOCATION:bw Konventhaus, Medien Raum, Langgasse 2, 74206 Bad Wimpfen
END:VEVENT
BEGIN:VEVENT
DTSTAMP:20260421T051129
DTSTART;TZID=Europe/Berlin:20251104T163000
DTEND;TZID=Europe/Berlin:20251104T173000
UID:252BW10680-20251104T163000@VHSUNTERLAND
SUMMARY:Ganzheitliches Gedächtnistraining (252BW10680) 
LOCATION:bw Konventhaus, Medien Raum, Langgasse 2, 74206 Bad Wimpfen
END:VEVENT
BEGIN:VEVENT
DTSTAMP:20260421T051129
DTSTART;TZID=Europe/Berlin:20251111T163000
DTEND;TZID=Europe/Berlin:20251111T173000
UID:252BW10680-20251111T163000@VHSUNTERLAND
SUMMARY:Ganzheitliches Gedächtnistraining (252BW10680) 
LOCATION:bw Konventhaus, Medien Raum, Langgasse 2, 74206 Bad Wimpfen
END:VEVENT
BEGIN:VEVENT
DTSTAMP:20260421T051129
DTSTART;TZID=Europe/Berlin:20251118T163000
DTEND;TZID=Europe/Berlin:20251118T173000
UID:252BW10680-20251118T163000@VHSUNTERLAND
SUMMARY:Ganzheitliches Gedächtnistraining (252BW10680) 
LOCATION:bw Konventhaus, Medien Raum, Langgasse 2, 74206 Bad Wimpfen
END:VEVENT
BEGIN:VEVENT
DTSTAMP:20260421T051129
DTSTART;TZID=Europe/Berlin:20251125T163000
DTEND;TZID=Europe/Berlin:20251125T173000
UID:252BW10680-20251125T163000@VHSUNTERLAND
SUMMARY:Ganzheitliches Gedächtnistraining (252BW10680) 
LOCATION:bw Konventhaus, Medien Raum, Langgasse 2, 74206 Bad Wimpfen
END:VEVENT
END:VCALENDAR