BEGIN:VCALENDAR
VERSION:2.0
PRODID:http://www.kufer.de/kuferweb / DE
METHOD:PUBLISH
CALSCALE:GREGORIAN
X-WR-TIMEZONE:Europe/Berlin
BEGIN:VTIMEZONE
TZID:Europe/Berlin
X-LIC-LOCATION:Europe/Berlin
BEGIN:DAYLIGHT
TZOFFSETFROM:+0100
TZOFFSETTO:+0200
TZNAME:CEST
DTSTART;TZID=Europe/Berlin:19700329T020000
RRULE:FREQ=YEARLY;INTERVAL=1;BYDAY=-1SU;BYMONTH=3
END:DAYLIGHT
BEGIN:STANDARD
TZOFFSETFROM:+0200
TZOFFSETTO:+0100
TZNAME:CET
DTSTART;TZID=Europe/Berlin:19701025T030000
RRULE:FREQ=YEARLY;INTERVAL=1;BYDAY=-1SU;BYMONTH=10
END:STANDARD
END:VTIMEZONE
BEGIN:VEVENT
DTSTAMP:20260422T210612
DTSTART;TZID=Europe/Berlin:20251014T181500
DTEND;TZID=Europe/Berlin:20251014T191500
UID:252BS30235-20251014T181500@VHSUNTERLAND
SUMMARY:ZUMBA® (252BS30235) 
LOCATION:bs Raumaier, Raumaier 1, 71717 Beilstein
END:VEVENT
BEGIN:VEVENT
DTSTAMP:20260422T210612
DTSTART;TZID=Europe/Berlin:20251021T181500
DTEND;TZID=Europe/Berlin:20251021T191500
UID:252BS30235-20251021T181500@VHSUNTERLAND
SUMMARY:ZUMBA® (252BS30235) 
LOCATION:bs Raumaier, Raumaier 1, 71717 Beilstein
END:VEVENT
BEGIN:VEVENT
DTSTAMP:20260422T210612
DTSTART;TZID=Europe/Berlin:20251104T181500
DTEND;TZID=Europe/Berlin:20251104T191500
UID:252BS30235-20251104T181500@VHSUNTERLAND
SUMMARY:ZUMBA® (252BS30235) 
LOCATION:bs Raumaier, Raumaier 1, 71717 Beilstein
END:VEVENT
BEGIN:VEVENT
DTSTAMP:20260422T210612
DTSTART;TZID=Europe/Berlin:20251111T181500
DTEND;TZID=Europe/Berlin:20251111T191500
UID:252BS30235-20251111T181500@VHSUNTERLAND
SUMMARY:ZUMBA® (252BS30235) 
LOCATION:bs Raumaier, Raumaier 1, 71717 Beilstein
END:VEVENT
BEGIN:VEVENT
DTSTAMP:20260422T210612
DTSTART;TZID=Europe/Berlin:20251202T181500
DTEND;TZID=Europe/Berlin:20251202T191500
UID:252BS30235-20251202T181500@VHSUNTERLAND
SUMMARY:ZUMBA® (252BS30235) 
LOCATION:bs Raumaier, Raumaier 1, 71717 Beilstein
END:VEVENT
BEGIN:VEVENT
DTSTAMP:20260422T210612
DTSTART;TZID=Europe/Berlin:20251209T181500
DTEND;TZID=Europe/Berlin:20251209T191500
UID:252BS30235-20251209T181500@VHSUNTERLAND
SUMMARY:ZUMBA® (252BS30235) 
LOCATION:bs Raumaier, Raumaier 1, 71717 Beilstein
END:VEVENT
BEGIN:VEVENT
DTSTAMP:20260422T210612
DTSTART;TZID=Europe/Berlin:20251216T181500
DTEND;TZID=Europe/Berlin:20251216T191500
UID:252BS30235-20251216T181500@VHSUNTERLAND
SUMMARY:ZUMBA® (252BS30235) 
LOCATION:bs Raumaier, Raumaier 1, 71717 Beilstein
END:VEVENT
BEGIN:VEVENT
DTSTAMP:20260422T210612
DTSTART;TZID=Europe/Berlin:20260113T181500
DTEND;TZID=Europe/Berlin:20260113T191500
UID:252BS30235-20260113T181500@VHSUNTERLAND
SUMMARY:ZUMBA® (252BS30235) 
LOCATION:bs Raumaier, Raumaier 1, 71717 Beilstein
END:VEVENT
BEGIN:VEVENT
DTSTAMP:20260422T210612
DTSTART;TZID=Europe/Berlin:20260120T181500
DTEND;TZID=Europe/Berlin:20260120T191500
UID:252BS30235-20260120T181500@VHSUNTERLAND
SUMMARY:ZUMBA® (252BS30235) 
LOCATION:bs Raumaier, Raumaier 1, 71717 Beilstein
END:VEVENT
BEGIN:VEVENT
DTSTAMP:20260422T210612
DTSTART;TZID=Europe/Berlin:20260127T181500
DTEND;TZID=Europe/Berlin:20260127T191500
UID:252BS30235-20260127T181500@VHSUNTERLAND
SUMMARY:ZUMBA® (252BS30235) 
LOCATION:bs Raumaier, Raumaier 1, 71717 Beilstein
END:VEVENT
BEGIN:VEVENT
DTSTAMP:20260422T210612
DTSTART;TZID=Europe/Berlin:20260203T181500
DTEND;TZID=Europe/Berlin:20260203T191500
UID:252BS30235-20260203T181500@VHSUNTERLAND
SUMMARY:ZUMBA® (252BS30235) 
LOCATION:bs Raumaier, Raumaier 1, 71717 Beilstein
END:VEVENT
BEGIN:VEVENT
DTSTAMP:20260422T210612
DTSTART;TZID=Europe/Berlin:20260210T181500
DTEND;TZID=Europe/Berlin:20260210T191500
UID:252BS30235-20260210T181500@VHSUNTERLAND
DESCRIPTION:Ersatz für Ausfall am 18.11.2025
SUMMARY:ZUMBA® (252BS30235) 
LOCATION:bs Raumaier, Raumaier 1, 71717 Beilstein
END:VEVENT
END:VCALENDAR