BEGIN:VCALENDAR
VERSION:2.0
PRODID:http://www.kufer.de/kuferweb / DE
METHOD:PUBLISH
CALSCALE:GREGORIAN
X-WR-TIMEZONE:Europe/Berlin
BEGIN:VTIMEZONE
TZID:Europe/Berlin
X-LIC-LOCATION:Europe/Berlin
BEGIN:DAYLIGHT
TZOFFSETFROM:+0100
TZOFFSETTO:+0200
TZNAME:CEST
DTSTART;TZID=Europe/Berlin:19700329T020000
RRULE:FREQ=YEARLY;INTERVAL=1;BYDAY=-1SU;BYMONTH=3
END:DAYLIGHT
BEGIN:STANDARD
TZOFFSETFROM:+0200
TZOFFSETTO:+0100
TZNAME:CET
DTSTART;TZID=Europe/Berlin:19701025T030000
RRULE:FREQ=YEARLY;INTERVAL=1;BYDAY=-1SU;BYMONTH=10
END:STANDARD
END:VTIMEZONE
BEGIN:VEVENT
DTSTAMP:20260420T085138
DTSTART;TZID=Europe/Berlin:20260108T090000
DTEND;TZID=Europe/Berlin:20260108T100000
UID:252BS30201-20260108T090000@VHSUNTERLAND
SUMMARY:Rücken-Fit! (252BS30201) 
LOCATION:bs Raumaier, Raumaier 1, 71717 Beilstein
END:VEVENT
BEGIN:VEVENT
DTSTAMP:20260420T085138
DTSTART;TZID=Europe/Berlin:20260115T090000
DTEND;TZID=Europe/Berlin:20260115T100000
UID:252BS30201-20260115T090000@VHSUNTERLAND
SUMMARY:Rücken-Fit! (252BS30201) 
LOCATION:bs Raumaier, Raumaier 1, 71717 Beilstein
END:VEVENT
BEGIN:VEVENT
DTSTAMP:20260420T085138
DTSTART;TZID=Europe/Berlin:20260122T090000
DTEND;TZID=Europe/Berlin:20260122T100000
UID:252BS30201-20260122T090000@VHSUNTERLAND
SUMMARY:Rücken-Fit! (252BS30201) 
LOCATION:bs Raumaier, Raumaier 1, 71717 Beilstein
END:VEVENT
BEGIN:VEVENT
DTSTAMP:20260420T085138
DTSTART;TZID=Europe/Berlin:20260129T090000
DTEND;TZID=Europe/Berlin:20260129T100000
UID:252BS30201-20260129T090000@VHSUNTERLAND
SUMMARY:Rücken-Fit! (252BS30201) 
LOCATION:bs Raumaier, Raumaier 1, 71717 Beilstein
END:VEVENT
BEGIN:VEVENT
DTSTAMP:20260420T085138
DTSTART;TZID=Europe/Berlin:20260205T090000
DTEND;TZID=Europe/Berlin:20260205T100000
UID:252BS30201-20260205T090000@VHSUNTERLAND
SUMMARY:Rücken-Fit! (252BS30201) 
LOCATION:bs Raumaier, Raumaier 1, 71717 Beilstein
END:VEVENT
BEGIN:VEVENT
DTSTAMP:20260420T085138
DTSTART;TZID=Europe/Berlin:20260212T090000
DTEND;TZID=Europe/Berlin:20260212T100000
UID:252BS30201-20260212T090000@VHSUNTERLAND
SUMMARY:Rücken-Fit! (252BS30201) 
LOCATION:bs Raumaier, Raumaier 1, 71717 Beilstein
END:VEVENT
BEGIN:VEVENT
DTSTAMP:20260420T085138
DTSTART;TZID=Europe/Berlin:20260219T090000
DTEND;TZID=Europe/Berlin:20260219T100000
UID:252BS30201-20260219T090000@VHSUNTERLAND
SUMMARY:Rücken-Fit! (252BS30201) 
LOCATION:bs Raumaier, Raumaier 1, 71717 Beilstein
END:VEVENT
BEGIN:VEVENT
DTSTAMP:20260420T085138
DTSTART;TZID=Europe/Berlin:20260226T090000
DTEND;TZID=Europe/Berlin:20260226T100000
UID:252BS30201-20260226T090000@VHSUNTERLAND
SUMMARY:Rücken-Fit! (252BS30201) 
LOCATION:bs Raumaier, Raumaier 1, 71717 Beilstein
END:VEVENT
BEGIN:VEVENT
DTSTAMP:20260420T085138
DTSTART;TZID=Europe/Berlin:20260305T090000
DTEND;TZID=Europe/Berlin:20260305T100000
UID:252BS30201-20260305T090000@VHSUNTERLAND
SUMMARY:Rücken-Fit! (252BS30201) 
LOCATION:bs Raumaier, Raumaier 1, 71717 Beilstein
END:VEVENT
BEGIN:VEVENT
DTSTAMP:20260420T085138
DTSTART;TZID=Europe/Berlin:20260312T090000
DTEND;TZID=Europe/Berlin:20260312T100000
UID:252BS30201-20260312T090000@VHSUNTERLAND
SUMMARY:Rücken-Fit! (252BS30201) 
LOCATION:bs Raumaier, Raumaier 1, 71717 Beilstein
END:VEVENT
BEGIN:VEVENT
DTSTAMP:20260420T085138
DTSTART;TZID=Europe/Berlin:20260319T090000
DTEND;TZID=Europe/Berlin:20260319T100000
UID:252BS30201-20260319T090000@VHSUNTERLAND
SUMMARY:Rücken-Fit! (252BS30201) 
LOCATION:bs Raumaier, Raumaier 1, 71717 Beilstein
END:VEVENT
BEGIN:VEVENT
DTSTAMP:20260420T085138
DTSTART;TZID=Europe/Berlin:20260326T090000
DTEND;TZID=Europe/Berlin:20260326T100000
UID:252BS30201-20260326T090000@VHSUNTERLAND
SUMMARY:Rücken-Fit! (252BS30201) 
LOCATION:bs Raumaier, Raumaier 1, 71717 Beilstein
END:VEVENT
BEGIN:VEVENT
DTSTAMP:20260420T085138
DTSTART;TZID=Europe/Berlin:20260402T090000
DTEND;TZID=Europe/Berlin:20260402T100000
UID:252BS30201-20260402T090000@VHSUNTERLAND
SUMMARY:Rücken-Fit! (252BS30201) 
LOCATION:bs Raumaier, Raumaier 1, 71717 Beilstein
END:VEVENT
BEGIN:VEVENT
DTSTAMP:20260420T085138
DTSTART;TZID=Europe/Berlin:20260409T090000
DTEND;TZID=Europe/Berlin:20260409T100000
UID:252BS30201-20260409T090000@VHSUNTERLAND
SUMMARY:Rücken-Fit! (252BS30201) 
LOCATION:bs Raumaier, Raumaier 1, 71717 Beilstein
END:VEVENT
BEGIN:VEVENT
DTSTAMP:20260420T085138
DTSTART;TZID=Europe/Berlin:20260416T090000
DTEND;TZID=Europe/Berlin:20260416T100000
UID:252BS30201-20260416T090000@VHSUNTERLAND
SUMMARY:Rücken-Fit! (252BS30201) 
LOCATION:bs Raumaier, Raumaier 1, 71717 Beilstein
END:VEVENT
BEGIN:VEVENT
DTSTAMP:20260420T085138
DTSTART;TZID=Europe/Berlin:20260423T090000
DTEND;TZID=Europe/Berlin:20260423T100000
UID:252BS30201-20260423T090000@VHSUNTERLAND
SUMMARY:Rücken-Fit! (252BS30201) 
LOCATION:bs Raumaier, Raumaier 1, 71717 Beilstein
END:VEVENT
BEGIN:VEVENT
DTSTAMP:20260420T085138
DTSTART;TZID=Europe/Berlin:20260430T090000
DTEND;TZID=Europe/Berlin:20260430T100000
UID:252BS30201-20260430T090000@VHSUNTERLAND
SUMMARY:Rücken-Fit! (252BS30201) 
LOCATION:bs Raumaier, Raumaier 1, 71717 Beilstein
END:VEVENT
END:VCALENDAR