BEGIN:VCALENDAR
VERSION:2.0
PRODID:http://www.kufer.de/kuferweb / DE
METHOD:PUBLISH
CALSCALE:GREGORIAN
X-WR-TIMEZONE:Europe/Berlin
BEGIN:VTIMEZONE
TZID:Europe/Berlin
X-LIC-LOCATION:Europe/Berlin
BEGIN:DAYLIGHT
TZOFFSETFROM:+0100
TZOFFSETTO:+0200
TZNAME:CEST
DTSTART;TZID=Europe/Berlin:19700329T020000
RRULE:FREQ=YEARLY;INTERVAL=1;BYDAY=-1SU;BYMONTH=3
END:DAYLIGHT
BEGIN:STANDARD
TZOFFSETFROM:+0200
TZOFFSETTO:+0100
TZNAME:CET
DTSTART;TZID=Europe/Berlin:19701025T030000
RRULE:FREQ=YEARLY;INTERVAL=1;BYDAY=-1SU;BYMONTH=10
END:STANDARD
END:VTIMEZONE
BEGIN:VEVENT
DTSTAMP:20260424T184428
DTSTART;TZID=Europe/Berlin:20250922T083000
DTEND;TZID=Europe/Berlin:20250922T100000
UID:252BS30130-20250922T083000@VHSUNTERLAND
SUMMARY:Hatha Yoga für Anfänger*innen am Vormittag (252BS30130) 
LOCATION:bs Raumaier, Raumaier 1, 71717 Beilstein
END:VEVENT
BEGIN:VEVENT
DTSTAMP:20260424T184428
DTSTART;TZID=Europe/Berlin:20250929T083000
DTEND;TZID=Europe/Berlin:20250929T100000
UID:252BS30130-20250929T083000@VHSUNTERLAND
SUMMARY:Hatha Yoga für Anfänger*innen am Vormittag (252BS30130) 
LOCATION:bs Raumaier, Raumaier 1, 71717 Beilstein
END:VEVENT
BEGIN:VEVENT
DTSTAMP:20260424T184428
DTSTART;TZID=Europe/Berlin:20251006T083000
DTEND;TZID=Europe/Berlin:20251006T100000
UID:252BS30130-20251006T083000@VHSUNTERLAND
SUMMARY:Hatha Yoga für Anfänger*innen am Vormittag (252BS30130) 
LOCATION:bs Raumaier, Raumaier 1, 71717 Beilstein
END:VEVENT
BEGIN:VEVENT
DTSTAMP:20260424T184428
DTSTART;TZID=Europe/Berlin:20251013T083000
DTEND;TZID=Europe/Berlin:20251013T100000
UID:252BS30130-20251013T083000@VHSUNTERLAND
SUMMARY:Hatha Yoga für Anfänger*innen am Vormittag (252BS30130) 
LOCATION:bs Raumaier, Raumaier 1, 71717 Beilstein
END:VEVENT
BEGIN:VEVENT
DTSTAMP:20260424T184428
DTSTART;TZID=Europe/Berlin:20251020T083000
DTEND;TZID=Europe/Berlin:20251020T100000
UID:252BS30130-20251020T083000@VHSUNTERLAND
SUMMARY:Hatha Yoga für Anfänger*innen am Vormittag (252BS30130) 
LOCATION:bs Raumaier, Raumaier 1, 71717 Beilstein
END:VEVENT
BEGIN:VEVENT
DTSTAMP:20260424T184428
DTSTART;TZID=Europe/Berlin:20251103T083000
DTEND;TZID=Europe/Berlin:20251103T100000
UID:252BS30130-20251103T083000@VHSUNTERLAND
SUMMARY:Hatha Yoga für Anfänger*innen am Vormittag (252BS30130) 
LOCATION:bs Raumaier, Raumaier 1, 71717 Beilstein
END:VEVENT
BEGIN:VEVENT
DTSTAMP:20260424T184428
DTSTART;TZID=Europe/Berlin:20251110T083000
DTEND;TZID=Europe/Berlin:20251110T100000
UID:252BS30130-20251110T083000@VHSUNTERLAND
SUMMARY:Hatha Yoga für Anfänger*innen am Vormittag (252BS30130) 
LOCATION:bs Raumaier, Raumaier 1, 71717 Beilstein
END:VEVENT
BEGIN:VEVENT
DTSTAMP:20260424T184428
DTSTART;TZID=Europe/Berlin:20251117T083000
DTEND;TZID=Europe/Berlin:20251117T100000
UID:252BS30130-20251117T083000@VHSUNTERLAND
SUMMARY:Hatha Yoga für Anfänger*innen am Vormittag (252BS30130) 
LOCATION:bs Raumaier, Raumaier 1, 71717 Beilstein
END:VEVENT
BEGIN:VEVENT
DTSTAMP:20260424T184428
DTSTART;TZID=Europe/Berlin:20251124T083000
DTEND;TZID=Europe/Berlin:20251124T100000
UID:252BS30130-20251124T083000@VHSUNTERLAND
SUMMARY:Hatha Yoga für Anfänger*innen am Vormittag (252BS30130) 
LOCATION:bs Raumaier, Raumaier 1, 71717 Beilstein
END:VEVENT
END:VCALENDAR