BEGIN:VCALENDAR
VERSION:2.0
PRODID:http://www.kufer.de/kuferweb / DE
METHOD:PUBLISH
CALSCALE:GREGORIAN
X-WR-TIMEZONE:Europe/Berlin
BEGIN:VTIMEZONE
TZID:Europe/Berlin
X-LIC-LOCATION:Europe/Berlin
BEGIN:DAYLIGHT
TZOFFSETFROM:+0100
TZOFFSETTO:+0200
TZNAME:CEST
DTSTART;TZID=Europe/Berlin:19700329T020000
RRULE:FREQ=YEARLY;INTERVAL=1;BYDAY=-1SU;BYMONTH=3
END:DAYLIGHT
BEGIN:STANDARD
TZOFFSETFROM:+0200
TZOFFSETTO:+0100
TZNAME:CET
DTSTART;TZID=Europe/Berlin:19701025T030000
RRULE:FREQ=YEARLY;INTERVAL=1;BYDAY=-1SU;BYMONTH=10
END:STANDARD
END:VTIMEZONE
BEGIN:VEVENT
DTSTAMP:20260422T140629
DTSTART;TZID=Europe/Berlin:20250922T144500
DTEND;TZID=Europe/Berlin:20250922T153000
UID:252BS20580-20250922T144500@VHSUNTERLAND
SUMMARY:Kreativer Kindertanz Minis von 3-4 Jahren (252BS20580) 
LOCATION:bs Tanzstudio Tanzboden, Hoftalstr. 24, 71720 Oberstenfeld
END:VEVENT
BEGIN:VEVENT
DTSTAMP:20260422T140629
DTSTART;TZID=Europe/Berlin:20250929T144500
DTEND;TZID=Europe/Berlin:20250929T153000
UID:252BS20580-20250929T144500@VHSUNTERLAND
SUMMARY:Kreativer Kindertanz Minis von 3-4 Jahren (252BS20580) 
LOCATION:bs Tanzstudio Tanzboden, Hoftalstr. 24, 71720 Oberstenfeld
END:VEVENT
BEGIN:VEVENT
DTSTAMP:20260422T140629
DTSTART;TZID=Europe/Berlin:20251006T144500
DTEND;TZID=Europe/Berlin:20251006T153000
UID:252BS20580-20251006T144500@VHSUNTERLAND
SUMMARY:Kreativer Kindertanz Minis von 3-4 Jahren (252BS20580) 
LOCATION:bs Tanzstudio Tanzboden, Hoftalstr. 24, 71720 Oberstenfeld
END:VEVENT
BEGIN:VEVENT
DTSTAMP:20260422T140629
DTSTART;TZID=Europe/Berlin:20251013T144500
DTEND;TZID=Europe/Berlin:20251013T153000
UID:252BS20580-20251013T144500@VHSUNTERLAND
SUMMARY:Kreativer Kindertanz Minis von 3-4 Jahren (252BS20580) 
LOCATION:bs Tanzstudio Tanzboden, Hoftalstr. 24, 71720 Oberstenfeld
END:VEVENT
BEGIN:VEVENT
DTSTAMP:20260422T140629
DTSTART;TZID=Europe/Berlin:20251020T144500
DTEND;TZID=Europe/Berlin:20251020T153000
UID:252BS20580-20251020T144500@VHSUNTERLAND
SUMMARY:Kreativer Kindertanz Minis von 3-4 Jahren (252BS20580) 
LOCATION:bs Tanzstudio Tanzboden, Hoftalstr. 24, 71720 Oberstenfeld
END:VEVENT
BEGIN:VEVENT
DTSTAMP:20260422T140629
DTSTART;TZID=Europe/Berlin:20251103T144500
DTEND;TZID=Europe/Berlin:20251103T153000
UID:252BS20580-20251103T144500@VHSUNTERLAND
SUMMARY:Kreativer Kindertanz Minis von 3-4 Jahren (252BS20580) 
LOCATION:bs Tanzstudio Tanzboden, Hoftalstr. 24, 71720 Oberstenfeld
END:VEVENT
BEGIN:VEVENT
DTSTAMP:20260422T140629
DTSTART;TZID=Europe/Berlin:20251110T144500
DTEND;TZID=Europe/Berlin:20251110T153000
UID:252BS20580-20251110T144500@VHSUNTERLAND
SUMMARY:Kreativer Kindertanz Minis von 3-4 Jahren (252BS20580) 
LOCATION:bs Tanzstudio Tanzboden, Hoftalstr. 24, 71720 Oberstenfeld
END:VEVENT
BEGIN:VEVENT
DTSTAMP:20260422T140629
DTSTART;TZID=Europe/Berlin:20251117T144500
DTEND;TZID=Europe/Berlin:20251117T153000
UID:252BS20580-20251117T144500@VHSUNTERLAND
SUMMARY:Kreativer Kindertanz Minis von 3-4 Jahren (252BS20580) 
LOCATION:bs Tanzstudio Tanzboden, Hoftalstr. 24, 71720 Oberstenfeld
END:VEVENT
BEGIN:VEVENT
DTSTAMP:20260422T140629
DTSTART;TZID=Europe/Berlin:20251124T144500
DTEND;TZID=Europe/Berlin:20251124T153000
UID:252BS20580-20251124T144500@VHSUNTERLAND
SUMMARY:Kreativer Kindertanz Minis von 3-4 Jahren (252BS20580) 
LOCATION:bs Tanzstudio Tanzboden, Hoftalstr. 24, 71720 Oberstenfeld
END:VEVENT
BEGIN:VEVENT
DTSTAMP:20260422T140629
DTSTART;TZID=Europe/Berlin:20251201T144500
DTEND;TZID=Europe/Berlin:20251201T153000
UID:252BS20580-20251201T144500@VHSUNTERLAND
SUMMARY:Kreativer Kindertanz Minis von 3-4 Jahren (252BS20580) 
LOCATION:bs Tanzstudio Tanzboden, Hoftalstr. 24, 71720 Oberstenfeld
END:VEVENT
BEGIN:VEVENT
DTSTAMP:20260422T140629
DTSTART;TZID=Europe/Berlin:20251208T144500
DTEND;TZID=Europe/Berlin:20251208T153000
UID:252BS20580-20251208T144500@VHSUNTERLAND
SUMMARY:Kreativer Kindertanz Minis von 3-4 Jahren (252BS20580) 
LOCATION:bs Tanzstudio Tanzboden, Hoftalstr. 24, 71720 Oberstenfeld
END:VEVENT
BEGIN:VEVENT
DTSTAMP:20260422T140629
DTSTART;TZID=Europe/Berlin:20251215T144500
DTEND;TZID=Europe/Berlin:20251215T153000
UID:252BS20580-20251215T144500@VHSUNTERLAND
SUMMARY:Kreativer Kindertanz Minis von 3-4 Jahren (252BS20580) 
LOCATION:bs Tanzstudio Tanzboden, Hoftalstr. 24, 71720 Oberstenfeld
END:VEVENT
BEGIN:VEVENT
DTSTAMP:20260422T140629
DTSTART;TZID=Europe/Berlin:20260112T144500
DTEND;TZID=Europe/Berlin:20260112T153000
UID:252BS20580-20260112T144500@VHSUNTERLAND
SUMMARY:Kreativer Kindertanz Minis von 3-4 Jahren (252BS20580) 
LOCATION:bs Tanzstudio Tanzboden, Hoftalstr. 24, 71720 Oberstenfeld
END:VEVENT
BEGIN:VEVENT
DTSTAMP:20260422T140629
DTSTART;TZID=Europe/Berlin:20260119T144500
DTEND;TZID=Europe/Berlin:20260119T153000
UID:252BS20580-20260119T144500@VHSUNTERLAND
SUMMARY:Kreativer Kindertanz Minis von 3-4 Jahren (252BS20580) 
LOCATION:bs Tanzstudio Tanzboden, Hoftalstr. 24, 71720 Oberstenfeld
END:VEVENT
BEGIN:VEVENT
DTSTAMP:20260422T140629
DTSTART;TZID=Europe/Berlin:20260202T144500
DTEND;TZID=Europe/Berlin:20260202T153000
UID:252BS20580-20260202T144500@VHSUNTERLAND
SUMMARY:Kreativer Kindertanz Minis von 3-4 Jahren (252BS20580) 
LOCATION:bs Tanzstudio Tanzboden, Hoftalstr. 24, 71720 Oberstenfeld
END:VEVENT
BEGIN:VEVENT
DTSTAMP:20260422T140629
DTSTART;TZID=Europe/Berlin:20260209T144500
DTEND;TZID=Europe/Berlin:20260209T153000
UID:252BS20580-20260209T144500@VHSUNTERLAND
SUMMARY:Kreativer Kindertanz Minis von 3-4 Jahren (252BS20580) 
LOCATION:bs Tanzstudio Tanzboden, Hoftalstr. 24, 71720 Oberstenfeld
END:VEVENT
END:VCALENDAR