BEGIN:VCALENDAR
VERSION:2.0
PRODID:http://www.kufer.de/kuferweb / DE
METHOD:PUBLISH
CALSCALE:GREGORIAN
X-WR-TIMEZONE:Europe/Berlin
BEGIN:VTIMEZONE
TZID:Europe/Berlin
X-LIC-LOCATION:Europe/Berlin
BEGIN:DAYLIGHT
TZOFFSETFROM:+0100
TZOFFSETTO:+0200
TZNAME:CEST
DTSTART;TZID=Europe/Berlin:19700329T020000
RRULE:FREQ=YEARLY;INTERVAL=1;BYDAY=-1SU;BYMONTH=3
END:DAYLIGHT
BEGIN:STANDARD
TZOFFSETFROM:+0200
TZOFFSETTO:+0100
TZNAME:CET
DTSTART;TZID=Europe/Berlin:19701025T030000
RRULE:FREQ=YEARLY;INTERVAL=1;BYDAY=-1SU;BYMONTH=10
END:STANDARD
END:VTIMEZONE
BEGIN:VEVENT
DTSTAMP:20260420T040118
DTSTART;TZID=Europe/Berlin:20251006T150000
DTEND;TZID=Europe/Berlin:20251006T154500
UID:252BR40690-20251006T150000@VHSUNTERLAND
SUMMARY:Spielerisch Englisch lernen für Kindergartenkinder von 4 - 6 Jahren (252BR40690) 
LOCATION:br Kulturhaus, Entspannungsraum, Heinsheimer Straße 16, 74906 Bad Rappenau
END:VEVENT
BEGIN:VEVENT
DTSTAMP:20260420T040118
DTSTART;TZID=Europe/Berlin:20251013T150000
DTEND;TZID=Europe/Berlin:20251013T154500
UID:252BR40690-20251013T150000@VHSUNTERLAND
SUMMARY:Spielerisch Englisch lernen für Kindergartenkinder von 4 - 6 Jahren (252BR40690) 
LOCATION:br Kulturhaus, Entspannungsraum, Heinsheimer Straße 16, 74906 Bad Rappenau
END:VEVENT
BEGIN:VEVENT
DTSTAMP:20260420T040118
DTSTART;TZID=Europe/Berlin:20251020T150000
DTEND;TZID=Europe/Berlin:20251020T154500
UID:252BR40690-20251020T150000@VHSUNTERLAND
SUMMARY:Spielerisch Englisch lernen für Kindergartenkinder von 4 - 6 Jahren (252BR40690) 
LOCATION:br Kulturhaus, Entspannungsraum, Heinsheimer Straße 16, 74906 Bad Rappenau
END:VEVENT
BEGIN:VEVENT
DTSTAMP:20260420T040118
DTSTART;TZID=Europe/Berlin:20251103T150000
DTEND;TZID=Europe/Berlin:20251103T154500
UID:252BR40690-20251103T150000@VHSUNTERLAND
SUMMARY:Spielerisch Englisch lernen für Kindergartenkinder von 4 - 6 Jahren (252BR40690) 
LOCATION:br Kulturhaus, Entspannungsraum, Heinsheimer Straße 16, 74906 Bad Rappenau
END:VEVENT
BEGIN:VEVENT
DTSTAMP:20260420T040118
DTSTART;TZID=Europe/Berlin:20251110T150000
DTEND;TZID=Europe/Berlin:20251110T154500
UID:252BR40690-20251110T150000@VHSUNTERLAND
SUMMARY:Spielerisch Englisch lernen für Kindergartenkinder von 4 - 6 Jahren (252BR40690) 
LOCATION:br Kulturhaus, Entspannungsraum, Heinsheimer Straße 16, 74906 Bad Rappenau
END:VEVENT
BEGIN:VEVENT
DTSTAMP:20260420T040118
DTSTART;TZID=Europe/Berlin:20251117T150000
DTEND;TZID=Europe/Berlin:20251117T154500
UID:252BR40690-20251117T150000@VHSUNTERLAND
SUMMARY:Spielerisch Englisch lernen für Kindergartenkinder von 4 - 6 Jahren (252BR40690) 
LOCATION:br Kulturhaus, Entspannungsraum, Heinsheimer Straße 16, 74906 Bad Rappenau
END:VEVENT
BEGIN:VEVENT
DTSTAMP:20260420T040118
DTSTART;TZID=Europe/Berlin:20251124T150000
DTEND;TZID=Europe/Berlin:20251124T154500
UID:252BR40690-20251124T150000@VHSUNTERLAND
SUMMARY:Spielerisch Englisch lernen für Kindergartenkinder von 4 - 6 Jahren (252BR40690) 
LOCATION:br Kulturhaus, Entspannungsraum, Heinsheimer Straße 16, 74906 Bad Rappenau
END:VEVENT
BEGIN:VEVENT
DTSTAMP:20260420T040118
DTSTART;TZID=Europe/Berlin:20251201T150000
DTEND;TZID=Europe/Berlin:20251201T154500
UID:252BR40690-20251201T150000@VHSUNTERLAND
SUMMARY:Spielerisch Englisch lernen für Kindergartenkinder von 4 - 6 Jahren (252BR40690) 
LOCATION:br Kulturhaus, Entspannungsraum, Heinsheimer Straße 16, 74906 Bad Rappenau
END:VEVENT
END:VCALENDAR