BEGIN:VCALENDAR
VERSION:2.0
PRODID:http://www.kufer.de/kuferweb / DE
METHOD:PUBLISH
CALSCALE:GREGORIAN
X-WR-TIMEZONE:Europe/Berlin
BEGIN:VTIMEZONE
TZID:Europe/Berlin
X-LIC-LOCATION:Europe/Berlin
BEGIN:DAYLIGHT
TZOFFSETFROM:+0100
TZOFFSETTO:+0200
TZNAME:CEST
DTSTART;TZID=Europe/Berlin:19700329T020000
RRULE:FREQ=YEARLY;INTERVAL=1;BYDAY=-1SU;BYMONTH=3
END:DAYLIGHT
BEGIN:STANDARD
TZOFFSETFROM:+0200
TZOFFSETTO:+0100
TZNAME:CET
DTSTART;TZID=Europe/Berlin:19701025T030000
RRULE:FREQ=YEARLY;INTERVAL=1;BYDAY=-1SU;BYMONTH=10
END:STANDARD
END:VTIMEZONE
BEGIN:VEVENT
DTSTAMP:20260424T223351
DTSTART;TZID=Europe/Berlin:20250916T153000
DTEND;TZID=Europe/Berlin:20250916T163000
UID:252BR30290-20250916T153000@VHSUNTERLAND
SUMMARY:Schwimmkurs für Anfänger*innen  für Kinder ab 5 Jahren (252BR30290) 
LOCATION:br Grundschule Obergimpern, Lehrschwimmbecken, Am Dreschplatz 1-3, 74906 Bad Rappenenau
END:VEVENT
BEGIN:VEVENT
DTSTAMP:20260424T223351
DTSTART;TZID=Europe/Berlin:20250918T153000
DTEND;TZID=Europe/Berlin:20250918T163000
UID:252BR30290-20250918T153000@VHSUNTERLAND
SUMMARY:Schwimmkurs für Anfänger*innen  für Kinder ab 5 Jahren (252BR30290) 
LOCATION:br Grundschule Obergimpern, Lehrschwimmbecken, Am Dreschplatz 1-3, 74906 Bad Rappenenau
END:VEVENT
BEGIN:VEVENT
DTSTAMP:20260424T223351
DTSTART;TZID=Europe/Berlin:20250923T153000
DTEND;TZID=Europe/Berlin:20250923T163000
UID:252BR30290-20250923T153000@VHSUNTERLAND
SUMMARY:Schwimmkurs für Anfänger*innen  für Kinder ab 5 Jahren (252BR30290) 
LOCATION:br Grundschule Obergimpern, Lehrschwimmbecken, Am Dreschplatz 1-3, 74906 Bad Rappenenau
END:VEVENT
BEGIN:VEVENT
DTSTAMP:20260424T223351
DTSTART;TZID=Europe/Berlin:20250925T153000
DTEND;TZID=Europe/Berlin:20250925T163000
UID:252BR30290-20250925T153000@VHSUNTERLAND
SUMMARY:Schwimmkurs für Anfänger*innen  für Kinder ab 5 Jahren (252BR30290) 
LOCATION:br Grundschule Obergimpern, Lehrschwimmbecken, Am Dreschplatz 1-3, 74906 Bad Rappenenau
END:VEVENT
BEGIN:VEVENT
DTSTAMP:20260424T223351
DTSTART;TZID=Europe/Berlin:20250930T153000
DTEND;TZID=Europe/Berlin:20250930T163000
UID:252BR30290-20250930T153000@VHSUNTERLAND
SUMMARY:Schwimmkurs für Anfänger*innen  für Kinder ab 5 Jahren (252BR30290) 
LOCATION:br Grundschule Obergimpern, Lehrschwimmbecken, Am Dreschplatz 1-3, 74906 Bad Rappenenau
END:VEVENT
BEGIN:VEVENT
DTSTAMP:20260424T223351
DTSTART;TZID=Europe/Berlin:20251002T153000
DTEND;TZID=Europe/Berlin:20251002T163000
UID:252BR30290-20251002T153000@VHSUNTERLAND
SUMMARY:Schwimmkurs für Anfänger*innen  für Kinder ab 5 Jahren (252BR30290) 
LOCATION:br Grundschule Obergimpern, Lehrschwimmbecken, Am Dreschplatz 1-3, 74906 Bad Rappenenau
END:VEVENT
BEGIN:VEVENT
DTSTAMP:20260424T223351
DTSTART;TZID=Europe/Berlin:20251007T153000
DTEND;TZID=Europe/Berlin:20251007T163000
UID:252BR30290-20251007T153000@VHSUNTERLAND
SUMMARY:Schwimmkurs für Anfänger*innen  für Kinder ab 5 Jahren (252BR30290) 
LOCATION:br Grundschule Obergimpern, Lehrschwimmbecken, Am Dreschplatz 1-3, 74906 Bad Rappenenau
END:VEVENT
BEGIN:VEVENT
DTSTAMP:20260424T223351
DTSTART;TZID=Europe/Berlin:20251009T153000
DTEND;TZID=Europe/Berlin:20251009T163000
UID:252BR30290-20251009T153000@VHSUNTERLAND
SUMMARY:Schwimmkurs für Anfänger*innen  für Kinder ab 5 Jahren (252BR30290) 
LOCATION:br Grundschule Obergimpern, Lehrschwimmbecken, Am Dreschplatz 1-3, 74906 Bad Rappenenau
END:VEVENT
BEGIN:VEVENT
DTSTAMP:20260424T223351
DTSTART;TZID=Europe/Berlin:20251014T153000
DTEND;TZID=Europe/Berlin:20251014T163000
UID:252BR30290-20251014T153000@VHSUNTERLAND
SUMMARY:Schwimmkurs für Anfänger*innen  für Kinder ab 5 Jahren (252BR30290) 
LOCATION:br Grundschule Obergimpern, Lehrschwimmbecken, Am Dreschplatz 1-3, 74906 Bad Rappenenau
END:VEVENT
BEGIN:VEVENT
DTSTAMP:20260424T223351
DTSTART;TZID=Europe/Berlin:20251016T153000
DTEND;TZID=Europe/Berlin:20251016T163000
UID:252BR30290-20251016T153000@VHSUNTERLAND
SUMMARY:Schwimmkurs für Anfänger*innen  für Kinder ab 5 Jahren (252BR30290) 
LOCATION:br Grundschule Obergimpern, Lehrschwimmbecken, Am Dreschplatz 1-3, 74906 Bad Rappenenau
END:VEVENT
END:VCALENDAR