BEGIN:VCALENDAR
VERSION:2.0
PRODID:http://www.kufer.de/kuferweb / DE
METHOD:PUBLISH
CALSCALE:GREGORIAN
X-WR-TIMEZONE:Europe/Berlin
BEGIN:VTIMEZONE
TZID:Europe/Berlin
X-LIC-LOCATION:Europe/Berlin
BEGIN:DAYLIGHT
TZOFFSETFROM:+0100
TZOFFSETTO:+0200
TZNAME:CEST
DTSTART;TZID=Europe/Berlin:19700329T020000
RRULE:FREQ=YEARLY;INTERVAL=1;BYDAY=-1SU;BYMONTH=3
END:DAYLIGHT
BEGIN:STANDARD
TZOFFSETFROM:+0200
TZOFFSETTO:+0100
TZNAME:CET
DTSTART;TZID=Europe/Berlin:19701025T030000
RRULE:FREQ=YEARLY;INTERVAL=1;BYDAY=-1SU;BYMONTH=10
END:STANDARD
END:VTIMEZONE
BEGIN:VEVENT
DTSTAMP:20260423T200751
DTSTART;TZID=Europe/Berlin:20250929T090000
DTEND;TZID=Europe/Berlin:20250929T100000
UID:252BR30250-20250929T090000@VHSUNTERLAND
SUMMARY:Fitness Mix speziell für Bauch, Beine, Po (252BR30250) 
LOCATION:br Wasserschloss, Halle (2. OG), Hinter dem Schloss 1, 74906 Bad Rappenau
END:VEVENT
BEGIN:VEVENT
DTSTAMP:20260423T200751
DTSTART;TZID=Europe/Berlin:20251006T090000
DTEND;TZID=Europe/Berlin:20251006T100000
UID:252BR30250-20251006T090000@VHSUNTERLAND
SUMMARY:Fitness Mix speziell für Bauch, Beine, Po (252BR30250) 
LOCATION:br Wasserschloss, Halle (2. OG), Hinter dem Schloss 1, 74906 Bad Rappenau
END:VEVENT
BEGIN:VEVENT
DTSTAMP:20260423T200751
DTSTART;TZID=Europe/Berlin:20251013T090000
DTEND;TZID=Europe/Berlin:20251013T100000
UID:252BR30250-20251013T090000@VHSUNTERLAND
SUMMARY:Fitness Mix speziell für Bauch, Beine, Po (252BR30250) 
LOCATION:br Wasserschloss, Halle (2. OG), Hinter dem Schloss 1, 74906 Bad Rappenau
END:VEVENT
BEGIN:VEVENT
DTSTAMP:20260423T200751
DTSTART;TZID=Europe/Berlin:20251020T090000
DTEND;TZID=Europe/Berlin:20251020T100000
UID:252BR30250-20251020T090000@VHSUNTERLAND
SUMMARY:Fitness Mix speziell für Bauch, Beine, Po (252BR30250) 
LOCATION:br Wasserschloss, Halle (2. OG), Hinter dem Schloss 1, 74906 Bad Rappenau
END:VEVENT
BEGIN:VEVENT
DTSTAMP:20260423T200751
DTSTART;TZID=Europe/Berlin:20251103T090000
DTEND;TZID=Europe/Berlin:20251103T100000
UID:252BR30250-20251103T090000@VHSUNTERLAND
SUMMARY:Fitness Mix speziell für Bauch, Beine, Po (252BR30250) 
LOCATION:br Wasserschloss, Halle (2. OG), Hinter dem Schloss 1, 74906 Bad Rappenau
END:VEVENT
BEGIN:VEVENT
DTSTAMP:20260423T200751
DTSTART;TZID=Europe/Berlin:20251110T090000
DTEND;TZID=Europe/Berlin:20251110T100000
UID:252BR30250-20251110T090000@VHSUNTERLAND
SUMMARY:Fitness Mix speziell für Bauch, Beine, Po (252BR30250) 
LOCATION:br Wasserschloss, Halle (2. OG), Hinter dem Schloss 1, 74906 Bad Rappenau
END:VEVENT
BEGIN:VEVENT
DTSTAMP:20260423T200751
DTSTART;TZID=Europe/Berlin:20251117T090000
DTEND;TZID=Europe/Berlin:20251117T100000
UID:252BR30250-20251117T090000@VHSUNTERLAND
SUMMARY:Fitness Mix speziell für Bauch, Beine, Po (252BR30250) 
LOCATION:br Wasserschloss, Halle (2. OG), Hinter dem Schloss 1, 74906 Bad Rappenau
END:VEVENT
BEGIN:VEVENT
DTSTAMP:20260423T200751
DTSTART;TZID=Europe/Berlin:20251124T090000
DTEND;TZID=Europe/Berlin:20251124T100000
UID:252BR30250-20251124T090000@VHSUNTERLAND
SUMMARY:Fitness Mix speziell für Bauch, Beine, Po (252BR30250) 
LOCATION:br Wasserschloss, Halle (2. OG), Hinter dem Schloss 1, 74906 Bad Rappenau
END:VEVENT
BEGIN:VEVENT
DTSTAMP:20260423T200751
DTSTART;TZID=Europe/Berlin:20260112T090000
DTEND;TZID=Europe/Berlin:20260112T100000
UID:252BR30250-20260112T090000@VHSUNTERLAND
SUMMARY:Fitness Mix speziell für Bauch, Beine, Po (252BR30250) 
LOCATION:br Wasserschloss, Halle (2. OG), Hinter dem Schloss 1, 74906 Bad Rappenau
END:VEVENT
BEGIN:VEVENT
DTSTAMP:20260423T200751
DTSTART;TZID=Europe/Berlin:20260119T090000
DTEND;TZID=Europe/Berlin:20260119T100000
UID:252BR30250-20260119T090000@VHSUNTERLAND
SUMMARY:Fitness Mix speziell für Bauch, Beine, Po (252BR30250) 
LOCATION:br Wasserschloss, Halle (2. OG), Hinter dem Schloss 1, 74906 Bad Rappenau
END:VEVENT
BEGIN:VEVENT
DTSTAMP:20260423T200751
DTSTART;TZID=Europe/Berlin:20260126T090000
DTEND;TZID=Europe/Berlin:20260126T100000
UID:252BR30250-20260126T090000@VHSUNTERLAND
SUMMARY:Fitness Mix speziell für Bauch, Beine, Po (252BR30250) 
LOCATION:br Wasserschloss, Halle (2. OG), Hinter dem Schloss 1, 74906 Bad Rappenau
END:VEVENT
BEGIN:VEVENT
DTSTAMP:20260423T200751
DTSTART;TZID=Europe/Berlin:20260202T090000
DTEND;TZID=Europe/Berlin:20260202T100000
UID:252BR30250-20260202T090000@VHSUNTERLAND
SUMMARY:Fitness Mix speziell für Bauch, Beine, Po (252BR30250) 
LOCATION:br Wasserschloss, Halle (2. OG), Hinter dem Schloss 1, 74906 Bad Rappenau
END:VEVENT
BEGIN:VEVENT
DTSTAMP:20260423T200751
DTSTART;TZID=Europe/Berlin:20260209T090000
DTEND;TZID=Europe/Berlin:20260209T100000
UID:252BR30250-20260209T090000@VHSUNTERLAND
SUMMARY:Fitness Mix speziell für Bauch, Beine, Po (252BR30250) 
LOCATION:br Wasserschloss, Halle (2. OG), Hinter dem Schloss 1, 74906 Bad Rappenau
END:VEVENT
BEGIN:VEVENT
DTSTAMP:20260423T200751
DTSTART;TZID=Europe/Berlin:20260223T090000
DTEND;TZID=Europe/Berlin:20260223T100000
UID:252BR30250-20260223T090000@VHSUNTERLAND
SUMMARY:Fitness Mix speziell für Bauch, Beine, Po (252BR30250) 
LOCATION:br Wasserschloss, Halle (2. OG), Hinter dem Schloss 1, 74906 Bad Rappenau
END:VEVENT
END:VCALENDAR