BEGIN:VCALENDAR
VERSION:2.0
PRODID:http://www.kufer.de/kuferweb / DE
METHOD:PUBLISH
CALSCALE:GREGORIAN
X-WR-TIMEZONE:Europe/Berlin
BEGIN:VTIMEZONE
TZID:Europe/Berlin
X-LIC-LOCATION:Europe/Berlin
BEGIN:DAYLIGHT
TZOFFSETFROM:+0100
TZOFFSETTO:+0200
TZNAME:CEST
DTSTART;TZID=Europe/Berlin:19700329T020000
RRULE:FREQ=YEARLY;INTERVAL=1;BYDAY=-1SU;BYMONTH=3
END:DAYLIGHT
BEGIN:STANDARD
TZOFFSETFROM:+0200
TZOFFSETTO:+0100
TZNAME:CET
DTSTART;TZID=Europe/Berlin:19701025T030000
RRULE:FREQ=YEARLY;INTERVAL=1;BYDAY=-1SU;BYMONTH=10
END:STANDARD
END:VTIMEZONE
BEGIN:VEVENT
DTSTAMP:20260423T085641
DTSTART;TZID=Europe/Berlin:20251010T113500
DTEND;TZID=Europe/Berlin:20251010T123500
UID:252BR30204-20251010T113500@VHSUNTERLAND
SUMMARY:Orifit  Alternative Gesundheitsgymnastik 45+ (252BR30204) 
LOCATION:br Wasserschloss, Halle (2. OG), Hinter dem Schloss 1, 74906 Bad Rappenau
END:VEVENT
BEGIN:VEVENT
DTSTAMP:20260423T085641
DTSTART;TZID=Europe/Berlin:20251017T113500
DTEND;TZID=Europe/Berlin:20251017T123500
UID:252BR30204-20251017T113500@VHSUNTERLAND
SUMMARY:Orifit  Alternative Gesundheitsgymnastik 45+ (252BR30204) 
LOCATION:br Wasserschloss, Halle (2. OG), Hinter dem Schloss 1, 74906 Bad Rappenau
END:VEVENT
BEGIN:VEVENT
DTSTAMP:20260423T085641
DTSTART;TZID=Europe/Berlin:20251205T113500
DTEND;TZID=Europe/Berlin:20251205T123500
UID:252BR30204-20251205T113500@VHSUNTERLAND
SUMMARY:Orifit  Alternative Gesundheitsgymnastik 45+ (252BR30204) 
LOCATION:br Wasserschloss, Halle (2. OG), Hinter dem Schloss 1, 74906 Bad Rappenau
END:VEVENT
BEGIN:VEVENT
DTSTAMP:20260423T085641
DTSTART;TZID=Europe/Berlin:20251212T113500
DTEND;TZID=Europe/Berlin:20251212T123500
UID:252BR30204-20251212T113500@VHSUNTERLAND
SUMMARY:Orifit  Alternative Gesundheitsgymnastik 45+ (252BR30204) 
LOCATION:br Wasserschloss, Halle (2. OG), Hinter dem Schloss 1, 74906 Bad Rappenau
END:VEVENT
BEGIN:VEVENT
DTSTAMP:20260423T085641
DTSTART;TZID=Europe/Berlin:20251219T113500
DTEND;TZID=Europe/Berlin:20251219T123500
UID:252BR30204-20251219T113500@VHSUNTERLAND
SUMMARY:Orifit  Alternative Gesundheitsgymnastik 45+ (252BR30204) 
LOCATION:br Wasserschloss, Halle (2. OG), Hinter dem Schloss 1, 74906 Bad Rappenau
END:VEVENT
BEGIN:VEVENT
DTSTAMP:20260423T085641
DTSTART;TZID=Europe/Berlin:20260109T113500
DTEND;TZID=Europe/Berlin:20260109T123500
UID:252BR30204-20260109T113500@VHSUNTERLAND
SUMMARY:Orifit  Alternative Gesundheitsgymnastik 45+ (252BR30204) 
LOCATION:br Wasserschloss, Halle (2. OG), Hinter dem Schloss 1, 74906 Bad Rappenau
END:VEVENT
BEGIN:VEVENT
DTSTAMP:20260423T085641
DTSTART;TZID=Europe/Berlin:20260116T113500
DTEND;TZID=Europe/Berlin:20260116T123500
UID:252BR30204-20260116T113500@VHSUNTERLAND
SUMMARY:Orifit  Alternative Gesundheitsgymnastik 45+ (252BR30204) 
LOCATION:br Wasserschloss, Halle (2. OG), Hinter dem Schloss 1, 74906 Bad Rappenau
END:VEVENT
BEGIN:VEVENT
DTSTAMP:20260423T085641
DTSTART;TZID=Europe/Berlin:20260123T113500
DTEND;TZID=Europe/Berlin:20260123T123500
UID:252BR30204-20260123T113500@VHSUNTERLAND
SUMMARY:Orifit  Alternative Gesundheitsgymnastik 45+ (252BR30204) 
LOCATION:br Wasserschloss, Halle (2. OG), Hinter dem Schloss 1, 74906 Bad Rappenau
END:VEVENT
BEGIN:VEVENT
DTSTAMP:20260423T085641
DTSTART;TZID=Europe/Berlin:20260130T113500
DTEND;TZID=Europe/Berlin:20260130T123500
UID:252BR30204-20260130T113500@VHSUNTERLAND
SUMMARY:Orifit  Alternative Gesundheitsgymnastik 45+ (252BR30204) 
LOCATION:br Wasserschloss, Halle (2. OG), Hinter dem Schloss 1, 74906 Bad Rappenau
END:VEVENT
BEGIN:VEVENT
DTSTAMP:20260423T085641
DTSTART;TZID=Europe/Berlin:20260206T113500
DTEND;TZID=Europe/Berlin:20260206T123500
UID:252BR30204-20260206T113500@VHSUNTERLAND
SUMMARY:Orifit  Alternative Gesundheitsgymnastik 45+ (252BR30204) 
LOCATION:br Wasserschloss, Halle (2. OG), Hinter dem Schloss 1, 74906 Bad Rappenau
END:VEVENT
END:VCALENDAR