BEGIN:VCALENDAR
VERSION:2.0
PRODID:http://www.kufer.de/kuferweb / DE
METHOD:PUBLISH
CALSCALE:GREGORIAN
X-WR-TIMEZONE:Europe/Berlin
BEGIN:VTIMEZONE
TZID:Europe/Berlin
X-LIC-LOCATION:Europe/Berlin
BEGIN:DAYLIGHT
TZOFFSETFROM:+0100
TZOFFSETTO:+0200
TZNAME:CEST
DTSTART;TZID=Europe/Berlin:19700329T020000
RRULE:FREQ=YEARLY;INTERVAL=1;BYDAY=-1SU;BYMONTH=3
END:DAYLIGHT
BEGIN:STANDARD
TZOFFSETFROM:+0200
TZOFFSETTO:+0100
TZNAME:CET
DTSTART;TZID=Europe/Berlin:19701025T030000
RRULE:FREQ=YEARLY;INTERVAL=1;BYDAY=-1SU;BYMONTH=10
END:STANDARD
END:VTIMEZONE
BEGIN:VEVENT
DTSTAMP:20260424T093411
DTSTART;TZID=Europe/Berlin:20251010T150000
DTEND;TZID=Europe/Berlin:20251010T160000
UID:252BR30201-20251010T150000@VHSUNTERLAND
SUMMARY:Gesundheitsgymnastik mit Rückenschule (252BR30201) 
LOCATION:br Turnhalle Treschklingen, Amtshausstraße 8, 74906 Bad Rappenau
END:VEVENT
BEGIN:VEVENT
DTSTAMP:20260424T093411
DTSTART;TZID=Europe/Berlin:20251017T150000
DTEND;TZID=Europe/Berlin:20251017T160000
UID:252BR30201-20251017T150000@VHSUNTERLAND
SUMMARY:Gesundheitsgymnastik mit Rückenschule (252BR30201) 
LOCATION:br Turnhalle Treschklingen, Amtshausstraße 8, 74906 Bad Rappenau
END:VEVENT
BEGIN:VEVENT
DTSTAMP:20260424T093411
DTSTART;TZID=Europe/Berlin:20251024T150000
DTEND;TZID=Europe/Berlin:20251024T160000
UID:252BR30201-20251024T150000@VHSUNTERLAND
SUMMARY:Gesundheitsgymnastik mit Rückenschule (252BR30201) 
LOCATION:br Turnhalle Treschklingen, Amtshausstraße 8, 74906 Bad Rappenau
END:VEVENT
BEGIN:VEVENT
DTSTAMP:20260424T093411
DTSTART;TZID=Europe/Berlin:20251107T150000
DTEND;TZID=Europe/Berlin:20251107T160000
UID:252BR30201-20251107T150000@VHSUNTERLAND
SUMMARY:Gesundheitsgymnastik mit Rückenschule (252BR30201) 
LOCATION:br Turnhalle Treschklingen, Amtshausstraße 8, 74906 Bad Rappenau
END:VEVENT
BEGIN:VEVENT
DTSTAMP:20260424T093411
DTSTART;TZID=Europe/Berlin:20251114T150000
DTEND;TZID=Europe/Berlin:20251114T160000
UID:252BR30201-20251114T150000@VHSUNTERLAND
SUMMARY:Gesundheitsgymnastik mit Rückenschule (252BR30201) 
LOCATION:br Turnhalle Treschklingen, Amtshausstraße 8, 74906 Bad Rappenau
END:VEVENT
BEGIN:VEVENT
DTSTAMP:20260424T093411
DTSTART;TZID=Europe/Berlin:20251121T150000
DTEND;TZID=Europe/Berlin:20251121T160000
UID:252BR30201-20251121T150000@VHSUNTERLAND
SUMMARY:Gesundheitsgymnastik mit Rückenschule (252BR30201) 
LOCATION:br Turnhalle Treschklingen, Amtshausstraße 8, 74906 Bad Rappenau
END:VEVENT
BEGIN:VEVENT
DTSTAMP:20260424T093411
DTSTART;TZID=Europe/Berlin:20251128T150000
DTEND;TZID=Europe/Berlin:20251128T160000
UID:252BR30201-20251128T150000@VHSUNTERLAND
SUMMARY:Gesundheitsgymnastik mit Rückenschule (252BR30201) 
LOCATION:br Turnhalle Treschklingen, Amtshausstraße 8, 74906 Bad Rappenau
END:VEVENT
BEGIN:VEVENT
DTSTAMP:20260424T093411
DTSTART;TZID=Europe/Berlin:20251205T150000
DTEND;TZID=Europe/Berlin:20251205T160000
UID:252BR30201-20251205T150000@VHSUNTERLAND
SUMMARY:Gesundheitsgymnastik mit Rückenschule (252BR30201) 
LOCATION:br Turnhalle Treschklingen, Amtshausstraße 8, 74906 Bad Rappenau
END:VEVENT
BEGIN:VEVENT
DTSTAMP:20260424T093411
DTSTART;TZID=Europe/Berlin:20251212T150000
DTEND;TZID=Europe/Berlin:20251212T160000
UID:252BR30201-20251212T150000@VHSUNTERLAND
SUMMARY:Gesundheitsgymnastik mit Rückenschule (252BR30201) 
LOCATION:br Turnhalle Treschklingen, Amtshausstraße 8, 74906 Bad Rappenau
END:VEVENT
BEGIN:VEVENT
DTSTAMP:20260424T093411
DTSTART;TZID=Europe/Berlin:20251219T150000
DTEND;TZID=Europe/Berlin:20251219T160000
UID:252BR30201-20251219T150000@VHSUNTERLAND
DESCRIPTION:Ersatz für Ausfall am 26.09.2025
SUMMARY:Gesundheitsgymnastik mit Rückenschule (252BR30201) 
LOCATION:br Turnhalle Treschklingen, Amtshausstraße 8, 74906 Bad Rappenau
END:VEVENT
END:VCALENDAR