BEGIN:VCALENDAR
VERSION:2.0
PRODID:http://www.kufer.de/kuferweb / DE
METHOD:PUBLISH
CALSCALE:GREGORIAN
X-WR-TIMEZONE:Europe/Berlin
BEGIN:VTIMEZONE
TZID:Europe/Berlin
X-LIC-LOCATION:Europe/Berlin
BEGIN:DAYLIGHT
TZOFFSETFROM:+0100
TZOFFSETTO:+0200
TZNAME:CEST
DTSTART;TZID=Europe/Berlin:19700329T020000
RRULE:FREQ=YEARLY;INTERVAL=1;BYDAY=-1SU;BYMONTH=3
END:DAYLIGHT
BEGIN:STANDARD
TZOFFSETFROM:+0200
TZOFFSETTO:+0100
TZNAME:CET
DTSTART;TZID=Europe/Berlin:19701025T030000
RRULE:FREQ=YEARLY;INTERVAL=1;BYDAY=-1SU;BYMONTH=10
END:STANDARD
END:VTIMEZONE
BEGIN:VEVENT
DTSTAMP:20260422T021337
DTSTART;TZID=Europe/Berlin:20260109T174500
DTEND;TZID=Europe/Berlin:20260109T191500
UID:252BR30144-20260109T174500@VHSUNTERLAND
SUMMARY:Kundalini Yoga (252BR30144) 
LOCATION:br Wasserschloss, Halle (2. OG), Hinter dem Schloss 1, 74906 Bad Rappenau
END:VEVENT
BEGIN:VEVENT
DTSTAMP:20260422T021337
DTSTART;TZID=Europe/Berlin:20260116T174500
DTEND;TZID=Europe/Berlin:20260116T191500
UID:252BR30144-20260116T174500@VHSUNTERLAND
SUMMARY:Kundalini Yoga (252BR30144) 
LOCATION:br Wasserschloss, Halle (2. OG), Hinter dem Schloss 1, 74906 Bad Rappenau
END:VEVENT
BEGIN:VEVENT
DTSTAMP:20260422T021337
DTSTART;TZID=Europe/Berlin:20260123T174500
DTEND;TZID=Europe/Berlin:20260123T191500
UID:252BR30144-20260123T174500@VHSUNTERLAND
SUMMARY:Kundalini Yoga (252BR30144) 
LOCATION:br Wasserschloss, Halle (2. OG), Hinter dem Schloss 1, 74906 Bad Rappenau
END:VEVENT
BEGIN:VEVENT
DTSTAMP:20260422T021337
DTSTART;TZID=Europe/Berlin:20260130T174500
DTEND;TZID=Europe/Berlin:20260130T191500
UID:252BR30144-20260130T174500@VHSUNTERLAND
SUMMARY:Kundalini Yoga (252BR30144) 
LOCATION:br Wasserschloss, Halle (2. OG), Hinter dem Schloss 1, 74906 Bad Rappenau
END:VEVENT
BEGIN:VEVENT
DTSTAMP:20260422T021337
DTSTART;TZID=Europe/Berlin:20260206T174500
DTEND;TZID=Europe/Berlin:20260206T191500
UID:252BR30144-20260206T174500@VHSUNTERLAND
SUMMARY:Kundalini Yoga (252BR30144) 
LOCATION:br Wasserschloss, Halle (2. OG), Hinter dem Schloss 1, 74906 Bad Rappenau
END:VEVENT
BEGIN:VEVENT
DTSTAMP:20260422T021337
DTSTART;TZID=Europe/Berlin:20260213T174500
DTEND;TZID=Europe/Berlin:20260213T191500
UID:252BR30144-20260213T174500@VHSUNTERLAND
SUMMARY:Kundalini Yoga (252BR30144) 
LOCATION:br Wasserschloss, Halle (2. OG), Hinter dem Schloss 1, 74906 Bad Rappenau
END:VEVENT
END:VCALENDAR