BEGIN:VCALENDAR
VERSION:2.0
PRODID:http://www.kufer.de/kuferweb / DE
METHOD:PUBLISH
CALSCALE:GREGORIAN
X-WR-TIMEZONE:Europe/Berlin
BEGIN:VTIMEZONE
TZID:Europe/Berlin
X-LIC-LOCATION:Europe/Berlin
BEGIN:DAYLIGHT
TZOFFSETFROM:+0100
TZOFFSETTO:+0200
TZNAME:CEST
DTSTART;TZID=Europe/Berlin:19700329T020000
RRULE:FREQ=YEARLY;INTERVAL=1;BYDAY=-1SU;BYMONTH=3
END:DAYLIGHT
BEGIN:STANDARD
TZOFFSETFROM:+0200
TZOFFSETTO:+0100
TZNAME:CET
DTSTART;TZID=Europe/Berlin:19701025T030000
RRULE:FREQ=YEARLY;INTERVAL=1;BYDAY=-1SU;BYMONTH=10
END:STANDARD
END:VTIMEZONE
BEGIN:VEVENT
DTSTAMP:20260421T082844
DTSTART;TZID=Europe/Berlin:20260126T191500
DTEND;TZID=Europe/Berlin:20260126T201500
UID:252BR30115-20260126T191500@VHSUNTERLAND
SUMMARY:Pilates für Fortgeschrittene (252BR30115) 
LOCATION:br Bürgerhaus, OG, Babstadter Straße 35, 74906 Bad Rappenau
END:VEVENT
BEGIN:VEVENT
DTSTAMP:20260421T082844
DTSTART;TZID=Europe/Berlin:20260209T191500
DTEND;TZID=Europe/Berlin:20260209T201500
UID:252BR30115-20260209T191500@VHSUNTERLAND
SUMMARY:Pilates für Fortgeschrittene (252BR30115) 
LOCATION:br Bürgerhaus, OG, Babstadter Straße 35, 74906 Bad Rappenau
END:VEVENT
BEGIN:VEVENT
DTSTAMP:20260421T082844
DTSTART;TZID=Europe/Berlin:20260223T191500
DTEND;TZID=Europe/Berlin:20260223T201500
UID:252BR30115-20260223T191500@VHSUNTERLAND
SUMMARY:Pilates für Fortgeschrittene (252BR30115) 
LOCATION:br Bürgerhaus, OG, Babstadter Straße 35, 74906 Bad Rappenau
END:VEVENT
END:VCALENDAR