BEGIN:VCALENDAR
VERSION:2.0
PRODID:http://www.kufer.de/kuferweb / DE
METHOD:PUBLISH
CALSCALE:GREGORIAN
X-WR-TIMEZONE:Europe/Berlin
BEGIN:VTIMEZONE
TZID:Europe/Berlin
X-LIC-LOCATION:Europe/Berlin
BEGIN:DAYLIGHT
TZOFFSETFROM:+0100
TZOFFSETTO:+0200
TZNAME:CEST
DTSTART;TZID=Europe/Berlin:19700329T020000
RRULE:FREQ=YEARLY;INTERVAL=1;BYDAY=-1SU;BYMONTH=3
END:DAYLIGHT
BEGIN:STANDARD
TZOFFSETFROM:+0200
TZOFFSETTO:+0100
TZNAME:CET
DTSTART;TZID=Europe/Berlin:19701025T030000
RRULE:FREQ=YEARLY;INTERVAL=1;BYDAY=-1SU;BYMONTH=10
END:STANDARD
END:VTIMEZONE
BEGIN:VEVENT
DTSTAMP:20260421T141011
DTSTART;TZID=Europe/Berlin:20251014T193000
DTEND;TZID=Europe/Berlin:20251014T210000
UID:252BH40911-20251014T193000@VHSUNTERLAND
SUMMARY:Italienisch A1.2   für Anfänger*innen mit Vorkenntnissen (252BH40911) 
LOCATION:bh Zabergäu-Gymnasium, Neubau, N 12, Hirnerweg 15, 74336 Brackenheim
END:VEVENT
BEGIN:VEVENT
DTSTAMP:20260421T141011
DTSTART;TZID=Europe/Berlin:20251021T193000
DTEND;TZID=Europe/Berlin:20251021T210000
UID:252BH40911-20251021T193000@VHSUNTERLAND
SUMMARY:Italienisch A1.2   für Anfänger*innen mit Vorkenntnissen (252BH40911) 
LOCATION:bh Zabergäu-Gymnasium, Neubau, N 12, Hirnerweg 15, 74336 Brackenheim
END:VEVENT
BEGIN:VEVENT
DTSTAMP:20260421T141011
DTSTART;TZID=Europe/Berlin:20251104T193000
DTEND;TZID=Europe/Berlin:20251104T210000
UID:252BH40911-20251104T193000@VHSUNTERLAND
SUMMARY:Italienisch A1.2   für Anfänger*innen mit Vorkenntnissen (252BH40911) 
LOCATION:bh Zabergäu-Gymnasium, Neubau, N 12, Hirnerweg 15, 74336 Brackenheim
END:VEVENT
BEGIN:VEVENT
DTSTAMP:20260421T141011
DTSTART;TZID=Europe/Berlin:20251111T193000
DTEND;TZID=Europe/Berlin:20251111T210000
UID:252BH40911-20251111T193000@VHSUNTERLAND
SUMMARY:Italienisch A1.2   für Anfänger*innen mit Vorkenntnissen (252BH40911) 
LOCATION:bh Zabergäu-Gymnasium, Neubau, N 12, Hirnerweg 15, 74336 Brackenheim
END:VEVENT
BEGIN:VEVENT
DTSTAMP:20260421T141011
DTSTART;TZID=Europe/Berlin:20251118T193000
DTEND;TZID=Europe/Berlin:20251118T210000
UID:252BH40911-20251118T193000@VHSUNTERLAND
SUMMARY:Italienisch A1.2   für Anfänger*innen mit Vorkenntnissen (252BH40911) 
LOCATION:bh Zabergäu-Gymnasium, Neubau, N 12, Hirnerweg 15, 74336 Brackenheim
END:VEVENT
BEGIN:VEVENT
DTSTAMP:20260421T141011
DTSTART;TZID=Europe/Berlin:20251125T193000
DTEND;TZID=Europe/Berlin:20251125T210000
UID:252BH40911-20251125T193000@VHSUNTERLAND
DESCRIPTION:Ersatz für Ausfall am 07.10.2025
SUMMARY:Italienisch A1.2   für Anfänger*innen mit Vorkenntnissen (252BH40911) 
LOCATION:bh Zabergäu-Gymnasium, Neubau, N 12, Hirnerweg 15, 74336 Brackenheim
END:VEVENT
END:VCALENDAR