BEGIN:VCALENDAR
VERSION:2.0
PRODID:http://www.kufer.de/kuferweb / DE
METHOD:PUBLISH
CALSCALE:GREGORIAN
X-WR-TIMEZONE:Europe/Berlin
BEGIN:VTIMEZONE
TZID:Europe/Berlin
X-LIC-LOCATION:Europe/Berlin
BEGIN:DAYLIGHT
TZOFFSETFROM:+0100
TZOFFSETTO:+0200
TZNAME:CEST
DTSTART;TZID=Europe/Berlin:19700329T020000
RRULE:FREQ=YEARLY;INTERVAL=1;BYDAY=-1SU;BYMONTH=3
END:DAYLIGHT
BEGIN:STANDARD
TZOFFSETFROM:+0200
TZOFFSETTO:+0100
TZNAME:CET
DTSTART;TZID=Europe/Berlin:19701025T030000
RRULE:FREQ=YEARLY;INTERVAL=1;BYDAY=-1SU;BYMONTH=10
END:STANDARD
END:VTIMEZONE
BEGIN:VEVENT
DTSTAMP:20260422T202825
DTSTART;TZID=Europe/Berlin:20260228T140000
DTEND;TZID=Europe/Berlin:20260228T144500
UID:252BH30294-20260228T140000@VHSUNTERLAND
SUMMARY:Schwimmkurs für Anfänger*innen (252BH30294) 
LOCATION:bh Lehrschwimmbad, Hirnerweg 21, 74336 Brackenheim
END:VEVENT
BEGIN:VEVENT
DTSTAMP:20260422T202825
DTSTART;TZID=Europe/Berlin:20260307T140000
DTEND;TZID=Europe/Berlin:20260307T144500
UID:252BH30294-20260307T140000@VHSUNTERLAND
SUMMARY:Schwimmkurs für Anfänger*innen (252BH30294) 
LOCATION:bh Lehrschwimmbad, Hirnerweg 21, 74336 Brackenheim
END:VEVENT
BEGIN:VEVENT
DTSTAMP:20260422T202825
DTSTART;TZID=Europe/Berlin:20260314T140000
DTEND;TZID=Europe/Berlin:20260314T144500
UID:252BH30294-20260314T140000@VHSUNTERLAND
SUMMARY:Schwimmkurs für Anfänger*innen (252BH30294) 
LOCATION:bh Lehrschwimmbad, Hirnerweg 21, 74336 Brackenheim
END:VEVENT
BEGIN:VEVENT
DTSTAMP:20260422T202825
DTSTART;TZID=Europe/Berlin:20260321T140000
DTEND;TZID=Europe/Berlin:20260321T144500
UID:252BH30294-20260321T140000@VHSUNTERLAND
SUMMARY:Schwimmkurs für Anfänger*innen (252BH30294) 
LOCATION:bh Lehrschwimmbad, Hirnerweg 21, 74336 Brackenheim
END:VEVENT
BEGIN:VEVENT
DTSTAMP:20260422T202825
DTSTART;TZID=Europe/Berlin:20260328T140000
DTEND;TZID=Europe/Berlin:20260328T144500
UID:252BH30294-20260328T140000@VHSUNTERLAND
SUMMARY:Schwimmkurs für Anfänger*innen (252BH30294) 
LOCATION:bh Lehrschwimmbad, Hirnerweg 21, 74336 Brackenheim
END:VEVENT
BEGIN:VEVENT
DTSTAMP:20260422T202825
DTSTART;TZID=Europe/Berlin:20260413T173000
DTEND;TZID=Europe/Berlin:20260413T181500
UID:252BH30294-20260413T173000@VHSUNTERLAND
SUMMARY:Schwimmkurs für Anfänger*innen (252BH30294) 
LOCATION:bh Lehrschwimmbad, Hirnerweg 21, 74336 Brackenheim
END:VEVENT
BEGIN:VEVENT
DTSTAMP:20260422T202825
DTSTART;TZID=Europe/Berlin:20260418T140000
DTEND;TZID=Europe/Berlin:20260418T144500
UID:252BH30294-20260418T140000@VHSUNTERLAND
SUMMARY:Schwimmkurs für Anfänger*innen (252BH30294) 
LOCATION:bh Lehrschwimmbad, Hirnerweg 21, 74336 Brackenheim
END:VEVENT
BEGIN:VEVENT
DTSTAMP:20260422T202825
DTSTART;TZID=Europe/Berlin:20260420T173000
DTEND;TZID=Europe/Berlin:20260420T181500
UID:252BH30294-20260420T173000@VHSUNTERLAND
SUMMARY:Schwimmkurs für Anfänger*innen (252BH30294) 
LOCATION:bh Lehrschwimmbad, Hirnerweg 21, 74336 Brackenheim
END:VEVENT
BEGIN:VEVENT
DTSTAMP:20260422T202825
DTSTART;TZID=Europe/Berlin:20260425T140000
DTEND;TZID=Europe/Berlin:20260425T144500
UID:252BH30294-20260425T140000@VHSUNTERLAND
SUMMARY:Schwimmkurs für Anfänger*innen (252BH30294) 
LOCATION:bh Lehrschwimmbad, Hirnerweg 21, 74336 Brackenheim
END:VEVENT
BEGIN:VEVENT
DTSTAMP:20260422T202825
DTSTART;TZID=Europe/Berlin:20260427T173000
DTEND;TZID=Europe/Berlin:20260427T181500
UID:252BH30294-20260427T173000@VHSUNTERLAND
SUMMARY:Schwimmkurs für Anfänger*innen (252BH30294) 
LOCATION:bh Lehrschwimmbad, Hirnerweg 21, 74336 Brackenheim
END:VEVENT
END:VCALENDAR