BEGIN:VCALENDAR
VERSION:2.0
PRODID:http://www.kufer.de/kuferweb / DE
METHOD:PUBLISH
CALSCALE:GREGORIAN
X-WR-TIMEZONE:Europe/Berlin
BEGIN:VTIMEZONE
TZID:Europe/Berlin
X-LIC-LOCATION:Europe/Berlin
BEGIN:DAYLIGHT
TZOFFSETFROM:+0100
TZOFFSETTO:+0200
TZNAME:CEST
DTSTART;TZID=Europe/Berlin:19700329T020000
RRULE:FREQ=YEARLY;INTERVAL=1;BYDAY=-1SU;BYMONTH=3
END:DAYLIGHT
BEGIN:STANDARD
TZOFFSETFROM:+0200
TZOFFSETTO:+0100
TZNAME:CET
DTSTART;TZID=Europe/Berlin:19701025T030000
RRULE:FREQ=YEARLY;INTERVAL=1;BYDAY=-1SU;BYMONTH=10
END:STANDARD
END:VTIMEZONE
BEGIN:VEVENT
DTSTAMP:20260421T204336
DTSTART;TZID=Europe/Berlin:20250922T174500
DTEND;TZID=Europe/Berlin:20250922T184500
UID:252BH30250-20250922T174500@VHSUNTERLAND
SUMMARY:Bodyforming (252BH30250) 
LOCATION:bh Alte Kelter Meimsheim, Löwengasse 14, 74336 Brackenheim
END:VEVENT
BEGIN:VEVENT
DTSTAMP:20260421T204336
DTSTART;TZID=Europe/Berlin:20250929T174500
DTEND;TZID=Europe/Berlin:20250929T184500
UID:252BH30250-20250929T174500@VHSUNTERLAND
SUMMARY:Bodyforming (252BH30250) 
LOCATION:bh Alte Kelter Meimsheim, Löwengasse 14, 74336 Brackenheim
END:VEVENT
BEGIN:VEVENT
DTSTAMP:20260421T204336
DTSTART;TZID=Europe/Berlin:20251006T174500
DTEND;TZID=Europe/Berlin:20251006T184500
UID:252BH30250-20251006T174500@VHSUNTERLAND
SUMMARY:Bodyforming (252BH30250) 
LOCATION:bh Alte Kelter Meimsheim, Löwengasse 14, 74336 Brackenheim
END:VEVENT
BEGIN:VEVENT
DTSTAMP:20260421T204336
DTSTART;TZID=Europe/Berlin:20251013T174500
DTEND;TZID=Europe/Berlin:20251013T184500
UID:252BH30250-20251013T174500@VHSUNTERLAND
SUMMARY:Bodyforming (252BH30250) 
LOCATION:bh Alte Kelter Meimsheim, Löwengasse 14, 74336 Brackenheim
END:VEVENT
BEGIN:VEVENT
DTSTAMP:20260421T204336
DTSTART;TZID=Europe/Berlin:20251020T174500
DTEND;TZID=Europe/Berlin:20251020T184500
UID:252BH30250-20251020T174500@VHSUNTERLAND
SUMMARY:Bodyforming (252BH30250) 
LOCATION:bh Alte Kelter Meimsheim, Löwengasse 14, 74336 Brackenheim
END:VEVENT
BEGIN:VEVENT
DTSTAMP:20260421T204336
DTSTART;TZID=Europe/Berlin:20251027T174500
DTEND;TZID=Europe/Berlin:20251027T184500
UID:252BH30250-20251027T174500@VHSUNTERLAND
SUMMARY:Bodyforming (252BH30250) 
LOCATION:bh Alte Kelter Meimsheim, Löwengasse 14, 74336 Brackenheim
END:VEVENT
BEGIN:VEVENT
DTSTAMP:20260421T204336
DTSTART;TZID=Europe/Berlin:20251103T174500
DTEND;TZID=Europe/Berlin:20251103T184500
UID:252BH30250-20251103T174500@VHSUNTERLAND
SUMMARY:Bodyforming (252BH30250) 
LOCATION:bh Alte Kelter Meimsheim, Löwengasse 14, 74336 Brackenheim
END:VEVENT
BEGIN:VEVENT
DTSTAMP:20260421T204336
DTSTART;TZID=Europe/Berlin:20251110T174500
DTEND;TZID=Europe/Berlin:20251110T184500
UID:252BH30250-20251110T174500@VHSUNTERLAND
SUMMARY:Bodyforming (252BH30250) 
LOCATION:bh Alte Kelter Meimsheim, Löwengasse 14, 74336 Brackenheim
END:VEVENT
BEGIN:VEVENT
DTSTAMP:20260421T204336
DTSTART;TZID=Europe/Berlin:20251117T174500
DTEND;TZID=Europe/Berlin:20251117T184500
UID:252BH30250-20251117T174500@VHSUNTERLAND
SUMMARY:Bodyforming (252BH30250) 
LOCATION:bh Alte Kelter Meimsheim, Löwengasse 14, 74336 Brackenheim
END:VEVENT
BEGIN:VEVENT
DTSTAMP:20260421T204336
DTSTART;TZID=Europe/Berlin:20251124T174500
DTEND;TZID=Europe/Berlin:20251124T184500
UID:252BH30250-20251124T174500@VHSUNTERLAND
SUMMARY:Bodyforming (252BH30250) 
LOCATION:bh Alte Kelter Meimsheim, Löwengasse 14, 74336 Brackenheim
END:VEVENT
BEGIN:VEVENT
DTSTAMP:20260421T204336
DTSTART;TZID=Europe/Berlin:20251201T174500
DTEND;TZID=Europe/Berlin:20251201T184500
UID:252BH30250-20251201T174500@VHSUNTERLAND
SUMMARY:Bodyforming (252BH30250) 
LOCATION:bh Alte Kelter Meimsheim, Löwengasse 14, 74336 Brackenheim
END:VEVENT
BEGIN:VEVENT
DTSTAMP:20260421T204336
DTSTART;TZID=Europe/Berlin:20251208T174500
DTEND;TZID=Europe/Berlin:20251208T184500
UID:252BH30250-20251208T174500@VHSUNTERLAND
SUMMARY:Bodyforming (252BH30250) 
LOCATION:bh Alte Kelter Meimsheim, Löwengasse 14, 74336 Brackenheim
END:VEVENT
BEGIN:VEVENT
DTSTAMP:20260421T204336
DTSTART;TZID=Europe/Berlin:20251215T174500
DTEND;TZID=Europe/Berlin:20251215T184500
UID:252BH30250-20251215T174500@VHSUNTERLAND
SUMMARY:Bodyforming (252BH30250) 
LOCATION:bh Alte Kelter Meimsheim, Löwengasse 14, 74336 Brackenheim
END:VEVENT
BEGIN:VEVENT
DTSTAMP:20260421T204336
DTSTART;TZID=Europe/Berlin:20260112T174500
DTEND;TZID=Europe/Berlin:20260112T184500
UID:252BH30250-20260112T174500@VHSUNTERLAND
SUMMARY:Bodyforming (252BH30250) 
LOCATION:bh Alte Kelter Meimsheim, Löwengasse 14, 74336 Brackenheim
END:VEVENT
BEGIN:VEVENT
DTSTAMP:20260421T204336
DTSTART;TZID=Europe/Berlin:20260119T174500
DTEND;TZID=Europe/Berlin:20260119T184500
UID:252BH30250-20260119T174500@VHSUNTERLAND
SUMMARY:Bodyforming (252BH30250) 
LOCATION:bh Alte Kelter Meimsheim, Löwengasse 14, 74336 Brackenheim
END:VEVENT
BEGIN:VEVENT
DTSTAMP:20260421T204336
DTSTART;TZID=Europe/Berlin:20260126T174500
DTEND;TZID=Europe/Berlin:20260126T184500
UID:252BH30250-20260126T174500@VHSUNTERLAND
SUMMARY:Bodyforming (252BH30250) 
LOCATION:bh Alte Kelter Meimsheim, Löwengasse 14, 74336 Brackenheim
END:VEVENT
BEGIN:VEVENT
DTSTAMP:20260421T204336
DTSTART;TZID=Europe/Berlin:20260202T174500
DTEND;TZID=Europe/Berlin:20260202T184500
UID:252BH30250-20260202T174500@VHSUNTERLAND
SUMMARY:Bodyforming (252BH30250) 
LOCATION:bh Alte Kelter Meimsheim, Löwengasse 14, 74336 Brackenheim
END:VEVENT
END:VCALENDAR