BEGIN:VCALENDAR
VERSION:2.0
PRODID:http://www.kufer.de/kuferweb / DE
METHOD:PUBLISH
CALSCALE:GREGORIAN
X-WR-TIMEZONE:Europe/Berlin
BEGIN:VTIMEZONE
TZID:Europe/Berlin
X-LIC-LOCATION:Europe/Berlin
BEGIN:DAYLIGHT
TZOFFSETFROM:+0100
TZOFFSETTO:+0200
TZNAME:CEST
DTSTART;TZID=Europe/Berlin:19700329T020000
RRULE:FREQ=YEARLY;INTERVAL=1;BYDAY=-1SU;BYMONTH=3
END:DAYLIGHT
BEGIN:STANDARD
TZOFFSETFROM:+0200
TZOFFSETTO:+0100
TZNAME:CET
DTSTART;TZID=Europe/Berlin:19701025T030000
RRULE:FREQ=YEARLY;INTERVAL=1;BYDAY=-1SU;BYMONTH=10
END:STANDARD
END:VTIMEZONE
BEGIN:VEVENT
DTSTAMP:20260420T023048
DTSTART;TZID=Europe/Berlin:20251128T090000
DTEND;TZID=Europe/Berlin:20251128T094500
UID:252AB40692-20251128T090000@VHSUNTERLAND
SUMMARY:Spielerisch Englisch lernen für Kindergartenkinder ab 4 Jahren (252AB40692) 
LOCATION:ab Kita PanaMa, Im Überrück 2, 74232 Abstatt
END:VEVENT
BEGIN:VEVENT
DTSTAMP:20260420T023048
DTSTART;TZID=Europe/Berlin:20251212T090000
DTEND;TZID=Europe/Berlin:20251212T094500
UID:252AB40692-20251212T090000@VHSUNTERLAND
SUMMARY:Spielerisch Englisch lernen für Kindergartenkinder ab 4 Jahren (252AB40692) 
LOCATION:ab Kita PanaMa, Im Überrück 2, 74232 Abstatt
END:VEVENT
BEGIN:VEVENT
DTSTAMP:20260420T023048
DTSTART;TZID=Europe/Berlin:20251219T090000
DTEND;TZID=Europe/Berlin:20251219T094500
UID:252AB40692-20251219T090000@VHSUNTERLAND
SUMMARY:Spielerisch Englisch lernen für Kindergartenkinder ab 4 Jahren (252AB40692) 
LOCATION:ab Kita PanaMa, Im Überrück 2, 74232 Abstatt
END:VEVENT
BEGIN:VEVENT
DTSTAMP:20260420T023048
DTSTART;TZID=Europe/Berlin:20260109T090000
DTEND;TZID=Europe/Berlin:20260109T094500
UID:252AB40692-20260109T090000@VHSUNTERLAND
SUMMARY:Spielerisch Englisch lernen für Kindergartenkinder ab 4 Jahren (252AB40692) 
LOCATION:ab Kita PanaMa, Im Überrück 2, 74232 Abstatt
END:VEVENT
BEGIN:VEVENT
DTSTAMP:20260420T023048
DTSTART;TZID=Europe/Berlin:20260116T090000
DTEND;TZID=Europe/Berlin:20260116T094500
UID:252AB40692-20260116T090000@VHSUNTERLAND
SUMMARY:Spielerisch Englisch lernen für Kindergartenkinder ab 4 Jahren (252AB40692) 
LOCATION:ab Kita PanaMa, Im Überrück 2, 74232 Abstatt
END:VEVENT
BEGIN:VEVENT
DTSTAMP:20260420T023048
DTSTART;TZID=Europe/Berlin:20260123T090000
DTEND;TZID=Europe/Berlin:20260123T094500
UID:252AB40692-20260123T090000@VHSUNTERLAND
SUMMARY:Spielerisch Englisch lernen für Kindergartenkinder ab 4 Jahren (252AB40692) 
LOCATION:ab Kita PanaMa, Im Überrück 2, 74232 Abstatt
END:VEVENT
BEGIN:VEVENT
DTSTAMP:20260420T023048
DTSTART;TZID=Europe/Berlin:20260206T090000
DTEND;TZID=Europe/Berlin:20260206T094500
UID:252AB40692-20260206T090000@VHSUNTERLAND
SUMMARY:Spielerisch Englisch lernen für Kindergartenkinder ab 4 Jahren (252AB40692) 
LOCATION:ab Kita PanaMa, Im Überrück 2, 74232 Abstatt
END:VEVENT
BEGIN:VEVENT
DTSTAMP:20260420T023048
DTSTART;TZID=Europe/Berlin:20260213T090000
DTEND;TZID=Europe/Berlin:20260213T094500
UID:252AB40692-20260213T090000@VHSUNTERLAND
SUMMARY:Spielerisch Englisch lernen für Kindergartenkinder ab 4 Jahren (252AB40692) 
LOCATION:ab Kita PanaMa, Im Überrück 2, 74232 Abstatt
END:VEVENT
BEGIN:VEVENT
DTSTAMP:20260420T023048
DTSTART;TZID=Europe/Berlin:20260227T090000
DTEND;TZID=Europe/Berlin:20260227T094500
UID:252AB40692-20260227T090000@VHSUNTERLAND
DESCRIPTION:Ersatz für Ausfall am 05.12.2025
SUMMARY:Spielerisch Englisch lernen für Kindergartenkinder ab 4 Jahren (252AB40692) 
LOCATION:ab Kita PanaMa, Im Überrück 2, 74232 Abstatt
END:VEVENT
BEGIN:VEVENT
DTSTAMP:20260420T023048
DTSTART;TZID=Europe/Berlin:20260306T090000
DTEND;TZID=Europe/Berlin:20260306T094500
UID:252AB40692-20260306T090000@VHSUNTERLAND
DESCRIPTION:Ersatz für Ausfall am 30.01.2026
SUMMARY:Spielerisch Englisch lernen für Kindergartenkinder ab 4 Jahren (252AB40692) 
LOCATION:ab Kita PanaMa, Im Überrück 2, 74232 Abstatt
END:VEVENT
END:VCALENDAR