BEGIN:VCALENDAR
VERSION:2.0
PRODID:http://www.kufer.de/kuferweb / DE
METHOD:PUBLISH
CALSCALE:GREGORIAN
X-WR-TIMEZONE:Europe/Berlin
BEGIN:VTIMEZONE
TZID:Europe/Berlin
X-LIC-LOCATION:Europe/Berlin
BEGIN:DAYLIGHT
TZOFFSETFROM:+0100
TZOFFSETTO:+0200
TZNAME:CEST
DTSTART;TZID=Europe/Berlin:19700329T020000
RRULE:FREQ=YEARLY;INTERVAL=1;BYDAY=-1SU;BYMONTH=3
END:DAYLIGHT
BEGIN:STANDARD
TZOFFSETFROM:+0200
TZOFFSETTO:+0100
TZNAME:CET
DTSTART;TZID=Europe/Berlin:19701025T030000
RRULE:FREQ=YEARLY;INTERVAL=1;BYDAY=-1SU;BYMONTH=10
END:STANDARD
END:VTIMEZONE
BEGIN:VEVENT
DTSTAMP:20260419T232847
DTSTART;TZID=Europe/Berlin:20250924T192500
DTEND;TZID=Europe/Berlin:20250924T202500
UID:252AB30260-20250924T192500@VHSUNTERLAND
SUMMARY:Power Fitness-Mix (252AB30260) 
LOCATION:ab Vereinszentrum, Turnhalle, Goldschmiedstraße 14, 74232 Abstatt
END:VEVENT
BEGIN:VEVENT
DTSTAMP:20260419T232847
DTSTART;TZID=Europe/Berlin:20251001T192500
DTEND;TZID=Europe/Berlin:20251001T202500
UID:252AB30260-20251001T192500@VHSUNTERLAND
SUMMARY:Power Fitness-Mix (252AB30260) 
LOCATION:ab Vereinszentrum, Turnhalle, Goldschmiedstraße 14, 74232 Abstatt
END:VEVENT
BEGIN:VEVENT
DTSTAMP:20260419T232847
DTSTART;TZID=Europe/Berlin:20251008T192500
DTEND;TZID=Europe/Berlin:20251008T202500
UID:252AB30260-20251008T192500@VHSUNTERLAND
SUMMARY:Power Fitness-Mix (252AB30260) 
LOCATION:ab Vereinszentrum, Turnhalle, Goldschmiedstraße 14, 74232 Abstatt
END:VEVENT
BEGIN:VEVENT
DTSTAMP:20260419T232847
DTSTART;TZID=Europe/Berlin:20251015T192500
DTEND;TZID=Europe/Berlin:20251015T202500
UID:252AB30260-20251015T192500@VHSUNTERLAND
SUMMARY:Power Fitness-Mix (252AB30260) 
LOCATION:ab Vereinszentrum, Turnhalle, Goldschmiedstraße 14, 74232 Abstatt
END:VEVENT
BEGIN:VEVENT
DTSTAMP:20260419T232847
DTSTART;TZID=Europe/Berlin:20251022T192500
DTEND;TZID=Europe/Berlin:20251022T202500
UID:252AB30260-20251022T192500@VHSUNTERLAND
SUMMARY:Power Fitness-Mix (252AB30260) 
LOCATION:ab Vereinszentrum, Turnhalle, Goldschmiedstraße 14, 74232 Abstatt
END:VEVENT
BEGIN:VEVENT
DTSTAMP:20260419T232847
DTSTART;TZID=Europe/Berlin:20251105T192500
DTEND;TZID=Europe/Berlin:20251105T202500
UID:252AB30260-20251105T192500@VHSUNTERLAND
SUMMARY:Power Fitness-Mix (252AB30260) 
LOCATION:ab Vereinszentrum, Turnhalle, Goldschmiedstraße 14, 74232 Abstatt
END:VEVENT
BEGIN:VEVENT
DTSTAMP:20260419T232847
DTSTART;TZID=Europe/Berlin:20251112T192500
DTEND;TZID=Europe/Berlin:20251112T202500
UID:252AB30260-20251112T192500@VHSUNTERLAND
SUMMARY:Power Fitness-Mix (252AB30260) 
LOCATION:ab Vereinszentrum, Turnhalle, Goldschmiedstraße 14, 74232 Abstatt
END:VEVENT
BEGIN:VEVENT
DTSTAMP:20260419T232847
DTSTART;TZID=Europe/Berlin:20251119T192500
DTEND;TZID=Europe/Berlin:20251119T202500
UID:252AB30260-20251119T192500@VHSUNTERLAND
SUMMARY:Power Fitness-Mix (252AB30260) 
LOCATION:ab Vereinszentrum, Turnhalle, Goldschmiedstraße 14, 74232 Abstatt
END:VEVENT
BEGIN:VEVENT
DTSTAMP:20260419T232847
DTSTART;TZID=Europe/Berlin:20251126T192500
DTEND;TZID=Europe/Berlin:20251126T202500
UID:252AB30260-20251126T192500@VHSUNTERLAND
SUMMARY:Power Fitness-Mix (252AB30260) 
LOCATION:ab Vereinszentrum, Turnhalle, Goldschmiedstraße 14, 74232 Abstatt
END:VEVENT
BEGIN:VEVENT
DTSTAMP:20260419T232847
DTSTART;TZID=Europe/Berlin:20251203T192500
DTEND;TZID=Europe/Berlin:20251203T202500
UID:252AB30260-20251203T192500@VHSUNTERLAND
SUMMARY:Power Fitness-Mix (252AB30260) 
LOCATION:ab Vereinszentrum, Turnhalle, Goldschmiedstraße 14, 74232 Abstatt
END:VEVENT
BEGIN:VEVENT
DTSTAMP:20260419T232847
DTSTART;TZID=Europe/Berlin:20251210T192500
DTEND;TZID=Europe/Berlin:20251210T202500
UID:252AB30260-20251210T192500@VHSUNTERLAND
SUMMARY:Power Fitness-Mix (252AB30260) 
LOCATION:ab Vereinszentrum, Turnhalle, Goldschmiedstraße 14, 74232 Abstatt
END:VEVENT
BEGIN:VEVENT
DTSTAMP:20260419T232847
DTSTART;TZID=Europe/Berlin:20251217T192500
DTEND;TZID=Europe/Berlin:20251217T202500
UID:252AB30260-20251217T192500@VHSUNTERLAND
SUMMARY:Power Fitness-Mix (252AB30260) 
LOCATION:ab Vereinszentrum, Turnhalle, Goldschmiedstraße 14, 74232 Abstatt
END:VEVENT
BEGIN:VEVENT
DTSTAMP:20260419T232847
DTSTART;TZID=Europe/Berlin:20260114T192500
DTEND;TZID=Europe/Berlin:20260114T202500
UID:252AB30260-20260114T192500@VHSUNTERLAND
SUMMARY:Power Fitness-Mix (252AB30260) 
LOCATION:ab Vereinszentrum, Turnhalle, Goldschmiedstraße 14, 74232 Abstatt
END:VEVENT
BEGIN:VEVENT
DTSTAMP:20260419T232847
DTSTART;TZID=Europe/Berlin:20260121T192500
DTEND;TZID=Europe/Berlin:20260121T202500
UID:252AB30260-20260121T192500@VHSUNTERLAND
SUMMARY:Power Fitness-Mix (252AB30260) 
LOCATION:ab Vereinszentrum, Turnhalle, Goldschmiedstraße 14, 74232 Abstatt
END:VEVENT
BEGIN:VEVENT
DTSTAMP:20260419T232847
DTSTART;TZID=Europe/Berlin:20260128T192500
DTEND;TZID=Europe/Berlin:20260128T202500
UID:252AB30260-20260128T192500@VHSUNTERLAND
DESCRIPTION:Ersatz für Ausfall am 07.01.2026
SUMMARY:Power Fitness-Mix (252AB30260) 
LOCATION:ab Vereinszentrum, Turnhalle, Goldschmiedstraße 14, 74232 Abstatt
END:VEVENT
END:VCALENDAR