BEGIN:VCALENDAR
VERSION:2.0
PRODID:http://www.kufer.de/kuferweb / DE
METHOD:PUBLISH
CALSCALE:GREGORIAN
X-WR-TIMEZONE:Europe/Berlin
BEGIN:VTIMEZONE
TZID:Europe/Berlin
X-LIC-LOCATION:Europe/Berlin
BEGIN:DAYLIGHT
TZOFFSETFROM:+0100
TZOFFSETTO:+0200
TZNAME:CEST
DTSTART;TZID=Europe/Berlin:19700329T020000
RRULE:FREQ=YEARLY;INTERVAL=1;BYDAY=-1SU;BYMONTH=3
END:DAYLIGHT
BEGIN:STANDARD
TZOFFSETFROM:+0200
TZOFFSETTO:+0100
TZNAME:CET
DTSTART;TZID=Europe/Berlin:19701025T030000
RRULE:FREQ=YEARLY;INTERVAL=1;BYDAY=-1SU;BYMONTH=10
END:STANDARD
END:VTIMEZONE
BEGIN:VEVENT
DTSTAMP:20260419T145540
DTSTART;TZID=Europe/Berlin:20251007T183000
DTEND;TZID=Europe/Berlin:20251007T193000
UID:252AB30200-20251007T183000@VHSUNTERLAND
SUMMARY:Gesunder Rücken – Starkes Herz Ganzkörperfitness auch für Männer (252AB30200) 
LOCATION:ab Vereinszentrum, Versammlungsraum, Goldschmiedstraße 14, 74232 Abstatt
END:VEVENT
BEGIN:VEVENT
DTSTAMP:20260419T145540
DTSTART;TZID=Europe/Berlin:20251014T183000
DTEND;TZID=Europe/Berlin:20251014T193000
UID:252AB30200-20251014T183000@VHSUNTERLAND
SUMMARY:Gesunder Rücken – Starkes Herz Ganzkörperfitness auch für Männer (252AB30200) 
LOCATION:ab Vereinszentrum, Versammlungsraum, Goldschmiedstraße 14, 74232 Abstatt
END:VEVENT
BEGIN:VEVENT
DTSTAMP:20260419T145540
DTSTART;TZID=Europe/Berlin:20251021T183000
DTEND;TZID=Europe/Berlin:20251021T193000
UID:252AB30200-20251021T183000@VHSUNTERLAND
SUMMARY:Gesunder Rücken – Starkes Herz Ganzkörperfitness auch für Männer (252AB30200) 
LOCATION:ab Vereinszentrum, Versammlungsraum, Goldschmiedstraße 14, 74232 Abstatt
END:VEVENT
BEGIN:VEVENT
DTSTAMP:20260419T145540
DTSTART;TZID=Europe/Berlin:20251104T183000
DTEND;TZID=Europe/Berlin:20251104T193000
UID:252AB30200-20251104T183000@VHSUNTERLAND
SUMMARY:Gesunder Rücken – Starkes Herz Ganzkörperfitness auch für Männer (252AB30200) 
LOCATION:ab Vereinszentrum, Versammlungsraum, Goldschmiedstraße 14, 74232 Abstatt
END:VEVENT
BEGIN:VEVENT
DTSTAMP:20260419T145540
DTSTART;TZID=Europe/Berlin:20251111T183000
DTEND;TZID=Europe/Berlin:20251111T193000
UID:252AB30200-20251111T183000@VHSUNTERLAND
SUMMARY:Gesunder Rücken – Starkes Herz Ganzkörperfitness auch für Männer (252AB30200) 
LOCATION:ab Vereinszentrum, Versammlungsraum, Goldschmiedstraße 14, 74232 Abstatt
END:VEVENT
BEGIN:VEVENT
DTSTAMP:20260419T145540
DTSTART;TZID=Europe/Berlin:20251118T183000
DTEND;TZID=Europe/Berlin:20251118T193000
UID:252AB30200-20251118T183000@VHSUNTERLAND
SUMMARY:Gesunder Rücken – Starkes Herz Ganzkörperfitness auch für Männer (252AB30200) 
LOCATION:ab Vereinszentrum, Versammlungsraum, Goldschmiedstraße 14, 74232 Abstatt
END:VEVENT
BEGIN:VEVENT
DTSTAMP:20260419T145540
DTSTART;TZID=Europe/Berlin:20251125T183000
DTEND;TZID=Europe/Berlin:20251125T193000
UID:252AB30200-20251125T183000@VHSUNTERLAND
SUMMARY:Gesunder Rücken – Starkes Herz Ganzkörperfitness auch für Männer (252AB30200) 
LOCATION:ab Vereinszentrum, Versammlungsraum, Goldschmiedstraße 14, 74232 Abstatt
END:VEVENT
BEGIN:VEVENT
DTSTAMP:20260419T145540
DTSTART;TZID=Europe/Berlin:20251202T183000
DTEND;TZID=Europe/Berlin:20251202T193000
UID:252AB30200-20251202T183000@VHSUNTERLAND
SUMMARY:Gesunder Rücken – Starkes Herz Ganzkörperfitness auch für Männer (252AB30200) 
LOCATION:ab Vereinszentrum, Versammlungsraum, Goldschmiedstraße 14, 74232 Abstatt
END:VEVENT
BEGIN:VEVENT
DTSTAMP:20260419T145540
DTSTART;TZID=Europe/Berlin:20251209T183000
DTEND;TZID=Europe/Berlin:20251209T193000
UID:252AB30200-20251209T183000@VHSUNTERLAND
SUMMARY:Gesunder Rücken – Starkes Herz Ganzkörperfitness auch für Männer (252AB30200) 
LOCATION:ab Vereinszentrum, Versammlungsraum, Goldschmiedstraße 14, 74232 Abstatt
END:VEVENT
BEGIN:VEVENT
DTSTAMP:20260419T145540
DTSTART;TZID=Europe/Berlin:20251216T183000
DTEND;TZID=Europe/Berlin:20251216T193000
UID:252AB30200-20251216T183000@VHSUNTERLAND
SUMMARY:Gesunder Rücken – Starkes Herz Ganzkörperfitness auch für Männer (252AB30200) 
LOCATION:ab Vereinszentrum, Versammlungsraum, Goldschmiedstraße 14, 74232 Abstatt
END:VEVENT
END:VCALENDAR